PDS_VERSION_ID = PDS3
/* FILE DATA ELEMENTS */
RECORD_TYPE = STREAM
/* POINTERS TO DATA OBJECTS */
^COMPRESSED_FILE = "H8401_0000_S23.JP2"
/* IDENTIFICATION DATA ELEMENTS */
DATA_SET_ID = "MEX-M-HRSC-5-REFDR-MAPPROJECTED-V3.0"
DATA_SET_NAME = "MARS EXPRESS HRSC MAP PROJECTED REFDR V3.0"
DETECTOR_ID = MEX_HRSC_S2
EVENT_TYPE = "MARS-REGIONAL-MAPPING-Im-Fl"
INSTRUMENT_HOST_ID = MEX
INSTRUMENT_HOST_NAME = "MARS EXPRESS"
INSTRUMENT_ID = HRSC
INSTRUMENT_NAME = "HIGH RESOLUTION STEREO CAMERA"
MISSION_NAME = "MARS EXPRESS"
MISSION_PHASE_NAME = ME_Phase_21
PROCESSING_LEVEL_ID = 3
PRODUCT_CREATION_TIME = 2016-10-25T14:43:05.000Z
PRODUCT_ID = "H8401_0000_S23.JP2"
RELEASE_ID = 0091
REVISION_ID = 0000
/* QUALITY DATA ELEMENTS */
DATA_QUALITY_ID = 1
DATA_QUALITY_DESC = "Data calculated based on original SPICE kernels"
/* TIME DATA ELEMENTS */
SPACECRAFT_CLOCK_START_COUNT = "1/0228230414.09153"
SPACECRAFT_CLOCK_STOP_COUNT = "1/0228230658.48303"
START_TIME = 2010-07-26T13:20:16.681Z
STOP_TIME = 2010-07-26T13:22:42.168Z
/* ORBITAL DATA ELEMENTS */
ASCENDING_NODE_LONGITUDE = 56.85
MAXIMUM_RESOLUTION = 32
FOOTPRINT_POINT_LATITUDE = (-14.4305,-14.4318,-14.4328,-14.4327, -14.3524,-13.987,-13.8028,-13.6201, -13.432,-13.2397,-13.0549,-12.8711, -12.6877,-12.3304,-12.1455,-11.9622, -11.7786,-11.5929,-11.3166,-11.1332, -10.8588,-10.6733,-10.489,-10.3039, -10.1162,-9.9281,-9.64599,-9.45924, -9.27199,-8.98472,-8.79288,-8.60073, -8.40476,-8.11767,-7.92322,-7.72597, -7.53101,-7.3347,-7.04067,-6.73977, -6.53708,-6.33303,-6.135,-5.92976, -5.72227,-5.51627,-5.31236,-5.1077, -4.87455,-4.87276,-4.86793,-4.86297, -4.85924,-4.85588,-5.06606,-5.27477, -5.48076,-5.68696,-5.89392,-6.09911, -6.30011,-6.50019,-6.70243,-6.90333, -7.10258,-7.29847,-7.49474,-7.69156, -7.88851,-8.08566,-8.27816,-8.47085, -8.75987,-9.0485,-9.3342,-9.61611, -9.8042,-9.99307,-10.277,-10.464, -10.6489,-10.832,-11.0144,-11.1982, -11.3816,-11.5658,-11.8421,-12.0259, -12.3016,-12.5783,-12.763,-13.0406, -13.2253,-13.4099,-13.6868,-13.8691, -14.0521,-14.2358,-14.4194,-14.4305)
FOOTPRINT_POINT_LONGITUDE = (87.6576,87.445,87.0731,86.8606,86.5928 ,86.5882,86.5854,86.5829,86.5787, 86.5732,86.5698,86.5667,86.5637,86.5604 ,86.5567,86.5534,86.55,86.5458,86.5401, 86.5365,86.5312,86.5267,86.5226,86.5187 ,86.5148,86.5107,86.5044,86.5005, 86.4964,86.4898,86.4855,86.481,86.4753, 86.4686,86.4644,86.4593,86.4549,86.45, 86.4427,86.4351,86.4292,86.4229,86.4183 ,86.4122,86.4059,86.3999,86.3945, 86.3887,86.4754,86.868,87.197,87.5581, 87.8093,88.0037,88.0026,88.0006,87.9994 ,87.9982,87.9969,87.9957,87.9947, 87.9941,87.9928,87.992,87.9913,87.9907, 87.9899,87.989,87.9882,87.9873,87.9863, 87.9854,87.984,87.9828,87.9816,87.9804, 87.9795,87.9785,87.9768,87.9757,87.9745 ,87.9739,87.9734,87.9726,87.9719,87.971 ,87.9697,87.969,87.9679,87.9666,87.9657 ,87.9642,87.9633,87.9625,87.9612, 87.9611,87.9608,87.9603,87.9599, 87.6576)
ORBIT_NUMBER = 8401
ORBITAL_ECCENTRICITY = 0.58
ORBITAL_INCLINATION = 86.83
ORBITAL_SEMIMAJOR_AXIS = 8831.79
PERIAPSIS_ALTITUDE = 323.62
PERIAPSIS_ARGUMENT_ANGLE = 326.39
PERIAPSIS_TIME = 2010-07-26T13:15:57.000Z
SPACECRAFT_ORIENTATION = (0.0,1.0,0.0)
^MEX_ORIENTATION_DESC = "MEX_ORIENTATION_DESC.TXT"
SPACECRAFT_POINTING_MODE = NADIR
^MEX_POINTING_DESC = "MEX_POINTING_DESC.TXT"
RIGHT_ASCENSION = -1e+32
DECLINATION = -1e+32
OFFSET_ANGLE = -1e+32
SPACECRAFT_SOLAR_DISTANCE = 2.39499e+08
TARGET_NAME = MARS
/* CAMERA DATA ELEMENTS */
DETECTOR_TEMPERATURE = 18.1666
FOCAL_PLANE_TEMPERATURE = 7.5638
INST_CMPRS_NAME = "DISCRETE COSINE TRANSFORMATION (DCT)"
INST_CMPRS_RATIO = 8.32907
INST_CMPRS_QUALITY = 0
INST_CMPRS_QUANTZ_TBL_ID = 0
INSTRUMENT_TEMPERATURE = 10.8262
LENS_TEMPERATURE = 7.9716
MACROPIXEL_SIZE = 2
MISSING_FRAMES = 0
PIXEL_SUBSAMPLING_FLAG = N
SIGNAL_CHAIN_ID = 1
/* RADIOMETRIC DATA ELEMENTS */
BANDWIDTH = 178.0
CENTER_FILTER_WAVELENGTH = 679.0
RADIANCE_OFFSET = 0.788054
RADIANCE_SCALING_FACTOR = 0.0111062
REFLECTANCE_SCALING_FACTOR = 0.000337364
MEX:REFLECTANCE_OFFSET = 0.0239382
/* IMAGE OBJECT DEFINITIONS */
OBJECT = IMAGE
  INTERCHANGE_FORMAT = BINARY
  LINES = 22705
  LINE_SAMPLES = 4262
  SAMPLE_TYPE = UNSIGNED_INTEGER
  SAMPLE_BITS = 8
  BANDS = 1
  BAND_STORAGE_TYPE = BAND_SEQUENTIAL
  MAXIMUM = 255
  MEAN = 106.175
  MINIMUM = 1
  STANDARD_DEVIATION = 28.4586
END_OBJECT = IMAGE
/* MAP OBJECT DEFINITIONS */
OBJECT = IMAGE_MAP_PROJECTION
  ^DATA_SET_MAP_PROJECTION_CATALOG= "DSMAP.CAT"
  A_AXIS_RADIUS = 3396.0
  B_AXIS_RADIUS = 3396.0
  C_AXIS_RADIUS = 3396.0
  CENTER_LATITUDE = 0.0
  CENTER_LONGITUDE = 87.0
  COORDINATE_SYSTEM_NAME = PLANETOGRAPHIC
  COORDINATE_SYSTEM_TYPE = "BODY-FIXED ROTATING"
  EASTERNMOST_LONGITUDE = 88.00369999999999
  FIRST_STANDARD_PARALLEL = "N/A"
  LINE_FIRST_PIXEL = 1
  LINE_LAST_PIXEL = 22705
  LINE_PROJECTION_OFFSET = -11459.75
  MAP_PROJECTION_ROTATION = 0.0
  MAP_PROJECTION_TYPE = SINUSOIDAL
  MAP_RESOLUTION = 2370.85521546667
  MAP_SCALE = 0.025
  MAXIMUM_LATITUDE = -4.85588
  MINIMUM_LATITUDE = -14.4328
  POSITIVE_LONGITUDE_DIRECTION = EAST
  REFERENCE_LATITUDE = "N/A"
  REFERENCE_LONGITUDE = "N/A"
  SAMPLE_FIRST_PIXEL = 1
  SAMPLE_LAST_PIXEL = 4262
  SAMPLE_PROJECTION_OFFSET = 1676.75
  SECOND_STANDARD_PARALLEL = "N/A"
  WESTERNMOST_LONGITUDE = 86.3887
END_OBJECT = IMAGE_MAP_PROJECTION
/* The JPEG2000 image data file associated with this label. */
OBJECT = COMPRESSED_FILE
  FILE_NAME = "H8401_0000_S23.JP2"
  RECORD_TYPE = UNDEFINED
  FILE_RECORDS = UNK
  ENCODING_TYPE = "JP2"
  INTERCHANGE_FORMAT = BINARY
  UNCOMPRESSED_FILE_NAME = "H8401_0000_S23.IMG"
  REQUIRED_STORAGE_BYTES = "96794282"
  ^DESCRIPTION = "JP2INFO.TXT"
END_OBJECT = COMPRESSED_FILE
END
