PDS_VERSION_ID = PDS3
/* FILE DATA ELEMENTS */
RECORD_TYPE = STREAM
/* POINTERS TO DATA OBJECTS */
^COMPRESSED_FILE = "H8404_0000_P13.JP2"
/* IDENTIFICATION DATA ELEMENTS */
DATA_SET_ID = "MEX-M-HRSC-5-REFDR-MAPPROJECTED-V3.0"
DATA_SET_NAME = "MARS EXPRESS HRSC MAP PROJECTED REFDR V3.0"
DETECTOR_ID = MEX_HRSC_P1
EVENT_TYPE = "MARS-REGIONAL-MAPPING-Fl-Mw"
INSTRUMENT_HOST_ID = MEX
INSTRUMENT_HOST_NAME = "MARS EXPRESS"
INSTRUMENT_ID = HRSC
INSTRUMENT_NAME = "HIGH RESOLUTION STEREO CAMERA"
MISSION_NAME = "MARS EXPRESS"
MISSION_PHASE_NAME = ME_Phase_21
PROCESSING_LEVEL_ID = 3
PRODUCT_CREATION_TIME = 2016-10-25T14:43:05.000Z
PRODUCT_ID = "H8404_0000_P13.JP2"
RELEASE_ID = 0091
REVISION_ID = 0000
/* QUALITY DATA ELEMENTS */
DATA_QUALITY_ID = 1
DATA_QUALITY_DESC = "Data calculated based on original SPICE kernels"
/* TIME DATA ELEMENTS */
SPACECRAFT_CLOCK_START_COUNT = "1/0228306010.09045"
SPACECRAFT_CLOCK_STOP_COUNT = "1/0228306256.58763"
START_TIME = 2010-07-27T10:21:19.433Z
STOP_TIME = 2010-07-27T10:23:55.666Z
/* ORBITAL DATA ELEMENTS */
ASCENDING_NODE_LONGITUDE = 56.79
MAXIMUM_RESOLUTION = 73.2
FOOTPRINT_POINT_LATITUDE = (-11.3093,-11.3021,-11.2951,-11.2882, -11.2815,-11.2748,-11.0227,-10.6975, -10.3697,-10.1219,-9.79411,-9.62785, -9.45942,-9.20771,-9.03981,-8.8722, -8.6168,-8.44635,-8.27619,-8.10577, -7.93371,-7.6748,-7.50152,-7.32908, -7.15449,-6.97845,-6.80281,-6.62644, -6.44875,-6.26948,-6.0938,-5.91948, -5.64553,-5.45975,-5.27988,-5.0969, -4.82407,-4.64355,-4.45689,-4.26862, -3.99207,-3.8047,-3.61246,-3.42338, -3.23736,-3.04382,-2.85325,-2.66857, -2.47499,-2.39083,-2.39531,-2.39981, -2.40955,-2.4166,-2.42258,-2.42622, -2.43287,-2.7211,-3.00484,-3.19532, -3.38385,-3.57286,-3.7668,-3.95096, -4.23022,-4.4162,-4.69483,-4.87867, -5.15496,-5.33908,-5.51894,-5.70039, -5.88229,-6.06295,-6.23914,-6.41808, -6.59594,-6.77181,-6.94841,-7.12456, -7.30087,-7.56057,-7.73411,-7.90711, -8.08072,-8.25113,-8.42224,-8.67799, -8.93304,-9.10074,-9.27034,-9.43861, -9.69087,-10.0187,-10.2677,-10.4337, -10.5977,-10.9221,-11.2474,-11.3093)
FOOTPRINT_POINT_LONGITUDE = (142.173,141.924,141.678,141.435, 141.195,140.958,140.843,140.834,140.824 ,140.817,140.808,140.803,140.798,140.79 ,140.785,140.78,140.772,140.766,140.761 ,140.755,140.75,140.742,140.736,140.73, 140.724,140.718,140.712,140.706,140.7, 140.694,140.688,140.682,140.672,140.665 ,140.658,140.651,140.642,140.635, 140.628,140.62,140.61,140.603,140.595, 140.587,140.58,140.572,140.565,140.558, 140.55,140.801,141.023,141.228,141.53, 141.873,142.161,142.335,142.576,142.57, 142.563,142.56,142.557,142.555,142.558, 142.552,142.548,142.546,142.545,142.543 ,142.54,142.541,142.538,142.536,142.535 ,142.536,142.531,142.53,142.527,142.525 ,142.524,142.523,142.521,142.519, 142.518,142.515,142.514,142.512,142.512 ,142.509,142.506,142.505,142.506, 142.505,142.503,142.497,142.497,142.496 ,142.493,142.491,142.489,142.173)
ORBIT_NUMBER = 8404
ORBITAL_ECCENTRICITY = 0.579
ORBITAL_INCLINATION = 86.81
ORBITAL_SEMIMAJOR_AXIS = 8829.06
PERIAPSIS_ALTITUDE = 324.82
PERIAPSIS_ARGUMENT_ANGLE = 325.91
PERIAPSIS_TIME = 2010-07-27T10:14:59.000Z
SPACECRAFT_ORIENTATION = (0.0,1.0,0.0)
^MEX_ORIENTATION_DESC = "MEX_ORIENTATION_DESC.TXT"
SPACECRAFT_POINTING_MODE = ACROSSTRACK
^MEX_POINTING_DESC = "MEX_POINTING_DESC.TXT"
RIGHT_ASCENSION = -1e+32
DECLINATION = -1e+32
OFFSET_ANGLE = -1.25
SPACECRAFT_SOLAR_DISTANCE = 2.39362e+08
TARGET_NAME = MARS
/* CAMERA DATA ELEMENTS */
DETECTOR_TEMPERATURE = 17.7588
FOCAL_PLANE_TEMPERATURE = 7.3599
INST_CMPRS_NAME = "DISCRETE COSINE TRANSFORMATION (DCT)"
INST_CMPRS_RATIO = 5.29366
INST_CMPRS_QUALITY = 0
INST_CMPRS_QUANTZ_TBL_ID = 0
INSTRUMENT_TEMPERATURE = 10.8262
LENS_TEMPERATURE = 7.9716
MACROPIXEL_SIZE = 4
MISSING_FRAMES = 0
PIXEL_SUBSAMPLING_FLAG = N
SIGNAL_CHAIN_ID = 3
/* RADIOMETRIC DATA ELEMENTS */
BANDWIDTH = 174.0
CENTER_FILTER_WAVELENGTH = 675.0
RADIANCE_OFFSET = 1.24814
RADIANCE_SCALING_FACTOR = 0.0175764
REFLECTANCE_SCALING_FACTOR = 0.000541657
MEX:REFLECTANCE_OFFSET = 0.0384645
/* IMAGE OBJECT DEFINITIONS */
OBJECT = IMAGE
  INTERCHANGE_FORMAT = BINARY
  LINES = 10586
  LINE_SAMPLES = 2384
  SAMPLE_TYPE = UNSIGNED_INTEGER
  SAMPLE_BITS = 8
  BANDS = 1
  BAND_STORAGE_TYPE = BAND_SEQUENTIAL
  MAXIMUM = 255
  MEAN = 112.278
  MINIMUM = 1
  STANDARD_DEVIATION = 31.4078
END_OBJECT = IMAGE
/* MAP OBJECT DEFINITIONS */
OBJECT = IMAGE_MAP_PROJECTION
  ^DATA_SET_MAP_PROJECTION_CATALOG= "DSMAP.CAT"
  A_AXIS_RADIUS = 3396.0
  B_AXIS_RADIUS = 3396.0
  C_AXIS_RADIUS = 3396.0
  CENTER_LATITUDE = 0.0
  CENTER_LONGITUDE = 142.0
  COORDINATE_SYSTEM_NAME = PLANETOGRAPHIC
  COORDINATE_SYSTEM_TYPE = "BODY-FIXED ROTATING"
  EASTERNMOST_LONGITUDE = 142.576
  FIRST_STANDARD_PARALLEL = "N/A"
  LINE_FIRST_PIXEL = 1
  LINE_LAST_PIXEL = 10586
  LINE_PROJECTION_OFFSET = -2816.375
  MAP_PROJECTION_ROTATION = 0.0
  MAP_PROJECTION_TYPE = SINUSOIDAL
  MAP_RESOLUTION = 1185.42760773333
  MAP_SCALE = 0.05
  MAXIMUM_LATITUDE = -2.39083
  MINIMUM_LATITUDE = -11.3093
  POSITIVE_LONGITUDE_DIRECTION = EAST
  REFERENCE_LATITUDE = "N/A"
  REFERENCE_LONGITUDE = "N/A"
  SAMPLE_FIRST_PIXEL = 1
  SAMPLE_LAST_PIXEL = 2384
  SAMPLE_PROJECTION_OFFSET = 1672.375
  SECOND_STANDARD_PARALLEL = "N/A"
  WESTERNMOST_LONGITUDE = 140.55
END_OBJECT = IMAGE_MAP_PROJECTION
/* The JPEG2000 image data file associated with this label. */
OBJECT = COMPRESSED_FILE
  FILE_NAME = "H8404_0000_P13.JP2"
  RECORD_TYPE = UNDEFINED
  FILE_RECORDS = UNK
  ENCODING_TYPE = "JP2"
  INTERCHANGE_FORMAT = BINARY
  UNCOMPRESSED_FILE_NAME = "H8404_0000_P13.IMG"
  REQUIRED_STORAGE_BYTES = "25256096"
  ^DESCRIPTION = "JP2INFO.TXT"
END_OBJECT = COMPRESSED_FILE
END
