PDS_VERSION_ID = PDS3
/* FILE DATA ELEMENTS */
RECORD_TYPE = STREAM
/* POINTERS TO DATA OBJECTS */
^COMPRESSED_FILE = "H8404_0000_P23.JP2"
/* IDENTIFICATION DATA ELEMENTS */
DATA_SET_ID = "MEX-M-HRSC-5-REFDR-MAPPROJECTED-V3.0"
DATA_SET_NAME = "MARS EXPRESS HRSC MAP PROJECTED REFDR V3.0"
DETECTOR_ID = MEX_HRSC_P2
EVENT_TYPE = "MARS-REGIONAL-MAPPING-Fl-Mw"
INSTRUMENT_HOST_ID = MEX
INSTRUMENT_HOST_NAME = "MARS EXPRESS"
INSTRUMENT_ID = HRSC
INSTRUMENT_NAME = "HIGH RESOLUTION STEREO CAMERA"
MISSION_NAME = "MARS EXPRESS"
MISSION_PHASE_NAME = ME_Phase_21
PROCESSING_LEVEL_ID = 3
PRODUCT_CREATION_TIME = 2016-10-25T14:43:05.000Z
PRODUCT_ID = "H8404_0000_P23.JP2"
RELEASE_ID = 0091
REVISION_ID = 0000
/* QUALITY DATA ELEMENTS */
DATA_QUALITY_ID = 1
DATA_QUALITY_DESC = "Data calculated based on original SPICE kernels"
/* TIME DATA ELEMENTS */
SPACECRAFT_CLOCK_START_COUNT = "1/0228306010.09045"
SPACECRAFT_CLOCK_STOP_COUNT = "1/0228306256.58763"
START_TIME = 2010-07-27T10:20:25.617Z
STOP_TIME = 2010-07-27T10:22:45.211Z
/* ORBITAL DATA ELEMENTS */
ASCENDING_NODE_LONGITUDE = 56.79
MAXIMUM_RESOLUTION = 68.1
FOOTPRINT_POINT_LATITUDE = (-11.2621,-11.2763,-11.29,-11.303, -11.3154,-11.3274,-11.3419,-11.014, -10.6874,-10.4422,-10.1118,-9.94284, -9.61002,-9.44325,-9.27548,-9.10833, -8.93905,-8.76722,-8.5961,-8.42531, -8.25409,-8.08355,-7.90932,-7.64718, -7.47233,-7.29756,-7.12318,-6.94614, -6.76827,-6.59104,-6.41392,-6.14219, -5.95915,-5.77876,-5.60511,-5.42407, -5.24278,-4.96356,-4.77718,-4.59131, -4.40944,-4.12829,-3.93936,-3.75196, -3.56794,-3.37691,-3.09048,-2.79847, -2.60339,-2.42812,-2.41755,-2.40023, -2.38258,-2.37214,-2.35688,-2.34111, -2.32982,-2.52604,-2.72373,-2.91659, -3.20428,-3.39549,-3.57939,-3.77085, -4.05414,-4.24272,-4.42738,-4.61091, -4.79593,-4.98037,-5.16387,-5.34394, -5.52593,-5.70388,-5.8881,-6.06624, -6.24675,-6.42384,-6.60406,-6.78146, -7.04667,-7.22097,-7.39572,-7.57054, -7.74559,-8.00689,-8.17759,-8.43384, -8.60509,-8.77653,-8.94833,-9.11575, -9.2821,-9.52931,-9.69944,-9.95369, -10.2823,-10.6937,-11.0219,-11.2621)
FOOTPRINT_POINT_LONGITUDE = (142.254,142.02,141.789,141.561,141.336 ,141.113,140.902,140.895,140.887,140.88 ,140.873,140.869,140.86,140.855,140.851 ,140.847,140.842,140.838,140.833, 140.828,140.824,140.819,140.814,140.807 ,140.802,140.797,140.792,140.787, 140.782,140.776,140.771,140.764,140.759 ,140.753,140.746,140.74,140.735,140.726 ,140.721,140.715,140.709,140.699, 140.693,140.687,140.68,140.674,140.664, 140.655,140.649,140.69,140.921,141.239, 141.512,141.701,141.977,142.257,142.475 ,142.473,142.467,142.464,142.463, 142.462,142.465,142.461,142.459,142.457 ,142.457,142.457,142.456,142.456, 142.455,142.456,142.454,142.458,142.454 ,142.455,142.451,142.452,142.449, 142.449,142.448,142.447,142.447,142.446 ,142.445,142.443,142.442,142.442, 142.441,142.44,142.439,142.438,142.439, 142.443,142.439,142.435,142.436,142.433 ,142.432,142.254)
ORBIT_NUMBER = 8404
ORBITAL_ECCENTRICITY = 0.579
ORBITAL_INCLINATION = 86.81
ORBITAL_SEMIMAJOR_AXIS = 8829.06
PERIAPSIS_ALTITUDE = 324.82
PERIAPSIS_ARGUMENT_ANGLE = 325.91
PERIAPSIS_TIME = 2010-07-27T10:14:59.000Z
SPACECRAFT_ORIENTATION = (0.0,1.0,0.0)
^MEX_ORIENTATION_DESC = "MEX_ORIENTATION_DESC.TXT"
SPACECRAFT_POINTING_MODE = ACROSSTRACK
^MEX_POINTING_DESC = "MEX_POINTING_DESC.TXT"
RIGHT_ASCENSION = -1e+32
DECLINATION = -1e+32
OFFSET_ANGLE = -1.25
SPACECRAFT_SOLAR_DISTANCE = 2.39362e+08
TARGET_NAME = MARS
/* CAMERA DATA ELEMENTS */
DETECTOR_TEMPERATURE = 18.3705
FOCAL_PLANE_TEMPERATURE = 7.3599
INST_CMPRS_NAME = "DISCRETE COSINE TRANSFORMATION (DCT)"
INST_CMPRS_RATIO = 4.72874
INST_CMPRS_QUALITY = 0
INST_CMPRS_QUANTZ_TBL_ID = 0
INSTRUMENT_TEMPERATURE = 10.8262
LENS_TEMPERATURE = 7.9716
MACROPIXEL_SIZE = 4
MISSING_FRAMES = 0
PIXEL_SUBSAMPLING_FLAG = N
SIGNAL_CHAIN_ID = 3
/* RADIOMETRIC DATA ELEMENTS */
BANDWIDTH = 177.0
CENTER_FILTER_WAVELENGTH = 676.5
RADIANCE_OFFSET = 1.25233
RADIANCE_SCALING_FACTOR = 0.0175708
REFLECTANCE_SCALING_FACTOR = 0.000533776
MEX:REFLECTANCE_OFFSET = 0.0380439
/* IMAGE OBJECT DEFINITIONS */
OBJECT = IMAGE
  INTERCHANGE_FORMAT = BINARY
  LINES = 10586
  LINE_SAMPLES = 2384
  SAMPLE_TYPE = UNSIGNED_INTEGER
  SAMPLE_BITS = 8
  BANDS = 1
  BAND_STORAGE_TYPE = BAND_SEQUENTIAL
  MAXIMUM = 255
  MEAN = 107.585
  MINIMUM = 1
  STANDARD_DEVIATION = 32.4385
END_OBJECT = IMAGE
/* MAP OBJECT DEFINITIONS */
OBJECT = IMAGE_MAP_PROJECTION
  ^DATA_SET_MAP_PROJECTION_CATALOG= "DSMAP.CAT"
  A_AXIS_RADIUS = 3396.0
  B_AXIS_RADIUS = 3396.0
  C_AXIS_RADIUS = 3396.0
  CENTER_LATITUDE = 0.0
  CENTER_LONGITUDE = 142.0
  COORDINATE_SYSTEM_NAME = PLANETOGRAPHIC
  COORDINATE_SYSTEM_TYPE = "BODY-FIXED ROTATING"
  EASTERNMOST_LONGITUDE = 142.475
  FIRST_STANDARD_PARALLEL = "N/A"
  LINE_FIRST_PIXEL = 1
  LINE_LAST_PIXEL = 10586
  LINE_PROJECTION_OFFSET = -2816.375
  MAP_PROJECTION_ROTATION = 0.0
  MAP_PROJECTION_TYPE = SINUSOIDAL
  MAP_RESOLUTION = 1185.42760773333
  MAP_SCALE = 0.05
  MAXIMUM_LATITUDE = -2.32982
  MINIMUM_LATITUDE = -11.3419
  POSITIVE_LONGITUDE_DIRECTION = EAST
  REFERENCE_LATITUDE = "N/A"
  REFERENCE_LONGITUDE = "N/A"
  SAMPLE_FIRST_PIXEL = 1
  SAMPLE_LAST_PIXEL = 2384
  SAMPLE_PROJECTION_OFFSET = 1672.375
  SECOND_STANDARD_PARALLEL = "N/A"
  WESTERNMOST_LONGITUDE = 140.649
END_OBJECT = IMAGE_MAP_PROJECTION
/* The JPEG2000 image data file associated with this label. */
OBJECT = COMPRESSED_FILE
  FILE_NAME = "H8404_0000_P23.JP2"
  RECORD_TYPE = UNDEFINED
  FILE_RECORDS = UNK
  ENCODING_TYPE = "JP2"
  INTERCHANGE_FORMAT = BINARY
  UNCOMPRESSED_FILE_NAME = "H8404_0000_P23.IMG"
  REQUIRED_STORAGE_BYTES = "25256096"
  ^DESCRIPTION = "JP2INFO.TXT"
END_OBJECT = COMPRESSED_FILE
END
