PDS_VERSION_ID = PDS3
/* FILE DATA ELEMENTS */
RECORD_TYPE = STREAM
/* POINTERS TO DATA OBJECTS */
^COMPRESSED_FILE = "H8404_0000_RE3.JP2"
/* IDENTIFICATION DATA ELEMENTS */
DATA_SET_ID = "MEX-M-HRSC-5-REFDR-MAPPROJECTED-V3.0"
DATA_SET_NAME = "MARS EXPRESS HRSC MAP PROJECTED REFDR V3.0"
DETECTOR_ID = MEX_HRSC_RED
EVENT_TYPE = "MARS-REGIONAL-MAPPING-Fl-Mw"
INSTRUMENT_HOST_ID = MEX
INSTRUMENT_HOST_NAME = "MARS EXPRESS"
INSTRUMENT_ID = HRSC
INSTRUMENT_NAME = "HIGH RESOLUTION STEREO CAMERA"
MISSION_NAME = "MARS EXPRESS"
MISSION_PHASE_NAME = ME_Phase_21
PROCESSING_LEVEL_ID = 3
PRODUCT_CREATION_TIME = 2016-10-25T14:43:05.000Z
PRODUCT_ID = "H8404_0000_RE3.JP2"
RELEASE_ID = 0091
REVISION_ID = 0000
/* QUALITY DATA ELEMENTS */
DATA_QUALITY_ID = 1
DATA_QUALITY_DESC = "Data calculated based on original SPICE kernels"
/* TIME DATA ELEMENTS */
SPACECRAFT_CLOCK_START_COUNT = "1/0228306010.09045"
SPACECRAFT_CLOCK_STOP_COUNT = "1/0228306256.58763"
START_TIME = 2010-07-27T10:20:19.131Z
STOP_TIME = 2010-07-27T10:22:37.261Z
/* ORBITAL DATA ELEMENTS */
ASCENDING_NODE_LONGITUDE = 56.79
MAXIMUM_RESOLUTION = 68.6
FOOTPRINT_POINT_LATITUDE = (-11.2582,-11.2752,-11.2915,-11.3072, -11.3221,-11.3364,-11.1921,-10.9501, -10.6219,-10.457,-10.2914,-10.0407, -9.71078,-9.54185,-9.28785,-9.1188, -8.95025,-8.78083,-8.61168,-8.43903, -8.26607,-8.00691,-7.83349,-7.57415, -7.39713,-7.13164,-6.95501,-6.77917, -6.60406,-6.42488,-6.15097,-5.96671, -5.78525,-5.61644,-5.43349,-5.24975, -4.97313,-4.6944,-4.50666,-4.32288, -4.13499,-3.85419,-3.57416,-3.3825, -3.18962,-3.00344,-2.80338,-2.60682, -2.42263,-2.41055,-2.39019,-2.37415, -2.34546,-2.32011,-2.40351,-2.59972, -2.79864,-2.99198,-3.18167,-3.37534, -3.6559,-3.84448,-4.12752,-4.31434, -4.5947,-4.77773,-4.96057,-5.14366, -5.32459,-5.50959,-5.68774,-5.86844, -6.13743,-6.31978,-6.49947,-6.67707, -6.85222,-7.02808,-7.20471,-7.3818, -7.55651,-7.72859,-7.90191,-8.07519, -8.24813,-8.50641,-8.67631,-8.84576, -9.09974,-9.26669,-9.517,-9.68842, -9.85603,-10.0219,-10.187,-10.3514, -10.517,-10.8487,-11.172,-11.2582)
FOOTPRINT_POINT_LONGITUDE = (142.253,142.02,141.79,141.563,141.34, 141.119,140.906,140.9,140.892,140.887, 140.883,140.878,140.869,140.865,140.859 ,140.854,140.85,140.845,140.841,140.836 ,140.832,140.825,140.82,140.813,140.808 ,140.801,140.796,140.79,140.785,140.78, 140.772,140.768,140.763,140.755,140.75, 140.744,140.736,140.728,140.722,140.715 ,140.709,140.7,140.69,140.684,140.678, 140.671,140.666,140.659,140.653,140.946 ,141.244,141.463,141.889,142.253, 142.469,142.466,142.461,142.459,142.458 ,142.454,142.458,142.456,142.453, 142.452,142.451,142.451,142.451,142.45, 142.452,142.45,142.451,142.449,142.449, 142.446,142.446,142.444,142.444,142.444 ,142.443,142.442,142.442,142.442, 142.441,142.44,142.439,142.439,142.438, 142.437,142.436,142.437,142.44,142.436, 142.433,142.432,142.432,142.433,142.432 ,142.43,142.429,142.253)
ORBIT_NUMBER = 8404
ORBITAL_ECCENTRICITY = 0.579
ORBITAL_INCLINATION = 86.81
ORBITAL_SEMIMAJOR_AXIS = 8829.06
PERIAPSIS_ALTITUDE = 324.82
PERIAPSIS_ARGUMENT_ANGLE = 325.91
PERIAPSIS_TIME = 2010-07-27T10:14:59.000Z
SPACECRAFT_ORIENTATION = (0.0,1.0,0.0)
^MEX_ORIENTATION_DESC = "MEX_ORIENTATION_DESC.TXT"
SPACECRAFT_POINTING_MODE = ACROSSTRACK
^MEX_POINTING_DESC = "MEX_POINTING_DESC.TXT"
RIGHT_ASCENSION = -1e+32
DECLINATION = -1e+32
OFFSET_ANGLE = -1.25
SPACECRAFT_SOLAR_DISTANCE = 2.39362e+08
TARGET_NAME = MARS
/* CAMERA DATA ELEMENTS */
DETECTOR_TEMPERATURE = 18.3705
FOCAL_PLANE_TEMPERATURE = 7.3599
INST_CMPRS_NAME = "DISCRETE COSINE TRANSFORMATION (DCT)"
INST_CMPRS_RATIO = 5.70229
INST_CMPRS_QUALITY = 0
INST_CMPRS_QUANTZ_TBL_ID = 0
INSTRUMENT_TEMPERATURE = 10.8262
LENS_TEMPERATURE = 7.9716
MACROPIXEL_SIZE = 4
MISSING_FRAMES = 0
PIXEL_SUBSAMPLING_FLAG = N
SIGNAL_CHAIN_ID = 2
/* RADIOMETRIC DATA ELEMENTS */
BANDWIDTH = 48.0
CENTER_FILTER_WAVELENGTH = 748.0
RADIANCE_OFFSET = 0.327266
RADIANCE_SCALING_FACTOR = 0.00520692
REFLECTANCE_SCALING_FACTOR = 0.000680798
MEX:REFLECTANCE_OFFSET = 0.0427896
/* IMAGE OBJECT DEFINITIONS */
OBJECT = IMAGE
  INTERCHANGE_FORMAT = BINARY
  LINES = 10586
  LINE_SAMPLES = 2384
  SAMPLE_TYPE = UNSIGNED_INTEGER
  SAMPLE_BITS = 8
  BANDS = 1
  BAND_STORAGE_TYPE = BAND_SEQUENTIAL
  MAXIMUM = 255
  MEAN = 108.523
  MINIMUM = 1
  STANDARD_DEVIATION = 32.4535
END_OBJECT = IMAGE
/* MAP OBJECT DEFINITIONS */
OBJECT = IMAGE_MAP_PROJECTION
  ^DATA_SET_MAP_PROJECTION_CATALOG= "DSMAP.CAT"
  A_AXIS_RADIUS = 3396.0
  B_AXIS_RADIUS = 3396.0
  C_AXIS_RADIUS = 3396.0
  CENTER_LATITUDE = 0.0
  CENTER_LONGITUDE = 142.0
  COORDINATE_SYSTEM_NAME = PLANETOGRAPHIC
  COORDINATE_SYSTEM_TYPE = "BODY-FIXED ROTATING"
  EASTERNMOST_LONGITUDE = 142.469
  FIRST_STANDARD_PARALLEL = "N/A"
  LINE_FIRST_PIXEL = 1
  LINE_LAST_PIXEL = 10586
  LINE_PROJECTION_OFFSET = -2816.375
  MAP_PROJECTION_ROTATION = 0.0
  MAP_PROJECTION_TYPE = SINUSOIDAL
  MAP_RESOLUTION = 1185.42760773333
  MAP_SCALE = 0.05
  MAXIMUM_LATITUDE = -2.32011
  MINIMUM_LATITUDE = -11.3364
  POSITIVE_LONGITUDE_DIRECTION = EAST
  REFERENCE_LATITUDE = "N/A"
  REFERENCE_LONGITUDE = "N/A"
  SAMPLE_FIRST_PIXEL = 1
  SAMPLE_LAST_PIXEL = 2384
  SAMPLE_PROJECTION_OFFSET = 1672.375
  SECOND_STANDARD_PARALLEL = "N/A"
  WESTERNMOST_LONGITUDE = 140.653
END_OBJECT = IMAGE_MAP_PROJECTION
/* The JPEG2000 image data file associated with this label. */
OBJECT = COMPRESSED_FILE
  FILE_NAME = "H8404_0000_RE3.JP2"
  RECORD_TYPE = UNDEFINED
  FILE_RECORDS = UNK
  ENCODING_TYPE = "JP2"
  INTERCHANGE_FORMAT = BINARY
  UNCOMPRESSED_FILE_NAME = "H8404_0000_RE3.IMG"
  REQUIRED_STORAGE_BYTES = "25256096"
  ^DESCRIPTION = "JP2INFO.TXT"
END_OBJECT = COMPRESSED_FILE
END
