PDS_VERSION_ID = PDS3
/* FILE DATA ELEMENTS */
RECORD_TYPE = STREAM
/* POINTERS TO DATA OBJECTS */
^COMPRESSED_FILE = "H8407_0000_IR3.JP2"
/* IDENTIFICATION DATA ELEMENTS */
DATA_SET_ID = "MEX-M-HRSC-5-REFDR-MAPPROJECTED-V3.0"
DATA_SET_NAME = "MARS EXPRESS HRSC MAP PROJECTED REFDR V3.0"
DETECTOR_ID = MEX_HRSC_IR
EVENT_TYPE = "MARS-REGIONAL-MAPPING-Te-Im-La"
INSTRUMENT_HOST_ID = MEX
INSTRUMENT_HOST_NAME = "MARS EXPRESS"
INSTRUMENT_ID = HRSC
INSTRUMENT_NAME = "HIGH RESOLUTION STEREO CAMERA"
MISSION_NAME = "MARS EXPRESS"
MISSION_PHASE_NAME = ME_Phase_21
PROCESSING_LEVEL_ID = 3
PRODUCT_CREATION_TIME = 2016-10-25T14:43:05.000Z
PRODUCT_ID = "H8407_0000_IR3.JP2"
RELEASE_ID = 0091
REVISION_ID = 0000
/* QUALITY DATA ELEMENTS */
DATA_QUALITY_ID = 1
DATA_QUALITY_DESC = "Data calculated based on original SPICE kernels"
/* TIME DATA ELEMENTS */
SPACECRAFT_CLOCK_START_COUNT = "1/0228381386.09064"
SPACECRAFT_CLOCK_STOP_COUNT = "1/0228381657.57623"
START_TIME = 2010-07-28T07:17:26.396Z
STOP_TIME = 2010-07-28T07:20:50.269Z
/* ORBITAL DATA ELEMENTS */
ASCENDING_NODE_LONGITUDE = 56.73
MAXIMUM_RESOLUTION = 59.9
FOOTPRINT_POINT_LATITUDE = (-22.7086,-22.7086,-22.7084,-22.7082, -22.7078,-22.5041,-22.2918,-22.08, -21.8681,-21.6565,-21.4506,-21.2396, -20.9233,-20.5523,-20.3027,-20.0527, -19.8035,-19.5536,-19.3056,-18.9346, -18.6866,-18.4405,-18.1965,-17.95, -17.7039,-17.4584,-17.2135,-16.9674, -16.7236,-16.4779,-16.1148,-15.8728, -15.6297,-15.3838,-15.1333,-14.8823, -14.6354,-14.3831,-14.1316,-13.8796, -13.4997,-13.2423,-12.9852,-12.7301, -12.4695,-12.2065,-11.9462,-11.5504, -11.1501,-10.8841,-10.4789,-10.444, -10.4405,-10.4405,-10.4384,-10.5734, -10.8441,-11.1074,-11.3727,-11.6401, -12.0358,-12.4295,-12.6911,-12.9498, -13.2049,-13.4625,-13.7181,-13.9696, -14.2221,-14.4752,-14.8474,-15.0968, -15.3443,-15.5943,-15.8397,-16.2054, -16.4499,-16.6937,-16.9378,-17.183, -17.5508,-17.7972,-18.0436,-18.2899, -18.5374,-18.9079,-19.1561,-19.4061, -19.6514,-19.9014,-20.2754,-20.6485, -21.0043,-21.3197,-21.5301,-21.8446, -22.0542,-22.2659,-22.4774,-22.7086)
FOOTPRINT_POINT_LONGITUDE = (194.019,193.717,193.453,193.251,193.0, 192.853,192.853,192.852,192.851,192.85, 192.847,192.846,192.844,192.841,192.839 ,192.837,192.834,192.832,192.829, 192.825,192.822,192.819,192.815,192.812 ,192.808,192.805,192.801,192.798, 192.794,192.791,192.784,192.78,192.775, 192.77,192.766,192.762,192.758,192.752, 192.747,192.741,192.733,192.727,192.722 ,192.715,192.709,192.703,192.697, 192.687,192.677,192.67,192.659,192.967, 193.447,193.867,194.131,194.322,194.319 ,194.315,194.312,194.309,194.306, 194.303,194.3,194.298,194.295,194.293, 194.29,194.288,194.285,194.283,194.279, 194.277,194.275,194.273,194.271,194.268 ,194.266,194.264,194.262,194.26,194.257 ,194.255,194.253,194.251,194.249, 194.245,194.243,194.242,194.238,194.237 ,194.233,194.229,194.226,194.224, 194.222,194.218,194.216,194.214,194.212 ,194.019)
ORBIT_NUMBER = 8407
ORBITAL_ECCENTRICITY = 0.579
ORBITAL_INCLINATION = 86.83
ORBITAL_SEMIMAJOR_AXIS = 8823.82
PERIAPSIS_ALTITUDE = 324.39
PERIAPSIS_ARGUMENT_ANGLE = 325.39
PERIAPSIS_TIME = 2010-07-28T07:13:59.000Z
SPACECRAFT_ORIENTATION = (0.0,1.0,0.0)
^MEX_ORIENTATION_DESC = "MEX_ORIENTATION_DESC.TXT"
SPACECRAFT_POINTING_MODE = NADIR
^MEX_POINTING_DESC = "MEX_POINTING_DESC.TXT"
RIGHT_ASCENSION = -1e+32
DECLINATION = -1e+32
OFFSET_ANGLE = -1e+32
SPACECRAFT_SOLAR_DISTANCE = 2.39225e+08
TARGET_NAME = MARS
/* CAMERA DATA ELEMENTS */
DETECTOR_TEMPERATURE = 17.351
FOCAL_PLANE_TEMPERATURE = 7.5638
INST_CMPRS_NAME = "DISCRETE COSINE TRANSFORMATION (DCT)"
INST_CMPRS_RATIO = 5.33933
INST_CMPRS_QUALITY = 0
INST_CMPRS_QUANTZ_TBL_ID = 0
INSTRUMENT_TEMPERATURE = 11.0301
LENS_TEMPERATURE = 8.1755
MACROPIXEL_SIZE = 4
MISSING_FRAMES = 0
PIXEL_SUBSAMPLING_FLAG = N
SIGNAL_CHAIN_ID = 2
/* RADIOMETRIC DATA ELEMENTS */
BANDWIDTH = 81.0
CENTER_FILTER_WAVELENGTH = 955.5
RADIANCE_OFFSET = 0.135834
RADIANCE_SCALING_FACTOR = 0.00581855
REFLECTANCE_SCALING_FACTOR = 0.000718381
MEX:REFLECTANCE_OFFSET = 0.0167706
/* IMAGE OBJECT DEFINITIONS */
OBJECT = IMAGE
  INTERCHANGE_FORMAT = BINARY
  LINES = 14582
  LINE_SAMPLES = 1924
  SAMPLE_TYPE = UNSIGNED_INTEGER
  SAMPLE_BITS = 8
  BANDS = 1
  BAND_STORAGE_TYPE = BAND_SEQUENTIAL
  MAXIMUM = 255
  MEAN = 97.3744
  MINIMUM = 1
  STANDARD_DEVIATION = 29.1581
END_OBJECT = IMAGE
/* MAP OBJECT DEFINITIONS */
OBJECT = IMAGE_MAP_PROJECTION
  ^DATA_SET_MAP_PROJECTION_CATALOG= "DSMAP.CAT"
  A_AXIS_RADIUS = 3396.0
  B_AXIS_RADIUS = 3396.0
  C_AXIS_RADIUS = 3396.0
  CENTER_LATITUDE = 0.0
  CENTER_LONGITUDE = 194.0
  COORDINATE_SYSTEM_NAME = PLANETOGRAPHIC
  COORDINATE_SYSTEM_TYPE = "BODY-FIXED ROTATING"
  EASTERNMOST_LONGITUDE = 194.322
  FIRST_STANDARD_PARALLEL = "N/A"
  LINE_FIRST_PIXEL = 1
  LINE_LAST_PIXEL = 14582
  LINE_PROJECTION_OFFSET = -12364.125
  MAP_PROJECTION_ROTATION = 0.0
  MAP_PROJECTION_TYPE = SINUSOIDAL
  MAP_RESOLUTION = 1185.42760773333
  MAP_SCALE = 0.05
  MAXIMUM_LATITUDE = -10.4384
  MINIMUM_LATITUDE = -22.7086
  POSITIVE_LONGITUDE_DIRECTION = EAST
  REFERENCE_LATITUDE = "N/A"
  REFERENCE_LONGITUDE = "N/A"
  SAMPLE_FIRST_PIXEL = 1
  SAMPLE_LAST_PIXEL = 1924
  SAMPLE_PROJECTION_OFFSET = 1560.125
  SECOND_STANDARD_PARALLEL = "N/A"
  WESTERNMOST_LONGITUDE = 192.659
END_OBJECT = IMAGE_MAP_PROJECTION
/* The JPEG2000 image data file associated with this label. */
OBJECT = COMPRESSED_FILE
  FILE_NAME = "H8407_0000_IR3.JP2"
  RECORD_TYPE = UNDEFINED
  FILE_RECORDS = UNK
  ENCODING_TYPE = "JP2"
  INTERCHANGE_FORMAT = BINARY
  UNCOMPRESSED_FILE_NAME = "H8407_0000_IR3.IMG"
  REQUIRED_STORAGE_BYTES = "28075008"
  ^DESCRIPTION = "JP2INFO.TXT"
END_OBJECT = COMPRESSED_FILE
END
