PDS_VERSION_ID = PDS3
/* FILE DATA ELEMENTS */
RECORD_TYPE = STREAM
/* POINTERS TO DATA OBJECTS */
^COMPRESSED_FILE = "H8409_0000_BL3.JP2"
/* IDENTIFICATION DATA ELEMENTS */
DATA_SET_ID = "MEX-M-HRSC-5-REFDR-MAPPROJECTED-V3.0"
DATA_SET_NAME = "MARS EXPRESS HRSC MAP PROJECTED REFDR V3.0"
DETECTOR_ID = MEX_HRSC_BLUE
EVENT_TYPE = "MARS-REGIONAL-MAPPING-Im-Fl-La"
INSTRUMENT_HOST_ID = MEX
INSTRUMENT_HOST_NAME = "MARS EXPRESS"
INSTRUMENT_ID = HRSC
INSTRUMENT_NAME = "HIGH RESOLUTION STEREO CAMERA"
MISSION_NAME = "MARS EXPRESS"
MISSION_PHASE_NAME = ME_Phase_21
PROCESSING_LEVEL_ID = 3
PRODUCT_CREATION_TIME = 2016-10-25T14:43:05.000Z
PRODUCT_ID = "H8409_0000_BL3.JP2"
RELEASE_ID = 0091
REVISION_ID = 0000
/* QUALITY DATA ELEMENTS */
DATA_QUALITY_ID = 1
DATA_QUALITY_DESC = "Data calculated based on original SPICE kernels"
/* TIME DATA ELEMENTS */
SPACECRAFT_CLOCK_START_COUNT = "1/0228431874.09055"
SPACECRAFT_CLOCK_STOP_COUNT = "1/0228432160.31229"
START_TIME = 2010-07-28T21:18:26.427Z
STOP_TIME = 2010-07-28T21:21:32.930Z
/* ORBITAL DATA ELEMENTS */
ASCENDING_NODE_LONGITUDE = 56.7
MAXIMUM_RESOLUTION = 64.9
FOOTPRINT_POINT_LATITUDE = (-14.4808,-14.4833,-14.4848,-14.4861, -14.4867,-14.3808,-14.1768,-13.7692, -13.4567,-13.248,-13.0395,-12.8312, -12.6231,-12.3035,-12.0902,-11.8773, -11.5579,-11.2314,-11.0138,-10.7965, -10.5794,-10.2467,-10.0247,-9.80292, -9.58146,-9.35482,-9.12848,-8.90243, -8.56121,-8.3305,-8.10013,-7.86998, -7.51904,-7.2842,-7.04973,-6.69268, -6.45365,-6.21481,-5.85114,-5.60796, -5.36521,-5.11778,-4.87036,-4.62351, -4.37224,-4.12083,-3.74186,-3.48607, -3.10219,-2.97968,-2.97515,-2.9709, -2.96807,-2.96438,-2.95964,-3.2182, -3.60215,-3.8582,-4.10978,-4.3617, -4.61314,-4.86048,-5.10825,-5.35593, -5.59934,-5.84301,-6.20706,-6.44622, -6.68552,-7.04274,-7.39528,-7.63049, -7.864,-8.09458,-8.32549,-8.67188, -8.89809,-9.1244,-9.3511,-9.57778, -9.7995,-10.1321,-10.3552,-10.5769, -10.7943,-11.1209,-11.3386,-11.5555, -11.7684,-11.9816,-12.195,-12.4094, -12.623,-12.9358,-13.1444,-13.3533, -13.5624,-13.7706,-14.1787,-14.4808)
FOOTPRINT_POINT_LONGITUDE = (349.584,349.234,348.965,348.629, 348.413,348.215,348.211,348.204,348.198 ,348.194,348.19,348.186,348.182,348.176 ,348.171,348.166,348.159,348.151, 348.146,348.141,348.136,348.128,348.122 ,348.117,348.111,348.105,348.099, 348.093,348.084,348.078,348.072,348.065 ,348.055,348.048,348.041,348.031, 348.023,348.016,348.004,347.996,347.989 ,347.981,347.972,347.964,347.956, 347.947,347.934,347.925,347.911,348.147 ,348.526,348.871,349.078,349.337, 349.756,349.754,349.75,349.748,349.745, 349.743,349.741,349.739,349.737,349.735 ,349.732,349.73,349.727,349.725,349.723 ,349.721,349.718,349.717,349.715, 349.713,349.711,349.709,349.707,349.706 ,349.704,349.702,349.701,349.699, 349.697,349.695,349.694,349.691,349.69, 349.69,349.689,349.687,349.686,349.683, 349.681,349.679,349.678,349.677,349.675 ,349.674,349.671,349.584)
ORBIT_NUMBER = 8409
ORBITAL_ECCENTRICITY = 0.579
ORBITAL_INCLINATION = 86.82
ORBITAL_SEMIMAJOR_AXIS = 8824.84
PERIAPSIS_ALTITUDE = 324.38
PERIAPSIS_ARGUMENT_ANGLE = 325.03
PERIAPSIS_TIME = 2010-07-28T21:13:18.000Z
SPACECRAFT_ORIENTATION = (0.0,1.0,0.0)
^MEX_ORIENTATION_DESC = "MEX_ORIENTATION_DESC.TXT"
SPACECRAFT_POINTING_MODE = NADIR
^MEX_POINTING_DESC = "MEX_POINTING_DESC.TXT"
RIGHT_ASCENSION = -1e+32
DECLINATION = -1e+32
OFFSET_ANGLE = -1e+32
SPACECRAFT_SOLAR_DISTANCE = 2.39134e+08
TARGET_NAME = MARS
/* CAMERA DATA ELEMENTS */
DETECTOR_TEMPERATURE = 17.9627
FOCAL_PLANE_TEMPERATURE = 7.5638
INST_CMPRS_NAME = "DISCRETE COSINE TRANSFORMATION (DCT)"
INST_CMPRS_RATIO = 11.6025
INST_CMPRS_QUALITY = 0
INST_CMPRS_QUANTZ_TBL_ID = 0
INSTRUMENT_TEMPERATURE = 9.8067
LENS_TEMPERATURE = 8.7872
MACROPIXEL_SIZE = 4
MISSING_FRAMES = 0
PIXEL_SUBSAMPLING_FLAG = N
SIGNAL_CHAIN_ID = 2
/* RADIOMETRIC DATA ELEMENTS */
BANDWIDTH = 76.0
CENTER_FILTER_WAVELENGTH = 444.0
RADIANCE_OFFSET = 0.218928
RADIANCE_SCALING_FACTOR = 0.00197725
REFLECTANCE_SCALING_FACTOR = 0.000116171
MEX:REFLECTANCE_OFFSET = 0.0128628
/* IMAGE OBJECT DEFINITIONS */
OBJECT = IMAGE
  INTERCHANGE_FORMAT = BINARY
  LINES = 13660
  LINE_SAMPLES = 2326
  SAMPLE_TYPE = UNSIGNED_INTEGER
  SAMPLE_BITS = 8
  BANDS = 1
  BAND_STORAGE_TYPE = BAND_SEQUENTIAL
  MAXIMUM = 255
  MEAN = 117.4
  MINIMUM = 1
  STANDARD_DEVIATION = 34.9559
END_OBJECT = IMAGE
/* MAP OBJECT DEFINITIONS */
OBJECT = IMAGE_MAP_PROJECTION
  ^DATA_SET_MAP_PROJECTION_CATALOG= "DSMAP.CAT"
  A_AXIS_RADIUS = 3396.0
  B_AXIS_RADIUS = 3396.0
  C_AXIS_RADIUS = 3396.0
  CENTER_LATITUDE = 0.0
  CENTER_LONGITUDE = 349.0
  COORDINATE_SYSTEM_NAME = PLANETOGRAPHIC
  COORDINATE_SYSTEM_TYPE = "BODY-FIXED ROTATING"
  EASTERNMOST_LONGITUDE = 349.756
  FIRST_STANDARD_PARALLEL = "N/A"
  LINE_FIRST_PIXEL = 1
  LINE_LAST_PIXEL = 13660
  LINE_PROJECTION_OFFSET = -3507.125
  MAP_PROJECTION_ROTATION = 0.0
  MAP_PROJECTION_TYPE = SINUSOIDAL
  MAP_RESOLUTION = 1185.42760773333
  MAP_SCALE = 0.05
  MAXIMUM_LATITUDE = -2.95964
  MINIMUM_LATITUDE = -14.4867
  POSITIVE_LONGITUDE_DIRECTION = EAST
  REFERENCE_LATITUDE = "N/A"
  REFERENCE_LONGITUDE = "N/A"
  SAMPLE_FIRST_PIXEL = 1
  SAMPLE_LAST_PIXEL = 2326
  SAMPLE_PROJECTION_OFFSET = 1368.875
  SECOND_STANDARD_PARALLEL = "N/A"
  WESTERNMOST_LONGITUDE = 347.911
END_OBJECT = IMAGE_MAP_PROJECTION
/* The JPEG2000 image data file associated with this label. */
OBJECT = COMPRESSED_FILE
  FILE_NAME = "H8409_0000_BL3.JP2"
  RECORD_TYPE = UNDEFINED
  FILE_RECORDS = UNK
  ENCODING_TYPE = "JP2"
  INTERCHANGE_FORMAT = BINARY
  UNCOMPRESSED_FILE_NAME = "H8409_0000_BL3.IMG"
  REQUIRED_STORAGE_BYTES = "31796420"
  ^DESCRIPTION = "JP2INFO.TXT"
END_OBJECT = COMPRESSED_FILE
END
