PDS_VERSION_ID = PDS3
/* FILE DATA ELEMENTS */
RECORD_TYPE = STREAM
/* POINTERS TO DATA OBJECTS */
^COMPRESSED_FILE = "H8409_0000_IR3.JP2"
/* IDENTIFICATION DATA ELEMENTS */
DATA_SET_ID = "MEX-M-HRSC-5-REFDR-MAPPROJECTED-V3.0"
DATA_SET_NAME = "MARS EXPRESS HRSC MAP PROJECTED REFDR V3.0"
DETECTOR_ID = MEX_HRSC_IR
EVENT_TYPE = "MARS-REGIONAL-MAPPING-Im-Fl-La"
INSTRUMENT_HOST_ID = MEX
INSTRUMENT_HOST_NAME = "MARS EXPRESS"
INSTRUMENT_ID = HRSC
INSTRUMENT_NAME = "HIGH RESOLUTION STEREO CAMERA"
MISSION_NAME = "MARS EXPRESS"
MISSION_PHASE_NAME = ME_Phase_21
PROCESSING_LEVEL_ID = 3
PRODUCT_CREATION_TIME = 2016-10-25T14:43:05.000Z
PRODUCT_ID = "H8409_0000_IR3.JP2"
RELEASE_ID = 0091
REVISION_ID = 0000
/* QUALITY DATA ELEMENTS */
DATA_QUALITY_ID = 1
DATA_QUALITY_DESC = "Data calculated based on original SPICE kernels"
/* TIME DATA ELEMENTS */
SPACECRAFT_CLOCK_START_COUNT = "1/0228431874.09055"
SPACECRAFT_CLOCK_STOP_COUNT = "1/0228432160.31229"
START_TIME = 2010-07-28T21:19:05.924Z
STOP_TIME = 2010-07-28T21:22:29.999Z
/* ORBITAL DATA ELEMENTS */
ASCENDING_NODE_LONGITUDE = 56.7
MAXIMUM_RESOLUTION = 71.5
FOOTPRINT_POINT_LATITUDE = (-14.4565,-14.4586,-14.4612,-14.4627, -14.4647,-14.2737,-13.8599,-13.6506, -13.4412,-13.2326,-13.0217,-12.8087, -12.5953,-12.2806,-12.0635,-11.8458, -11.6307,-11.4152,-11.1969,-10.9773, -10.7577,-10.5387,-10.2041,-9.98085, -9.75828,-9.53131,-9.30501,-9.07914, -8.85009,-8.61955,-8.38996,-8.04024, -7.80694,-7.57441,-7.33732,-6.98224, -6.74307,-6.50265,-6.26338,-5.8995, -5.65639,-5.28676,-5.04033,-4.66591, -4.41642,-4.16243,-3.78322,-3.52806, -3.27202,-3.01415,-2.98916,-2.98421, -2.9767,-2.97217,-2.96985,-2.96687, -3.22649,-3.48243,-3.86616,-4.1193, -4.37314,-4.62316,-4.87387,-5.12226, -5.36877,-5.61454,-5.97955,-6.22305, -6.46331,-6.70396,-7.06294,-7.30014, -7.53791,-7.77165,-8.00557,-8.23957, -8.46943,-8.69994,-9.04531,-9.27195, -9.49912,-9.83764,-10.0677,-10.2845, -10.5085,-10.7281,-10.9479,-11.1683, -11.3878,-11.6061,-11.9323,-12.2559, -12.6759,-12.8889,-13.2074,-13.4163, -13.6253,-13.8351,-14.2499,-14.4565)
FOOTPRINT_POINT_LONGITUDE = (349.609,349.266,348.852,348.623, 348.337,348.167,348.158,348.154,348.149 ,348.145,348.14,348.135,348.131,348.122 ,348.117,348.112,348.106,348.101, 348.095,348.089,348.083,348.077,348.067 ,348.061,348.055,348.048,348.041, 348.034,348.027,348.02,348.013,348.002, 347.994,347.986,347.978,347.966,347.958 ,347.95,347.941,347.928,347.919,347.905 ,347.896,347.881,347.872,347.862, 347.847,347.836,347.825,347.814,348.192 ,348.458,348.913,349.311,349.52,349.849 ,349.845,349.841,349.836,349.832, 349.828,349.825,349.821,349.818,349.815 ,349.811,349.806,349.803,349.8,349.797, 349.793,349.79,349.787,349.784,349.782, 349.779,349.776,349.773,349.77,349.767, 349.765,349.761,349.761,349.756,349.754 ,349.751,349.749,349.747,349.744, 349.743,349.74,349.737,349.731,349.729, 349.726,349.724,349.722,349.72,349.716, 349.609)
ORBIT_NUMBER = 8409
ORBITAL_ECCENTRICITY = 0.579
ORBITAL_INCLINATION = 86.82
ORBITAL_SEMIMAJOR_AXIS = 8824.84
PERIAPSIS_ALTITUDE = 324.38
PERIAPSIS_ARGUMENT_ANGLE = 325.03
PERIAPSIS_TIME = 2010-07-28T21:13:18.000Z
SPACECRAFT_ORIENTATION = (0.0,1.0,0.0)
^MEX_ORIENTATION_DESC = "MEX_ORIENTATION_DESC.TXT"
SPACECRAFT_POINTING_MODE = NADIR
^MEX_POINTING_DESC = "MEX_POINTING_DESC.TXT"
RIGHT_ASCENSION = -1e+32
DECLINATION = -1e+32
OFFSET_ANGLE = -1e+32
SPACECRAFT_SOLAR_DISTANCE = 2.39134e+08
TARGET_NAME = MARS
/* CAMERA DATA ELEMENTS */
DETECTOR_TEMPERATURE = 16.9432
FOCAL_PLANE_TEMPERATURE = 7.5638
INST_CMPRS_NAME = "DISCRETE COSINE TRANSFORMATION (DCT)"
INST_CMPRS_RATIO = 11.6025
INST_CMPRS_QUALITY = 0
INST_CMPRS_QUANTZ_TBL_ID = 0
INSTRUMENT_TEMPERATURE = 9.8067
LENS_TEMPERATURE = 8.7872
MACROPIXEL_SIZE = 4
MISSING_FRAMES = 0
PIXEL_SUBSAMPLING_FLAG = N
SIGNAL_CHAIN_ID = 2
/* RADIOMETRIC DATA ELEMENTS */
BANDWIDTH = 81.0
CENTER_FILTER_WAVELENGTH = 955.5
RADIANCE_OFFSET = 0.224932
RADIANCE_SCALING_FACTOR = 0.00475346
REFLECTANCE_SCALING_FACTOR = 0.000586432
MEX:REFLECTANCE_OFFSET = 0.0277497
/* IMAGE OBJECT DEFINITIONS */
OBJECT = IMAGE
  INTERCHANGE_FORMAT = BINARY
  LINES = 13660
  LINE_SAMPLES = 2326
  SAMPLE_TYPE = UNSIGNED_INTEGER
  SAMPLE_BITS = 8
  BANDS = 1
  BAND_STORAGE_TYPE = BAND_SEQUENTIAL
  MAXIMUM = 255
  MEAN = 102.396
  MINIMUM = 1
  STANDARD_DEVIATION = 38.6654
END_OBJECT = IMAGE
/* MAP OBJECT DEFINITIONS */
OBJECT = IMAGE_MAP_PROJECTION
  ^DATA_SET_MAP_PROJECTION_CATALOG= "DSMAP.CAT"
  A_AXIS_RADIUS = 3396.0
  B_AXIS_RADIUS = 3396.0
  C_AXIS_RADIUS = 3396.0
  CENTER_LATITUDE = 0.0
  CENTER_LONGITUDE = 349.0
  COORDINATE_SYSTEM_NAME = PLANETOGRAPHIC
  COORDINATE_SYSTEM_TYPE = "BODY-FIXED ROTATING"
  EASTERNMOST_LONGITUDE = 349.849
  FIRST_STANDARD_PARALLEL = "N/A"
  LINE_FIRST_PIXEL = 1
  LINE_LAST_PIXEL = 13660
  LINE_PROJECTION_OFFSET = -3507.125
  MAP_PROJECTION_ROTATION = 0.0
  MAP_PROJECTION_TYPE = SINUSOIDAL
  MAP_RESOLUTION = 1185.42760773333
  MAP_SCALE = 0.05
  MAXIMUM_LATITUDE = -2.96687
  MINIMUM_LATITUDE = -14.4647
  POSITIVE_LONGITUDE_DIRECTION = EAST
  REFERENCE_LATITUDE = "N/A"
  REFERENCE_LONGITUDE = "N/A"
  SAMPLE_FIRST_PIXEL = 1
  SAMPLE_LAST_PIXEL = 2326
  SAMPLE_PROJECTION_OFFSET = 1368.875
  SECOND_STANDARD_PARALLEL = "N/A"
  WESTERNMOST_LONGITUDE = 347.814
END_OBJECT = IMAGE_MAP_PROJECTION
/* The JPEG2000 image data file associated with this label. */
OBJECT = COMPRESSED_FILE
  FILE_NAME = "H8409_0000_IR3.JP2"
  RECORD_TYPE = UNDEFINED
  FILE_RECORDS = UNK
  ENCODING_TYPE = "JP2"
  INTERCHANGE_FORMAT = BINARY
  UNCOMPRESSED_FILE_NAME = "H8409_0000_IR3.IMG"
  REQUIRED_STORAGE_BYTES = "31796420"
  ^DESCRIPTION = "JP2INFO.TXT"
END_OBJECT = COMPRESSED_FILE
END
