PDS_VERSION_ID = PDS3
/* FILE DATA ELEMENTS */
RECORD_TYPE = STREAM
/* POINTERS TO DATA OBJECTS */
^COMPRESSED_FILE = "H8410_0000_S13.JP2"
/* IDENTIFICATION DATA ELEMENTS */
DATA_SET_ID = "MEX-M-HRSC-5-REFDR-MAPPROJECTED-V3.0"
DATA_SET_NAME = "MARS EXPRESS HRSC MAP PROJECTED REFDR V3.0"
DETECTOR_ID = MEX_HRSC_S1
EVENT_TYPE = "MARS-LOCAL-STEREO-Vo"
INSTRUMENT_HOST_ID = MEX
INSTRUMENT_HOST_NAME = "MARS EXPRESS"
INSTRUMENT_ID = HRSC
INSTRUMENT_NAME = "HIGH RESOLUTION STEREO CAMERA"
MISSION_NAME = "MARS EXPRESS"
MISSION_PHASE_NAME = ME_Phase_21
PROCESSING_LEVEL_ID = 3
PRODUCT_CREATION_TIME = 2016-10-25T14:43:05.000Z
PRODUCT_ID = "H8410_0000_S13.JP2"
RELEASE_ID = 0091
REVISION_ID = 0000
/* QUALITY DATA ELEMENTS */
DATA_QUALITY_ID = 1
DATA_QUALITY_DESC = "Data calculated based on original SPICE kernels"
/* TIME DATA ELEMENTS */
SPACECRAFT_CLOCK_START_COUNT = "1/0228456996.08262"
SPACECRAFT_CLOCK_STOP_COUNT = "1/0228457284.57589"
START_TIME = 2010-07-29T04:17:47.808Z
STOP_TIME = 2010-07-29T04:21:25.450Z
/* ORBITAL DATA ELEMENTS */
ASCENDING_NODE_LONGITUDE = 56.68
MAXIMUM_RESOLUTION = 16.4
FOOTPRINT_POINT_LATITUDE = (-18.5891,-18.5902,-18.5918,-18.5927, -18.3308,-18.1007,-17.7559,-17.4118, -17.0688,-16.8406,-16.4985,-16.1487, -15.7998,-15.568,-15.2145,-14.9777, -14.7411,-14.5051,-14.2643,-14.0232, -13.7827,-13.5429,-13.2978,-12.9305, -12.6864,-12.3133,-12.0647,-11.8168, -11.564,-11.3114,-11.0592,-10.8039, -10.5473,-10.2912,-10.0316,-9.77101, -9.51112,-9.115,-8.85098,-8.58439, -8.31602,-7.91142,-7.64058,-7.36918, -7.09318,-6.81812,-6.40035,-6.09622, -6.09131,-6.08724,-6.08369,-6.08016, -6.07744,-6.21584,-6.49505,-6.77422, -7.04971,-7.46226,-7.73404,-8.1408, -8.40875,-8.81052,-9.20718,-9.4719, -9.73221,-9.9933,-10.2537,-10.5102, -10.7673,-11.0237,-11.2759,-11.5289, -11.7825,-12.0308,-12.2797,-12.5293, -12.898,-13.1433,-13.3898,-13.6335, -13.8742,-14.1153,-14.3568,-14.714, -14.9505,-15.1876,-15.542,-15.7743, -16.0071,-16.2404,-16.5888,-16.8166, -17.0449,-17.2738,-17.503,-17.7325, -17.9625,-18.1929,-18.4236,-18.5891)
FOOTPRINT_POINT_LONGITUDE = (247.221,246.864,246.364,246.093, 245.936,245.933,245.928,245.923,245.918 ,245.914,245.909,245.903,245.897, 245.893,245.886,245.882,245.877,245.872 ,245.867,245.862,245.857,245.852, 245.846,245.838,245.832,245.823,245.816 ,245.81,245.803,245.797,245.79,245.783, 245.776,245.768,245.761,245.753,245.745 ,245.733,245.725,245.717,245.708, 245.695,245.685,245.676,245.667,245.657 ,245.642,245.796,246.128,246.423, 246.699,247.031,247.308,247.499,247.495 ,247.492,247.488,247.482,247.479, 247.474,247.47,247.466,247.461,247.458, 247.455,247.452,247.449,247.446,247.443 ,247.44,247.437,247.435,247.432,247.429 ,247.427,247.424,247.42,247.418,247.416 ,247.414,247.411,247.409,247.407, 247.403,247.401,247.399,247.396,247.393 ,247.391,247.389,247.386,247.384, 247.382,247.38,247.378,247.376,247.374, 247.372,247.37,247.221)
ORBIT_NUMBER = 8410
ORBITAL_ECCENTRICITY = 0.58
ORBITAL_INCLINATION = 86.82
ORBITAL_SEMIMAJOR_AXIS = 8830.98
PERIAPSIS_ALTITUDE = 323.65
PERIAPSIS_ARGUMENT_ANGLE = 324.84
PERIAPSIS_TIME = 2010-07-29T04:12:59.000Z
SPACECRAFT_ORIENTATION = (0.0,1.0,0.0)
^MEX_ORIENTATION_DESC = "MEX_ORIENTATION_DESC.TXT"
SPACECRAFT_POINTING_MODE = NADIR
^MEX_POINTING_DESC = "MEX_POINTING_DESC.TXT"
RIGHT_ASCENSION = -1e+32
DECLINATION = -1e+32
OFFSET_ANGLE = -1e+32
SPACECRAFT_SOLAR_DISTANCE = 2.39088e+08
TARGET_NAME = MARS
/* CAMERA DATA ELEMENTS */
DETECTOR_TEMPERATURE = 17.7588
FOCAL_PLANE_TEMPERATURE = 7.5638
INST_CMPRS_NAME = "DISCRETE COSINE TRANSFORMATION (DCT)"
INST_CMPRS_RATIO = 7.19578
INST_CMPRS_QUALITY = 0
INST_CMPRS_QUANTZ_TBL_ID = 0
INSTRUMENT_TEMPERATURE = 11.0301
LENS_TEMPERATURE = 7.9716
MACROPIXEL_SIZE = 1
MISSING_FRAMES = 0
PIXEL_SUBSAMPLING_FLAG = N
SIGNAL_CHAIN_ID = 2
/* RADIOMETRIC DATA ELEMENTS */
BANDWIDTH = 180.0
CENTER_FILTER_WAVELENGTH = 677.0
RADIANCE_OFFSET = 0.817951
RADIANCE_SCALING_FACTOR = 0.0256612
REFLECTANCE_SCALING_FACTOR = 0.000765296
MEX:REFLECTANCE_OFFSET = 0.0243938
/* IMAGE OBJECT DEFINITIONS */
OBJECT = IMAGE
  INTERCHANGE_FORMAT = BINARY
  LINES = 59196
  LINE_SAMPLES = 8544
  SAMPLE_TYPE = UNSIGNED_INTEGER
  SAMPLE_BITS = 8
  BANDS = 1
  BAND_STORAGE_TYPE = BAND_SEQUENTIAL
  MAXIMUM = 255
  MEAN = 104.769
  MINIMUM = 1
  STANDARD_DEVIATION = 17.7087
END_OBJECT = IMAGE
/* MAP OBJECT DEFINITIONS */
OBJECT = IMAGE_MAP_PROJECTION
  ^DATA_SET_MAP_PROJECTION_CATALOG= "DSMAP.CAT"
  A_AXIS_RADIUS = 3396.0
  B_AXIS_RADIUS = 3396.0
  C_AXIS_RADIUS = 3396.0
  CENTER_LATITUDE = 0.0
  CENTER_LONGITUDE = 247.0
  COORDINATE_SYSTEM_NAME = PLANETOGRAPHIC
  COORDINATE_SYSTEM_TYPE = "BODY-FIXED ROTATING"
  EASTERNMOST_LONGITUDE = 247.499
  FIRST_STANDARD_PARALLEL = "N/A"
  LINE_FIRST_PIXEL = 1
  LINE_LAST_PIXEL = 59196
  LINE_PROJECTION_OFFSET = -29059.0
  MAP_PROJECTION_ROTATION = 0.0
  MAP_PROJECTION_TYPE = SINUSOIDAL
  MAP_RESOLUTION = 4741.71043093333
  MAP_SCALE = 0.0125
  MAXIMUM_LATITUDE = -6.07744
  MINIMUM_LATITUDE = -18.5927
  POSITIVE_LONGITUDE_DIRECTION = EAST
  REFERENCE_LATITUDE = "N/A"
  REFERENCE_LONGITUDE = "N/A"
  SAMPLE_FIRST_PIXEL = 1
  SAMPLE_LAST_PIXEL = 8544
  SAMPLE_PROJECTION_OFFSET = 6313.0
  SECOND_STANDARD_PARALLEL = "N/A"
  WESTERNMOST_LONGITUDE = 245.642
END_OBJECT = IMAGE_MAP_PROJECTION
/* The JPEG2000 image data file associated with this label. */
OBJECT = COMPRESSED_FILE
  FILE_NAME = "H8410_0000_S13.JP2"
  RECORD_TYPE = UNDEFINED
  FILE_RECORDS = UNK
  ENCODING_TYPE = "JP2"
  INTERCHANGE_FORMAT = BINARY
  UNCOMPRESSED_FILE_NAME = "H8410_0000_S13.IMG"
  REQUIRED_STORAGE_BYTES = "505804800"
  ^DESCRIPTION = "JP2INFO.TXT"
END_OBJECT = COMPRESSED_FILE
END
