PDS_VERSION_ID = PDS3
/* FILE DATA ELEMENTS */
RECORD_TYPE = STREAM
/* POINTERS TO DATA OBJECTS */
^COMPRESSED_FILE = "H8412_0000_RE3.JP2"
/* IDENTIFICATION DATA ELEMENTS */
DATA_SET_ID = "MEX-M-HRSC-5-REFDR-MAPPROJECTED-V3.0"
DATA_SET_NAME = "MARS EXPRESS HRSC MAP PROJECTED REFDR V3.0"
DETECTOR_ID = MEX_HRSC_RED
EVENT_TYPE = "MARS-REGIONAL-MAPPING-Te-Im-Fl"
INSTRUMENT_HOST_ID = MEX
INSTRUMENT_HOST_NAME = "MARS EXPRESS"
INSTRUMENT_ID = HRSC
INSTRUMENT_NAME = "HIGH RESOLUTION STEREO CAMERA"
MISSION_NAME = "MARS EXPRESS"
MISSION_PHASE_NAME = ME_Phase_21
PROCESSING_LEVEL_ID = 3
PRODUCT_CREATION_TIME = 2016-10-25T14:43:05.000Z
PRODUCT_ID = "H8412_0000_RE3.JP2"
RELEASE_ID = 0091
REVISION_ID = 0000
/* QUALITY DATA ELEMENTS */
DATA_QUALITY_ID = 1
DATA_QUALITY_DESC = "Data calculated based on original SPICE kernels"
/* TIME DATA ELEMENTS */
SPACECRAFT_CLOCK_START_COUNT = "1/0228507454.09054"
SPACECRAFT_CLOCK_STOP_COUNT = "1/0228507773.21776"
START_TIME = 2010-07-29T18:17:43.051Z
STOP_TIME = 2010-07-29T18:20:59.981Z
/* ORBITAL DATA ELEMENTS */
ASCENDING_NODE_LONGITUDE = 56.64
MAXIMUM_RESOLUTION = 68
FOOTPRINT_POINT_LATITUDE = (-12.6655,-12.6523,-12.637,-12.5214, -12.0771,-11.7441,-11.4006,-11.0625, -10.8354,-10.6081,-10.3756,-10.1433, -9.79484,-9.56269,-9.32498,-8.9685, -8.72879,-8.36961,-8.12644,-7.88377, -7.64079,-7.39398,-7.14651,-6.89869, -6.65153,-6.39503,-6.1458,-5.89365, -5.5093,-5.25105,-4.99344,-4.6005, -4.33834,-3.94227,-3.67527,-3.2736, -2.86676,-2.59458,-2.31884,-2.04202, -1.76481,-1.48376,-1.20042,-0.918279, -0.632999,-0.346748,-0.0568605, -0.0287415,-0.03684,-0.0418148, -0.0421108,-0.0470369,-0.342458, -0.62807,-0.914795,-1.19905,-1.48147, -1.76301,-2.03993,-2.31766,-2.59425, -2.86847,-3.2777,-3.54556,-3.81186, -4.21051,-4.47341,-4.73627,-4.99841, -5.25623,-5.51496,-5.77293,-6.02627, -6.27846,-6.53104,-6.9086,-7.15671, -7.40551,-7.65296,-7.8962,-8.26149, -8.50516,-8.74585,-8.97921,-9.21429, -9.45339,-9.69605,-9.92794,-10.1605, -10.3932,-10.6256,-10.8539,-11.081, -11.309,-11.5371,-11.8761,-12.0984, -12.321,-12.5433,-12.6655)
FOOTPRINT_POINT_LONGITUDE = (41.7953,41.3568,40.9115,40.5046,40.497 ,40.4911,40.4829,40.4786,40.4743, 40.4696,40.4649,40.4603,40.4529,40.4479 ,40.4426,40.4344,40.4272,40.4191, 40.4129,40.4067,40.4001,40.3936,40.3872 ,40.3804,40.3738,40.364,40.3592,40.3522 ,40.3404,40.3323,40.3243,40.3116, 40.3035,40.2905,40.282,40.2679,40.2548, 40.2451,40.2349,40.2251,40.2147,40.2043 ,40.1927,40.1823,40.1721,40.1609, 40.1495,40.5509,40.9328,41.2391,41.6675 ,41.9519,42.0792,42.077,42.0748,42.0725 ,42.0703,42.0681,42.066,42.0638,42.0617 ,42.0596,42.0565,42.0544,42.0525, 42.0495,42.0476,42.0456,42.0437,42.0417 ,42.0398,42.0379,42.036,42.0342,42.0323 ,42.0295,42.0277,42.0258,42.024,42.0222 ,42.0195,42.0177,42.0159,42.0141, 42.0123,42.0105,42.0088,42.007,42.0052, 42.0034,42.0016,41.9999,41.9981,41.9964 ,41.9946,41.9919,41.9902,41.9884, 41.9866,41.7953)
ORBIT_NUMBER = 8412
ORBITAL_ECCENTRICITY = 0.579
ORBITAL_INCLINATION = 86.82
ORBITAL_SEMIMAJOR_AXIS = 8828.25
PERIAPSIS_ALTITUDE = 324.3
PERIAPSIS_ARGUMENT_ANGLE = 324.54
PERIAPSIS_TIME = 2010-07-29T18:12:23.000Z
SPACECRAFT_ORIENTATION = (0.0,1.0,0.0)
^MEX_ORIENTATION_DESC = "MEX_ORIENTATION_DESC.TXT"
SPACECRAFT_POINTING_MODE = ACROSSTRACK
^MEX_POINTING_DESC = "MEX_POINTING_DESC.TXT"
RIGHT_ASCENSION = -1e+32
DECLINATION = -1e+32
OFFSET_ANGLE = 0.75
SPACECRAFT_SOLAR_DISTANCE = 2.38995e+08
TARGET_NAME = MARS
/* CAMERA DATA ELEMENTS */
DETECTOR_TEMPERATURE = 18.1666
FOCAL_PLANE_TEMPERATURE = 7.7677
INST_CMPRS_NAME = "DISCRETE COSINE TRANSFORMATION (DCT)"
INST_CMPRS_RATIO = 9.24667
INST_CMPRS_QUALITY = 0
INST_CMPRS_QUANTZ_TBL_ID = 0
INSTRUMENT_TEMPERATURE = 11.0301
LENS_TEMPERATURE = 8.1755
MACROPIXEL_SIZE = 4
MISSING_FRAMES = 0
PIXEL_SUBSAMPLING_FLAG = N
SIGNAL_CHAIN_ID = 2
/* RADIOMETRIC DATA ELEMENTS */
BANDWIDTH = 48.0
CENTER_FILTER_WAVELENGTH = 748.0
RADIANCE_OFFSET = 0.248636
RADIANCE_SCALING_FACTOR = 0.00682531
REFLECTANCE_SCALING_FACTOR = 0.000889666
MEX:REFLECTANCE_OFFSET = 0.0324093
/* IMAGE OBJECT DEFINITIONS */
OBJECT = IMAGE
  INTERCHANGE_FORMAT = BINARY
  LINES = 14974
  LINE_SAMPLES = 2532
  SAMPLE_TYPE = UNSIGNED_INTEGER
  SAMPLE_BITS = 8
  BANDS = 1
  BAND_STORAGE_TYPE = BAND_SEQUENTIAL
  MAXIMUM = 255
  MEAN = 113.665
  MINIMUM = 1
  STANDARD_DEVIATION = 24.9305
END_OBJECT = IMAGE
/* MAP OBJECT DEFINITIONS */
OBJECT = IMAGE_MAP_PROJECTION
  ^DATA_SET_MAP_PROJECTION_CATALOG= "DSMAP.CAT"
  A_AXIS_RADIUS = 3396.0
  B_AXIS_RADIUS = 3396.0
  C_AXIS_RADIUS = 3396.0
  CENTER_LATITUDE = 0.0
  CENTER_LONGITUDE = 41.0
  COORDINATE_SYSTEM_NAME = PLANETOGRAPHIC
  COORDINATE_SYSTEM_TYPE = "BODY-FIXED ROTATING"
  EASTERNMOST_LONGITUDE = 42.0792
  FIRST_STANDARD_PARALLEL = "N/A"
  LINE_FIRST_PIXEL = 1
  LINE_LAST_PIXEL = 14974
  LINE_PROJECTION_OFFSET = -19.875
  MAP_PROJECTION_ROTATION = 0.0
  MAP_PROJECTION_TYPE = SINUSOIDAL
  MAP_RESOLUTION = 1185.42760773333
  MAP_SCALE = 0.05
  MAXIMUM_LATITUDE = -0.028741
  MINIMUM_LATITUDE = -12.6655
  POSITIVE_LONGITUDE_DIRECTION = EAST
  REFERENCE_LATITUDE = "N/A"
  REFERENCE_LONGITUDE = "N/A"
  SAMPLE_FIRST_PIXEL = 1
  SAMPLE_LAST_PIXEL = 2532
  SAMPLE_PROJECTION_OFFSET = 1154.125
  SECOND_STANDARD_PARALLEL = "N/A"
  WESTERNMOST_LONGITUDE = 40.1495
END_OBJECT = IMAGE_MAP_PROJECTION
/* The JPEG2000 image data file associated with this label. */
OBJECT = COMPRESSED_FILE
  FILE_NAME = "H8412_0000_RE3.JP2"
  RECORD_TYPE = UNDEFINED
  FILE_RECORDS = UNK
  ENCODING_TYPE = "JP2"
  INTERCHANGE_FORMAT = BINARY
  UNCOMPRESSED_FILE_NAME = "H8412_0000_RE3.IMG"
  REQUIRED_STORAGE_BYTES = "37934424"
  ^DESCRIPTION = "JP2INFO.TXT"
END_OBJECT = COMPRESSED_FILE
END
