PDS_VERSION_ID = PDS3
/* FILE DATA ELEMENTS */
RECORD_TYPE = STREAM
/* POINTERS TO DATA OBJECTS */
^COMPRESSED_FILE = "H8425_0000_ND3.JP2"
/* IDENTIFICATION DATA ELEMENTS */
DATA_SET_ID = "MEX-M-HRSC-5-REFDR-MAPPROJECTED-V3.0"
DATA_SET_NAME = "MARS EXPRESS HRSC MAP PROJECTED REFDR V3.0"
DETECTOR_ID = MEX_HRSC_NADIR
EVENT_TYPE = "MARS-REGIONAL-MAPPING-Fl-Eo-Mw"
INSTRUMENT_HOST_ID = MEX
INSTRUMENT_HOST_NAME = "MARS EXPRESS"
INSTRUMENT_ID = HRSC
INSTRUMENT_NAME = "HIGH RESOLUTION STEREO CAMERA"
MISSION_NAME = "MARS EXPRESS"
MISSION_PHASE_NAME = ME_Phase_21
PROCESSING_LEVEL_ID = 3
PRODUCT_CREATION_TIME = 2016-10-25T14:43:05.000Z
PRODUCT_ID = "H8425_0000_ND3.JP2"
RELEASE_ID = 0091
REVISION_ID = 0000
/* QUALITY DATA ELEMENTS */
DATA_QUALITY_ID = 1
DATA_QUALITY_DESC = "Data calculated based on original SPICE kernels"
/* TIME DATA ELEMENTS */
SPACECRAFT_CLOCK_START_COUNT = "1/0228834734.09064"
SPACECRAFT_CLOCK_STOP_COUNT = "1/0228835110.06611"
START_TIME = 2010-08-02T13:12:51.439Z
STOP_TIME = 2010-08-02T13:17:23.428Z
/* ORBITAL DATA ELEMENTS */
ASCENDING_NODE_LONGITUDE = 56.38
MAXIMUM_RESOLUTION = 15.7
FOOTPRINT_POINT_LATITUDE = (-18.8251,-18.8271,-18.8276,-18.6828, -18.3942,-18.1059,-17.818,-17.5304, -17.2432,-16.9563,-16.6651,-16.3713, -16.0779,-15.785,-15.3363,-15.0367, -14.7375,-14.28,-13.9744,-13.6692, -13.357,-13.0452,-12.5752,-12.2572, -11.9399,-11.6187,-11.295,-10.9718, -10.6423,-10.1486,-9.81355,-9.31105, -8.96958,-8.62886,-8.10993,-7.76347, -7.41079,-7.05898,-6.70071,-6.16084, -5.79751,-5.43018,-5.06154,-4.68771, -4.12277,-3.55061,-3.16578,-2.77581, -2.38071,-2.37641,-2.36924,-2.36449, -2.35832,-2.35119,-2.74398,-3.13474, -3.52037,-4.09367,-4.65973,-5.03428, -5.40365,-5.77166,-6.13568,-6.67658, -7.03555,-7.38804,-7.74132,-8.08842, -8.60832,-8.9495,-9.29154,-9.62709, -10.1306,-10.6252,-10.9553,-11.2789, -11.6031,-11.9248,-12.4019,-12.7203, -13.032,-13.3442,-13.6569,-13.9625, -14.2686,-14.7268,-15.0264,-15.3264, -15.7758,-16.0692,-16.363,-16.6572, -16.9488,-17.236,-17.5236,-17.8116, -18.0999,-18.3886,-18.6776,-18.8251)
FOOTPRINT_POINT_LONGITUDE = (152.794,152.266,151.926,151.704,151.7, 151.696,151.691,151.687,151.682,151.677 ,151.672,151.667,151.661,151.656, 151.646,151.641,151.634,151.624,151.617 ,151.61,151.603,151.595,151.584,151.576 ,151.567,151.559,151.551,151.541, 151.532,151.518,151.508,151.492,151.481 ,151.47,151.452,151.44,151.428,151.417, 151.404,151.385,151.372,151.358,151.344 ,151.33,151.308,151.284,151.269,151.253 ,151.398,151.681,152.147,152.45,152.836 ,153.293,153.289,153.285,153.281, 153.275,153.27,153.267,153.263,153.259, 153.256,153.25,153.246,153.243,153.241, 153.237,153.23,153.23,153.226,153.222, 153.216,153.211,153.208,153.206,153.205 ,153.202,153.198,153.196,153.194, 153.191,153.189,153.187,153.184,153.18, 153.178,153.176,153.173,153.171,153.169 ,153.166,153.164,153.163,153.161, 153.159,153.157,153.155,153.154, 152.794)
ORBIT_NUMBER = 8425
ORBITAL_ECCENTRICITY = 0.579
ORBITAL_INCLINATION = 86.82
ORBITAL_SEMIMAJOR_AXIS = 8821.42
PERIAPSIS_ALTITUDE = 324.34
PERIAPSIS_ARGUMENT_ANGLE = 322.33
PERIAPSIS_TIME = 2010-08-02T13:08:02.000Z
SPACECRAFT_ORIENTATION = (0.0,1.0,0.0)
^MEX_ORIENTATION_DESC = "MEX_ORIENTATION_DESC.TXT"
SPACECRAFT_POINTING_MODE = ACROSSTRACK
^MEX_POINTING_DESC = "MEX_POINTING_DESC.TXT"
RIGHT_ASCENSION = -1e+32
DECLINATION = -1e+32
OFFSET_ANGLE = -0.17
SPACECRAFT_SOLAR_DISTANCE = 2.38388e+08
TARGET_NAME = MARS
/* CAMERA DATA ELEMENTS */
DETECTOR_TEMPERATURE = 18.5744
FOCAL_PLANE_TEMPERATURE = 8.5833
INST_CMPRS_NAME = "DISCRETE COSINE TRANSFORMATION (DCT)"
INST_CMPRS_RATIO = 4.82063
INST_CMPRS_QUALITY = 0
INST_CMPRS_QUANTZ_TBL_ID = 0
INSTRUMENT_TEMPERATURE = 11.4379
LENS_TEMPERATURE = 8.9911
MACROPIXEL_SIZE = 1
MISSING_FRAMES = 0
PIXEL_SUBSAMPLING_FLAG = N
SIGNAL_CHAIN_ID = 0
/* RADIOMETRIC DATA ELEMENTS */
BANDWIDTH = 177.0
CENTER_FILTER_WAVELENGTH = 677.5
RADIANCE_OFFSET = 0.681338
RADIANCE_SCALING_FACTOR = 0.0225777
REFLECTANCE_SCALING_FACTOR = 0.0006816
MEX:REFLECTANCE_OFFSET = 0.020569
/* IMAGE OBJECT DEFINITIONS */
OBJECT = IMAGE
  INTERCHANGE_FORMAT = BINARY
  LINES = 78126
  LINE_SAMPLES = 10071
  SAMPLE_TYPE = UNSIGNED_INTEGER
  SAMPLE_BITS = 8
  BANDS = 1
  BAND_STORAGE_TYPE = BAND_SEQUENTIAL
  MAXIMUM = 255
  MEAN = 119.55
  MINIMUM = 1
  STANDARD_DEVIATION = 33.8093
END_OBJECT = IMAGE
/* MAP OBJECT DEFINITIONS */
OBJECT = IMAGE_MAP_PROJECTION
  ^DATA_SET_MAP_PROJECTION_CATALOG= "DSMAP.CAT"
  A_AXIS_RADIUS = 3396.0
  B_AXIS_RADIUS = 3396.0
  C_AXIS_RADIUS = 3396.0
  CENTER_LATITUDE = 0.0
  CENTER_LONGITUDE = 152.0
  COORDINATE_SYSTEM_NAME = PLANETOGRAPHIC
  COORDINATE_SYSTEM_TYPE = "BODY-FIXED ROTATING"
  EASTERNMOST_LONGITUDE = 153.293
  FIRST_STANDARD_PARALLEL = "N/A"
  LINE_FIRST_PIXEL = 1
  LINE_LAST_PIXEL = 78126
  LINE_PROJECTION_OFFSET = -11151.0
  MAP_PROJECTION_ROTATION = 0.0
  MAP_PROJECTION_TYPE = SINUSOIDAL
  MAP_RESOLUTION = 4741.71043093333
  MAP_SCALE = 0.0125
  MAXIMUM_LATITUDE = -2.35119
  MINIMUM_LATITUDE = -18.8276
  POSITIVE_LONGITUDE_DIRECTION = EAST
  REFERENCE_LATITUDE = "N/A"
  REFERENCE_LONGITUDE = "N/A"
  SAMPLE_FIRST_PIXEL = 1
  SAMPLE_LAST_PIXEL = 10071
  SAMPLE_PROJECTION_OFFSET = 3734.0
  SECOND_STANDARD_PARALLEL = "N/A"
  WESTERNMOST_LONGITUDE = 151.253
END_OBJECT = IMAGE_MAP_PROJECTION
/* The JPEG2000 image data file associated with this label. */
OBJECT = COMPRESSED_FILE
  FILE_NAME = "H8425_0000_ND3.JP2"
  RECORD_TYPE = UNDEFINED
  FILE_RECORDS = UNK
  ENCODING_TYPE = "JP2"
  INTERCHANGE_FORMAT = BINARY
  UNCOMPRESSED_FILE_NAME = "H8425_0000_ND3.IMG"
  REQUIRED_STORAGE_BYTES = "786837159"
  ^DESCRIPTION = "JP2INFO.TXT"
END_OBJECT = COMPRESSED_FILE
END
