PDS_VERSION_ID = PDS3
/* FILE DATA ELEMENTS */
RECORD_TYPE = STREAM
/* POINTERS TO DATA OBJECTS */
^COMPRESSED_FILE = "H8426_0000_P23.JP2"
/* IDENTIFICATION DATA ELEMENTS */
DATA_SET_ID = "MEX-M-HRSC-5-REFDR-MAPPROJECTED-V3.0"
DATA_SET_NAME = "MARS EXPRESS HRSC MAP PROJECTED REFDR V3.0"
DETECTOR_ID = MEX_HRSC_P2
EVENT_TYPE = "MARS-REGIONAL-MAPPING-Te-Im-Fl"
INSTRUMENT_HOST_ID = MEX
INSTRUMENT_HOST_NAME = "MARS EXPRESS"
INSTRUMENT_ID = HRSC
INSTRUMENT_NAME = "HIGH RESOLUTION STEREO CAMERA"
MISSION_NAME = "MARS EXPRESS"
MISSION_PHASE_NAME = ME_Phase_21
PROCESSING_LEVEL_ID = 3
PRODUCT_CREATION_TIME = 2016-10-25T14:43:05.000Z
PRODUCT_ID = "H8426_0000_P23.JP2"
RELEASE_ID = 0091
REVISION_ID = 0000
/* QUALITY DATA ELEMENTS */
DATA_QUALITY_ID = 1
DATA_QUALITY_DESC = "Data calculated based on original SPICE kernels"
/* TIME DATA ELEMENTS */
SPACECRAFT_CLOCK_START_COUNT = "1/0228859865.07283"
SPACECRAFT_CLOCK_STOP_COUNT = "1/0228860104.53465"
START_TIME = 2010-08-02T20:11:18.641Z
STOP_TIME = 2010-08-02T20:13:51.020Z
/* ORBITAL DATA ELEMENTS */
ASCENDING_NODE_LONGITUDE = 56.36
MAXIMUM_RESOLUTION = 59.3
FOOTPRINT_POINT_LATITUDE = (-22.1156,-22.1114,-22.1068,-22.1018, -22.0963,-22.0904,-22.0808,-21.7444, -21.5756,-21.3225,-21.1538,-20.9854, -20.7845,-20.4834,-20.1825,-19.9822, -19.6818,-19.4816,-19.1818,-18.9818, -18.783,-18.4857,-18.1867,-17.8866, -17.6866,-17.4868,-17.1873,-16.9882, -16.6895,-16.491,-16.1934,-15.9953, -15.797,-15.5989,-15.4011,-15.1983, -14.9952,-14.7887,-14.5845,-14.382, -14.1815,-13.9713,-13.765,-13.5576, -13.35,-13.1398,-12.9273,-12.6107, -12.2921,-12.1875,-12.1914,-12.197, -12.1994,-12.2018,-12.3104,-12.5226, -12.7362,-12.9494,-13.2661,-13.4727, -13.6816,-13.995,-14.3057,-14.5093, -14.7126,-14.9162,-15.1197,-15.3235, -15.5246,-15.7205,-15.9191,-16.1192, -16.3175,-16.5166,-16.7151,-16.9141, -17.1137,-17.4129,-17.7128,-17.9134, -18.113,-18.3072,-18.506,-18.7058, -18.9061,-19.1106,-19.3132,-19.5128, -19.7133,-19.914,-20.2149,-20.4156, -20.6166,-20.8175,-21.0177,-21.1862, -21.3548,-21.6915,-21.9451,-22.1156)
FOOTPRINT_POINT_LONGITUDE = (49.9827,49.7818,49.5798,49.3766, 49.1722,48.9666,48.7416,48.7418,48.7412 ,48.7402,48.7395,48.7389,48.7378, 48.7366,48.7352,48.7344,48.7329,48.7317 ,48.7301,48.7288,48.7282,48.7279, 48.7258,48.7224,48.7201,48.7177,48.7141 ,48.7119,48.7083,48.7061,48.7028, 48.7006,48.6981,48.6956,48.6931,48.6902 ,48.6873,48.6817,48.6777,48.6748, 48.6737,48.6686,48.6662,48.6629,48.6592 ,48.6534,48.6491,48.6446,48.6381, 48.8713,49.1214,49.5158,49.7336,49.9214 ,50.1988,50.1972,50.1953,50.1936,50.191 ,50.1894,50.1876,50.1849,50.1823, 50.1805,50.1788,50.1771,50.1754,50.1737 ,50.1719,50.1705,50.1688,50.1669, 50.1652,50.1634,50.1617,50.16,50.1581, 50.1554,50.1525,50.1506,50.1487,50.1475 ,50.1457,50.1438,50.1419,50.1395, 50.1372,50.1354,50.1334,50.1313,50.1283 ,50.1262,50.1241,50.122,50.12,50.1182, 50.1164,50.1128,50.11,49.9827)
ORBIT_NUMBER = 8426
ORBITAL_ECCENTRICITY = 0.579
ORBITAL_INCLINATION = 86.83
ORBITAL_SEMIMAJOR_AXIS = 8823.55
PERIAPSIS_ALTITUDE = 323.61
PERIAPSIS_ARGUMENT_ANGLE = 322.15
PERIAPSIS_TIME = 2010-08-02T20:07:40.000Z
SPACECRAFT_ORIENTATION = (0.0,1.0,0.0)
^MEX_ORIENTATION_DESC = "MEX_ORIENTATION_DESC.TXT"
SPACECRAFT_POINTING_MODE = ACROSSTRACK
^MEX_POINTING_DESC = "MEX_POINTING_DESC.TXT"
RIGHT_ASCENSION = -1e+32
DECLINATION = -1e+32
OFFSET_ANGLE = 0.5
SPACECRAFT_SOLAR_DISTANCE = 2.38341e+08
TARGET_NAME = MARS
/* CAMERA DATA ELEMENTS */
DETECTOR_TEMPERATURE = 18.3705
FOCAL_PLANE_TEMPERATURE = 8.9911
INST_CMPRS_NAME = "DISCRETE COSINE TRANSFORMATION (DCT)"
INST_CMPRS_RATIO = 4.77254
INST_CMPRS_QUALITY = 0
INST_CMPRS_QUANTZ_TBL_ID = 0
INSTRUMENT_TEMPERATURE = 11.234
LENS_TEMPERATURE = 8.5833
MACROPIXEL_SIZE = 4
MISSING_FRAMES = 0
PIXEL_SUBSAMPLING_FLAG = N
SIGNAL_CHAIN_ID = 3
/* RADIOMETRIC DATA ELEMENTS */
BANDWIDTH = 177.0
CENTER_FILTER_WAVELENGTH = 676.5
RADIANCE_OFFSET = 0.761318
RADIANCE_SCALING_FACTOR = 0.0159541
REFLECTANCE_SCALING_FACTOR = 0.000480535
MEX:REFLECTANCE_OFFSET = 0.0229308
/* IMAGE OBJECT DEFINITIONS */
OBJECT = IMAGE
  INTERCHANGE_FORMAT = BINARY
  LINES = 11751
  LINE_SAMPLES = 1976
  SAMPLE_TYPE = UNSIGNED_INTEGER
  SAMPLE_BITS = 8
  BANDS = 1
  BAND_STORAGE_TYPE = BAND_SEQUENTIAL
  MAXIMUM = 255
  MEAN = 93.7227
  MINIMUM = 1
  STANDARD_DEVIATION = 21.0081
END_OBJECT = IMAGE
/* MAP OBJECT DEFINITIONS */
OBJECT = IMAGE_MAP_PROJECTION
  ^DATA_SET_MAP_PROJECTION_CATALOG= "DSMAP.CAT"
  A_AXIS_RADIUS = 3396.0
  B_AXIS_RADIUS = 3396.0
  C_AXIS_RADIUS = 3396.0
  CENTER_LATITUDE = 0.0
  CENTER_LONGITUDE = 49.0
  COORDINATE_SYSTEM_NAME = PLANETOGRAPHIC
  COORDINATE_SYSTEM_TYPE = "BODY-FIXED ROTATING"
  EASTERNMOST_LONGITUDE = 50.1988
  FIRST_STANDARD_PARALLEL = "N/A"
  LINE_FIRST_PIXEL = 1
  LINE_LAST_PIXEL = 11751
  LINE_PROJECTION_OFFSET = -14444.375
  MAP_PROJECTION_ROTATION = 0.0
  MAP_PROJECTION_TYPE = SINUSOIDAL
  MAP_RESOLUTION = 1185.42760773333
  MAP_SCALE = 0.05
  MAXIMUM_LATITUDE = -12.1875
  MINIMUM_LATITUDE = -22.1156
  POSITIVE_LONGITUDE_DIRECTION = EAST
  REFERENCE_LATITUDE = "N/A"
  REFERENCE_LONGITUDE = "N/A"
  SAMPLE_FIRST_PIXEL = 1
  SAMPLE_LAST_PIXEL = 1976
  SAMPLE_PROJECTION_OFFSET = 535.625
  SECOND_STANDARD_PARALLEL = "N/A"
  WESTERNMOST_LONGITUDE = 48.6381
END_OBJECT = IMAGE_MAP_PROJECTION
/* The JPEG2000 image data file associated with this label. */
OBJECT = COMPRESSED_FILE
  FILE_NAME = "H8426_0000_P23.JP2"
  RECORD_TYPE = UNDEFINED
  FILE_RECORDS = UNK
  ENCODING_TYPE = "JP2"
  INTERCHANGE_FORMAT = BINARY
  UNCOMPRESSED_FILE_NAME = "H8426_0000_P23.IMG"
  REQUIRED_STORAGE_BYTES = "23239736"
  ^DESCRIPTION = "JP2INFO.TXT"
END_OBJECT = COMPRESSED_FILE
END
