PDS_VERSION_ID = PDS3
/* FILE DATA ELEMENTS */
RECORD_TYPE = STREAM
/* POINTERS TO DATA OBJECTS */
^COMPRESSED_FILE = "H8426_0000_S13.JP2"
/* IDENTIFICATION DATA ELEMENTS */
DATA_SET_ID = "MEX-M-HRSC-5-REFDR-MAPPROJECTED-V3.0"
DATA_SET_NAME = "MARS EXPRESS HRSC MAP PROJECTED REFDR V3.0"
DETECTOR_ID = MEX_HRSC_S1
EVENT_TYPE = "MARS-REGIONAL-MAPPING-Te-Im-Fl"
INSTRUMENT_HOST_ID = MEX
INSTRUMENT_HOST_NAME = "MARS EXPRESS"
INSTRUMENT_ID = HRSC
INSTRUMENT_NAME = "HIGH RESOLUTION STEREO CAMERA"
MISSION_NAME = "MARS EXPRESS"
MISSION_PHASE_NAME = ME_Phase_21
PROCESSING_LEVEL_ID = 3
PRODUCT_CREATION_TIME = 2016-10-25T14:43:05.000Z
PRODUCT_ID = "H8426_0000_S13.JP2"
RELEASE_ID = 0091
REVISION_ID = 0000
/* QUALITY DATA ELEMENTS */
DATA_QUALITY_ID = 1
DATA_QUALITY_DESC = "Data calculated based on original SPICE kernels"
/* TIME DATA ELEMENTS */
SPACECRAFT_CLOCK_START_COUNT = "1/0228859865.07283"
SPACECRAFT_CLOCK_STOP_COUNT = "1/0228860104.53465"
START_TIME = 2010-08-02T20:12:15.842Z
STOP_TIME = 2010-08-02T20:15:05.420Z
/* ORBITAL DATA ELEMENTS */
ASCENDING_NODE_LONGITUDE = 56.36
MAXIMUM_RESOLUTION = 32.7
FOOTPRINT_POINT_LATITUDE = (-22.0594,-22.0651,-22.0708,-22.0765, -22.0822,-22.0906,-21.901,-21.7114, -21.523,-21.241,-20.9587,-20.6783, -20.4907,-20.3035,-20.1163,-19.9294, -19.7425,-19.5561,-19.3697,-19.1791, -18.9884,-18.7024,-18.4124,-18.1252, -17.9321,-17.6429,-17.3547,-17.0605, -16.8636,-16.6667,-16.3715,-16.1705, -15.9697,-15.7694,-15.4689,-15.265, -15.061,-14.8578,-14.6594,-14.4539, -14.2425,-14.0377,-13.8301,-13.6205, -13.4104,-13.2034,-12.9953,-12.7795, -12.5657,-12.1974,-12.1875,-12.1791, -12.1648,-12.1517,-12.1454,-12.3592, -12.6784,-12.892,-13.2083,-13.423, -13.6333,-13.9393,-14.1462,-14.3534, -14.5605,-14.7636,-14.9673,-15.1715, -15.3755,-15.577,-15.7784,-16.079, -16.3799,-16.5771,-16.7753,-17.071, -17.3653,-17.5585,-17.7513,-17.9451, -18.1445,-18.4361,-18.6264,-18.8174, -19.0076,-19.2846,-19.4726,-19.6592, -19.8461,-20.0331,-20.2208,-20.4086, -20.5963,-20.7845,-20.9735,-21.2569, -21.4458,-21.6355,-21.9194,-22.0594)
FOOTPRINT_POINT_LONGITUDE = (49.8776,49.6529,49.4268,49.1996, 48.9708,48.6911,48.6904,48.6897,48.6883 ,48.686,48.684,48.6811,48.6797,48.678, 48.6765,48.6749,48.6733,48.6715,48.6698 ,48.6679,48.6658,48.6629,48.6624, 48.6583,48.6553,48.6506,48.6456,48.6408 ,48.6376,48.6344,48.6298,48.6267, 48.6232,48.6197,48.6145,48.6105,48.6066 ,48.6024,48.5958,48.5911,48.5888, 48.5833,48.5793,48.5746,48.5696,48.5632 ,48.5573,48.553,48.548,48.6238,48.9334, 49.1898,49.6316,50.0364,50.2941,50.2911 ,50.2866,50.2835,50.2792,50.277,50.274, 50.269,50.2661,50.2633,50.2604,50.2576, 50.2549,50.2521,50.2493,50.2467,50.2441 ,50.2399,50.236,50.2334,50.2308,50.2267 ,50.2228,50.2201,50.2173,50.2147, 50.2125,50.2091,50.2065,50.2039,50.2012 ,50.1962,50.1937,50.1911,50.1885, 50.1859,50.1833,50.1806,50.1779,50.1752 ,50.1726,50.1686,50.1658,50.1631, 50.1589,49.8776)
ORBIT_NUMBER = 8426
ORBITAL_ECCENTRICITY = 0.579
ORBITAL_INCLINATION = 86.83
ORBITAL_SEMIMAJOR_AXIS = 8823.55
PERIAPSIS_ALTITUDE = 323.61
PERIAPSIS_ARGUMENT_ANGLE = 322.15
PERIAPSIS_TIME = 2010-08-02T20:07:40.000Z
SPACECRAFT_ORIENTATION = (0.0,1.0,0.0)
^MEX_ORIENTATION_DESC = "MEX_ORIENTATION_DESC.TXT"
SPACECRAFT_POINTING_MODE = ACROSSTRACK
^MEX_POINTING_DESC = "MEX_POINTING_DESC.TXT"
RIGHT_ASCENSION = -1e+32
DECLINATION = -1e+32
OFFSET_ANGLE = 0.5
SPACECRAFT_SOLAR_DISTANCE = 2.38341e+08
TARGET_NAME = MARS
/* CAMERA DATA ELEMENTS */
DETECTOR_TEMPERATURE = 17.351
FOCAL_PLANE_TEMPERATURE = 8.9911
INST_CMPRS_NAME = "DISCRETE COSINE TRANSFORMATION (DCT)"
INST_CMPRS_RATIO = 5.96035
INST_CMPRS_QUALITY = 0
INST_CMPRS_QUANTZ_TBL_ID = 0
INSTRUMENT_TEMPERATURE = 11.234
LENS_TEMPERATURE = 8.5833
MACROPIXEL_SIZE = 2
MISSING_FRAMES = 0
PIXEL_SUBSAMPLING_FLAG = N
SIGNAL_CHAIN_ID = 1
/* RADIOMETRIC DATA ELEMENTS */
BANDWIDTH = 180.0
CENTER_FILTER_WAVELENGTH = 677.0
RADIANCE_OFFSET = 0.944401
RADIANCE_SCALING_FACTOR = 0.0171016
REFLECTANCE_SCALING_FACTOR = 0.000506845
MEX:REFLECTANCE_OFFSET = 0.0279894
/* IMAGE OBJECT DEFINITIONS */
OBJECT = IMAGE
  INTERCHANGE_FORMAT = BINARY
  LINES = 23501
  LINE_SAMPLES = 3952
  SAMPLE_TYPE = UNSIGNED_INTEGER
  SAMPLE_BITS = 8
  BANDS = 1
  BAND_STORAGE_TYPE = BAND_SEQUENTIAL
  MAXIMUM = 255
  MEAN = 98.2326
  MINIMUM = 1
  STANDARD_DEVIATION = 22.2182
END_OBJECT = IMAGE
/* MAP OBJECT DEFINITIONS */
OBJECT = IMAGE_MAP_PROJECTION
  ^DATA_SET_MAP_PROJECTION_CATALOG= "DSMAP.CAT"
  A_AXIS_RADIUS = 3396.0
  B_AXIS_RADIUS = 3396.0
  C_AXIS_RADIUS = 3396.0
  CENTER_LATITUDE = 0.0
  CENTER_LONGITUDE = 49.0
  COORDINATE_SYSTEM_NAME = PLANETOGRAPHIC
  COORDINATE_SYSTEM_TYPE = "BODY-FIXED ROTATING"
  EASTERNMOST_LONGITUDE = 50.2941
  FIRST_STANDARD_PARALLEL = "N/A"
  LINE_FIRST_PIXEL = 1
  LINE_LAST_PIXEL = 23501
  LINE_PROJECTION_OFFSET = -28888.25
  MAP_PROJECTION_ROTATION = 0.0
  MAP_PROJECTION_TYPE = SINUSOIDAL
  MAP_RESOLUTION = 2370.85521546667
  MAP_SCALE = 0.025
  MAXIMUM_LATITUDE = -12.1454
  MINIMUM_LATITUDE = -22.0906
  POSITIVE_LONGITUDE_DIRECTION = EAST
  REFERENCE_LATITUDE = "N/A"
  REFERENCE_LONGITUDE = "N/A"
  SAMPLE_FIRST_PIXEL = 1
  SAMPLE_LAST_PIXEL = 3952
  SAMPLE_PROJECTION_OFFSET = 1071.75
  SECOND_STANDARD_PARALLEL = "N/A"
  WESTERNMOST_LONGITUDE = 48.548
END_OBJECT = IMAGE_MAP_PROJECTION
/* The JPEG2000 image data file associated with this label. */
OBJECT = COMPRESSED_FILE
  FILE_NAME = "H8426_0000_S13.JP2"
  RECORD_TYPE = UNDEFINED
  FILE_RECORDS = UNK
  ENCODING_TYPE = "JP2"
  INTERCHANGE_FORMAT = BINARY
  UNCOMPRESSED_FILE_NAME = "H8426_0000_S13.IMG"
  REQUIRED_STORAGE_BYTES = "92899664"
  ^DESCRIPTION = "JP2INFO.TXT"
END_OBJECT = COMPRESSED_FILE
END
