PDS_VERSION_ID = PDS3
/* FILE DATA ELEMENTS */
RECORD_TYPE = STREAM
/* POINTERS TO DATA OBJECTS */
^COMPRESSED_FILE = "H8439_0000_IR3.JP2"
/* IDENTIFICATION DATA ELEMENTS */
DATA_SET_ID = "MEX-M-HRSC-5-REFDR-MAPPROJECTED-V3.0"
DATA_SET_NAME = "MARS EXPRESS HRSC MAP PROJECTED REFDR V3.0"
DETECTOR_ID = MEX_HRSC_IR
EVENT_TYPE = "MARS-REGIONAL-MAPPING-Im-Fl"
INSTRUMENT_HOST_ID = MEX
INSTRUMENT_HOST_NAME = "MARS EXPRESS"
INSTRUMENT_ID = HRSC
INSTRUMENT_NAME = "HIGH RESOLUTION STEREO CAMERA"
MISSION_NAME = "MARS EXPRESS"
MISSION_PHASE_NAME = ME_Phase_21
PROCESSING_LEVEL_ID = 3
PRODUCT_CREATION_TIME = 2016-10-25T14:43:05.000Z
PRODUCT_ID = "H8439_0000_IR3.JP2"
RELEASE_ID = 0091
REVISION_ID = 0000
/* QUALITY DATA ELEMENTS */
DATA_QUALITY_ID = 1
DATA_QUALITY_DESC = "Data calculated based on original SPICE kernels"
/* TIME DATA ELEMENTS */
SPACECRAFT_CLOCK_START_COUNT = "1/0229187269.07280"
SPACECRAFT_CLOCK_STOP_COUNT = "1/0229187497.45931"
START_TIME = 2010-08-06T15:09:01.898Z
STOP_TIME = 2010-08-06T15:11:28.408Z
/* ORBITAL DATA ELEMENTS */
ASCENDING_NODE_LONGITUDE = 56.11
MAXIMUM_RESOLUTION = 145
FOOTPRINT_POINT_LATITUDE = (-18.756,-18.7571,-18.7584,-18.7595, -18.7606,-18.7617,-18.772,-18.4665, -18.1613,-17.773,-17.6172,-17.4616, -17.3064,-17.0742,-16.9169,-16.7594, -16.5995,-16.3615,-16.2011,-16.0405, -15.8801,-15.7212,-15.479,-15.3165, -15.1532,-14.9909,-14.8283,-14.5806, -14.4149,-14.1676,-13.9186,-13.7503, -13.5827,-13.3322,-13.1632,-12.9922, -12.8215,-12.479,-12.2197,-12.0467, -11.8742,-11.6984,-11.4348,-11.2593, -10.9921,-10.8137,-10.6367,-10.4552, -10.4513,-10.4489,-10.4468,-10.4439, -10.4422,-10.4406,-10.438,-10.4385, -10.6183,-10.8857,-11.0638,-11.242, -11.5059,-11.6818,-11.9448,-12.1167, -12.2906,-12.4649,-12.6371,-12.8064, -12.9776,-13.148,-13.3184,-13.4867, -13.6552,-13.9058,-14.0744,-14.2387, -14.4044,-14.569,-14.7362,-14.8985, -15.0615,-15.2287,-15.4752,-15.6319, -15.7924,-16.034,-16.1953,-16.3562, -16.5135,-16.6707,-16.829,-16.9871, -17.1468,-17.3034,-17.613,-17.7688, -18.082,-18.3109,-18.6158,-18.756)
FOOTPRINT_POINT_LONGITUDE = (160.893,160.671,160.389,160.152, 159.915,159.662,159.458,159.452,159.447 ,159.439,159.436,159.434,159.43,159.424 ,159.421,159.417,159.414,159.41,159.406 ,159.402,159.399,159.394,159.389, 159.384,159.38,159.376,159.372,159.366, 159.361,159.354,159.347,159.342,159.338 ,159.33,159.325,159.32,159.315,159.305, 159.296,159.291,159.286,159.28,159.272, 159.266,159.257,159.252,159.245,159.326 ,159.577,159.9,160.115,160.366,160.528, 160.689,160.94,161.15,161.147,161.144, 161.142,161.139,161.136,161.134,161.131 ,161.128,161.126,161.124,161.122, 161.119,161.117,161.115,161.113,161.111 ,161.109,161.105,161.103,161.101, 161.099,161.096,161.094,161.092,161.09, 161.09,161.087,161.083,161.082,161.079, 161.077,161.075,161.073,161.071,161.069 ,161.067,161.066,161.064,161.06,161.059 ,161.056,161.053,161.049,160.893)
ORBIT_NUMBER = 8439
ORBITAL_ECCENTRICITY = 0.579
ORBITAL_INCLINATION = 86.83
ORBITAL_SEMIMAJOR_AXIS = 8816.22
PERIAPSIS_ALTITUDE = 324.01
PERIAPSIS_ARGUMENT_ANGLE = 319.93
PERIAPSIS_TIME = 2010-08-06T15:03:00.000Z
SPACECRAFT_ORIENTATION = (0.0,1.0,0.0)
^MEX_ORIENTATION_DESC = "MEX_ORIENTATION_DESC.TXT"
SPACECRAFT_POINTING_MODE = NADIR
^MEX_POINTING_DESC = "MEX_POINTING_DESC.TXT"
RIGHT_ASCENSION = -1e+32
DECLINATION = -1e+32
OFFSET_ANGLE = -1e+32
SPACECRAFT_SOLAR_DISTANCE = 2.37719e+08
TARGET_NAME = MARS
/* CAMERA DATA ELEMENTS */
DETECTOR_TEMPERATURE = 17.1471
FOCAL_PLANE_TEMPERATURE = 7.9716
INST_CMPRS_NAME = "DISCRETE COSINE TRANSFORMATION (DCT)"
INST_CMPRS_RATIO = 3.78727
INST_CMPRS_QUALITY = 0
INST_CMPRS_QUANTZ_TBL_ID = 0
INSTRUMENT_TEMPERATURE = 11.0301
LENS_TEMPERATURE = 8.3794
MACROPIXEL_SIZE = 8
MISSING_FRAMES = 0
PIXEL_SUBSAMPLING_FLAG = N
SIGNAL_CHAIN_ID = 2
/* RADIOMETRIC DATA ELEMENTS */
BANDWIDTH = 81.0
CENTER_FILTER_WAVELENGTH = 955.5
RADIANCE_OFFSET = 0.142328
RADIANCE_SCALING_FACTOR = 0.0066978
REFLECTANCE_SCALING_FACTOR = 0.000816557
MEX:REFLECTANCE_OFFSET = 0.0173518
/* IMAGE OBJECT DEFINITIONS */
OBJECT = IMAGE
  INTERCHANGE_FORMAT = BINARY
  LINES = 4944
  LINE_SAMPLES = 1089
  SAMPLE_TYPE = UNSIGNED_INTEGER
  SAMPLE_BITS = 8
  BANDS = 1
  BAND_STORAGE_TYPE = BAND_SEQUENTIAL
  MAXIMUM = 255
  MEAN = 116.83
  MINIMUM = 1
  STANDARD_DEVIATION = 21.081
END_OBJECT = IMAGE
/* MAP OBJECT DEFINITIONS */
OBJECT = IMAGE_MAP_PROJECTION
  ^DATA_SET_MAP_PROJECTION_CATALOG= "DSMAP.CAT"
  A_AXIS_RADIUS = 3396.0
  B_AXIS_RADIUS = 3396.0
  C_AXIS_RADIUS = 3396.0
  CENTER_LATITUDE = 0.0
  CENTER_LONGITUDE = 160.0
  COORDINATE_SYSTEM_NAME = PLANETOGRAPHIC
  COORDINATE_SYSTEM_TYPE = "BODY-FIXED ROTATING"
  EASTERNMOST_LONGITUDE = 161.15
  FIRST_STANDARD_PARALLEL = "N/A"
  LINE_FIRST_PIXEL = 1
  LINE_LAST_PIXEL = 4944
  LINE_PROJECTION_OFFSET = -6188.5625
  MAP_PROJECTION_ROTATION = 0.0
  MAP_PROJECTION_TYPE = SINUSOIDAL
  MAP_RESOLUTION = 592.713803866667
  MAP_SCALE = 0.1
  MAXIMUM_LATITUDE = -10.438
  MINIMUM_LATITUDE = -18.772
  POSITIVE_LONGITUDE_DIRECTION = EAST
  REFERENCE_LATITUDE = "N/A"
  REFERENCE_LONGITUDE = "N/A"
  SAMPLE_FIRST_PIXEL = 1
  SAMPLE_LAST_PIXEL = 1089
  SAMPLE_PROJECTION_OFFSET = 437.5625
  SECOND_STANDARD_PARALLEL = "N/A"
  WESTERNMOST_LONGITUDE = 159.245
END_OBJECT = IMAGE_MAP_PROJECTION
/* The JPEG2000 image data file associated with this label. */
OBJECT = COMPRESSED_FILE
  FILE_NAME = "H8439_0000_IR3.JP2"
  RECORD_TYPE = UNDEFINED
  FILE_RECORDS = UNK
  ENCODING_TYPE = "JP2"
  INTERCHANGE_FORMAT = BINARY
  UNCOMPRESSED_FILE_NAME = "H8439_0000_IR3.IMG"
  REQUIRED_STORAGE_BYTES = "5402529"
  ^DESCRIPTION = "JP2INFO.TXT"
END_OBJECT = COMPRESSED_FILE
END
