PDS_VERSION_ID = PDS3
/* FILE DATA ELEMENTS */
RECORD_TYPE = STREAM
/* POINTERS TO DATA OBJECTS */
^COMPRESSED_FILE = "H8439_0000_P23.JP2"
/* IDENTIFICATION DATA ELEMENTS */
DATA_SET_ID = "MEX-M-HRSC-5-REFDR-MAPPROJECTED-V3.0"
DATA_SET_NAME = "MARS EXPRESS HRSC MAP PROJECTED REFDR V3.0"
DETECTOR_ID = MEX_HRSC_P2
EVENT_TYPE = "MARS-REGIONAL-MAPPING-Im-Fl"
INSTRUMENT_HOST_ID = MEX
INSTRUMENT_HOST_NAME = "MARS EXPRESS"
INSTRUMENT_ID = HRSC
INSTRUMENT_NAME = "HIGH RESOLUTION STEREO CAMERA"
MISSION_NAME = "MARS EXPRESS"
MISSION_PHASE_NAME = ME_Phase_21
PROCESSING_LEVEL_ID = 3
PRODUCT_CREATION_TIME = 2016-10-25T14:43:05.000Z
PRODUCT_ID = "H8439_0000_P23.JP2"
RELEASE_ID = 0091
REVISION_ID = 0000
/* QUALITY DATA ELEMENTS */
DATA_QUALITY_ID = 1
DATA_QUALITY_DESC = "Data calculated based on original SPICE kernels"
/* TIME DATA ELEMENTS */
SPACECRAFT_CLOCK_START_COUNT = "1/0229187269.07280"
SPACECRAFT_CLOCK_STOP_COUNT = "1/0229187497.45931"
START_TIME = 2010-08-06T15:08:04.004Z
STOP_TIME = 2010-08-06T15:10:13.445Z
/* ORBITAL DATA ELEMENTS */
ASCENDING_NODE_LONGITUDE = 56.11
MAXIMUM_RESOLUTION = 65.9
FOOTPRINT_POINT_LATITUDE = (-18.77,-18.7723,-18.7732,-18.7735, -18.7731,-18.7723,-18.4541,-18.2239, -17.9165,-17.6866,-17.3751,-17.2182, -17.0599,-16.9012,-16.7461,-16.5884, -16.4309,-16.27,-16.1092,-15.9483, -15.7867,-15.5455,-15.3843,-15.1381, -14.9736,-14.8092,-14.645,-14.4813, -14.3162,-14.1476,-13.9794,-13.7273, -13.4743,-13.3059,-13.1334,-12.962, -12.7908,-12.6193,-12.448,-12.1873, -12.0125,-11.8372,-11.6625,-11.4879, -11.3104,-11.1316,-10.9541,-10.7763, -10.5981,-10.456,-10.4548,-10.4529, -10.4507,-10.4482,-10.4455,-10.4425, -10.439,-10.6202,-10.7986,-10.9773, -11.2455,-11.4242,-11.5996,-11.7744, -11.95,-12.1263,-12.3001,-12.5583, -12.7306,-12.9016,-13.0744,-13.3323, -13.5002,-13.6682,-13.8377,-14.09, -14.2586,-14.4243,-14.5896,-14.7542, -15.0019,-15.1671,-15.3267,-15.4894, -15.6536,-15.8137,-15.9752,-16.1363, -16.2979,-16.4582,-16.6159,-16.8519, -17.0096,-17.1664,-17.4031,-17.5618, -17.8668,-18.1758,-18.4839,-18.77)
FOOTPRINT_POINT_LONGITUDE = (160.923,160.567,160.335,160.02,159.802 ,159.569,159.502,159.499,159.494, 159.491,159.486,159.484,159.481,159.477 ,159.476,159.473,159.469,159.467, 159.464,159.461,159.457,159.453,159.449 ,159.444,159.441,159.437,159.434, 159.431,159.427,159.423,159.419,159.413 ,159.407,159.403,159.398,159.394,159.39 ,159.386,159.381,159.375,159.37,159.366 ,159.361,159.357,159.352,159.347, 159.342,159.338,159.333,159.455,159.679 ,159.838,160.046,160.285,160.541, 160.733,161.042,161.041,161.039,161.038 ,161.036,161.035,161.034,161.033, 161.032,161.03,161.03,161.028,161.026, 161.026,161.024,161.022,161.021,161.02, 161.018,161.016,161.015,161.014,161.012 ,161.011,161.009,161.008,161.009, 161.007,161.005,161.004,161.003,161.002 ,161.001,160.999,160.998,160.997, 160.995,160.995,160.993,160.991,160.99, 160.988,160.985,160.923)
ORBIT_NUMBER = 8439
ORBITAL_ECCENTRICITY = 0.579
ORBITAL_INCLINATION = 86.83
ORBITAL_SEMIMAJOR_AXIS = 8816.22
PERIAPSIS_ALTITUDE = 324.01
PERIAPSIS_ARGUMENT_ANGLE = 319.93
PERIAPSIS_TIME = 2010-08-06T15:03:00.000Z
SPACECRAFT_ORIENTATION = (0.0,1.0,0.0)
^MEX_ORIENTATION_DESC = "MEX_ORIENTATION_DESC.TXT"
SPACECRAFT_POINTING_MODE = NADIR
^MEX_POINTING_DESC = "MEX_POINTING_DESC.TXT"
RIGHT_ASCENSION = -1e+32
DECLINATION = -1e+32
OFFSET_ANGLE = -1e+32
SPACECRAFT_SOLAR_DISTANCE = 2.37719e+08
TARGET_NAME = MARS
/* CAMERA DATA ELEMENTS */
DETECTOR_TEMPERATURE = 18.3705
FOCAL_PLANE_TEMPERATURE = 7.9716
INST_CMPRS_NAME = "DISCRETE COSINE TRANSFORMATION (DCT)"
INST_CMPRS_RATIO = 3.465
INST_CMPRS_QUALITY = 0
INST_CMPRS_QUANTZ_TBL_ID = 0
INSTRUMENT_TEMPERATURE = 11.0301
LENS_TEMPERATURE = 8.3794
MACROPIXEL_SIZE = 4
MISSING_FRAMES = 0
PIXEL_SUBSAMPLING_FLAG = N
SIGNAL_CHAIN_ID = 3
/* RADIOMETRIC DATA ELEMENTS */
BANDWIDTH = 177.0
CENTER_FILTER_WAVELENGTH = 676.5
RADIANCE_OFFSET = 0.740012
RADIANCE_SCALING_FACTOR = 0.0231044
REFLECTANCE_SCALING_FACTOR = 0.000692275
MEX:REFLECTANCE_OFFSET = 0.0221729
/* IMAGE OBJECT DEFINITIONS */
OBJECT = IMAGE
  INTERCHANGE_FORMAT = BINARY
  LINES = 9887
  LINE_SAMPLES = 2178
  SAMPLE_TYPE = UNSIGNED_INTEGER
  SAMPLE_BITS = 8
  BANDS = 1
  BAND_STORAGE_TYPE = BAND_SEQUENTIAL
  MAXIMUM = 255
  MEAN = 112.068
  MINIMUM = 1
  STANDARD_DEVIATION = 21.2329
END_OBJECT = IMAGE
/* MAP OBJECT DEFINITIONS */
OBJECT = IMAGE_MAP_PROJECTION
  ^DATA_SET_MAP_PROJECTION_CATALOG= "DSMAP.CAT"
  A_AXIS_RADIUS = 3396.0
  B_AXIS_RADIUS = 3396.0
  C_AXIS_RADIUS = 3396.0
  CENTER_LATITUDE = 0.0
  CENTER_LONGITUDE = 160.0
  COORDINATE_SYSTEM_NAME = PLANETOGRAPHIC
  COORDINATE_SYSTEM_TYPE = "BODY-FIXED ROTATING"
  EASTERNMOST_LONGITUDE = 161.042
  FIRST_STANDARD_PARALLEL = "N/A"
  LINE_FIRST_PIXEL = 1
  LINE_LAST_PIXEL = 9887
  LINE_PROJECTION_OFFSET = -12376.625
  MAP_PROJECTION_ROTATION = 0.0
  MAP_PROJECTION_TYPE = SINUSOIDAL
  MAP_RESOLUTION = 1185.42760773333
  MAP_SCALE = 0.05
  MAXIMUM_LATITUDE = -10.439
  MINIMUM_LATITUDE = -18.7735
  POSITIVE_LONGITUDE_DIRECTION = EAST
  REFERENCE_LATITUDE = "N/A"
  REFERENCE_LONGITUDE = "N/A"
  SAMPLE_FIRST_PIXEL = 1
  SAMPLE_LAST_PIXEL = 2178
  SAMPLE_PROJECTION_OFFSET = 875.625
  SECOND_STANDARD_PARALLEL = "N/A"
  WESTERNMOST_LONGITUDE = 159.333
END_OBJECT = IMAGE_MAP_PROJECTION
/* The JPEG2000 image data file associated with this label. */
OBJECT = COMPRESSED_FILE
  FILE_NAME = "H8439_0000_P23.JP2"
  RECORD_TYPE = UNDEFINED
  FILE_RECORDS = UNK
  ENCODING_TYPE = "JP2"
  INTERCHANGE_FORMAT = BINARY
  UNCOMPRESSED_FILE_NAME = "H8439_0000_P23.IMG"
  REQUIRED_STORAGE_BYTES = "21555666"
  ^DESCRIPTION = "JP2INFO.TXT"
END_OBJECT = COMPRESSED_FILE
END
