PDS_VERSION_ID = PDS3
/* FILE DATA ELEMENTS */
RECORD_TYPE = STREAM
/* POINTERS TO DATA OBJECTS */
^COMPRESSED_FILE = "H8440_0000_GR3.JP2"
/* IDENTIFICATION DATA ELEMENTS */
DATA_SET_ID = "MEX-M-HRSC-5-REFDR-MAPPROJECTED-V3.0"
DATA_SET_NAME = "MARS EXPRESS HRSC MAP PROJECTED REFDR V3.0"
DETECTOR_ID = MEX_HRSC_GREEN
EVENT_TYPE = "MARS-REGIONAL-MAPPING-Im-Fl"
INSTRUMENT_HOST_ID = MEX
INSTRUMENT_HOST_NAME = "MARS EXPRESS"
INSTRUMENT_ID = HRSC
INSTRUMENT_NAME = "HIGH RESOLUTION STEREO CAMERA"
MISSION_NAME = "MARS EXPRESS"
MISSION_PHASE_NAME = ME_Phase_21
PROCESSING_LEVEL_ID = 3
PRODUCT_CREATION_TIME = 2016-10-25T14:43:05.000Z
PRODUCT_ID = "H8440_0000_GR3.JP2"
RELEASE_ID = 0091
REVISION_ID = 0000
/* QUALITY DATA ELEMENTS */
DATA_QUALITY_ID = 1
DATA_QUALITY_DESC = "Data calculated based on original SPICE kernels"
/* TIME DATA ELEMENTS */
SPACECRAFT_CLOCK_START_COUNT = "1/0229212366.09040"
SPACECRAFT_CLOCK_STOP_COUNT = "1/0229212733.50568"
START_TIME = 2010-08-06T22:06:47.238Z
STOP_TIME = 2010-08-06T22:11:22.885Z
/* ORBITAL DATA ELEMENTS */
ASCENDING_NODE_LONGITUDE = 56.09
MAXIMUM_RESOLUTION = 59.9
FOOTPRINT_POINT_LATITUDE = (-24.1555,-24.1549,-24.1532,-24.1541, -23.8455,-23.5377,-23.2297,-22.9226, -22.6157,-22.3096,-22.0041,-21.6987, -21.2411,-20.9369,-20.633,-20.3297, -20.0266,-19.7239,-19.2607,-18.951, -18.642,-18.3278,-18.012,-17.5398, -17.2185,-16.8966,-16.575,-16.2474, -15.9191,-15.5916,-15.2579,-14.7571, -14.2474,-13.9075,-13.3892,-13.0432, -12.6908,-12.3387,-11.8029,-11.445, -11.071,-10.7071,-10.3355,-9.77798, -9.40307,-9.02347,-8.44922,-8.06266, -7.67097,-7.44267,-7.43784,-7.43276, -7.42825,-7.42355,-7.6186,-7.81534, -8.01152,-8.39891,-8.97496,-9.3562, -9.73195,-10.1068,-10.4773,-11.0275, -11.4022,-11.7615,-12.2994,-12.652, -13.0051,-13.3516,-13.8713,-14.3823, -14.7228,-15.0571,-15.3923,-15.8882, -16.2169,-16.5448,-16.8663,-17.1888, -17.5112,-17.8268,-18.1429,-18.6175, -19.0819,-19.3915,-19.6999,-20.0028, -20.3064,-20.6109,-21.0681,-21.3731, -21.8313,-22.2905,-22.5972,-22.9042, -23.2116,-23.6721,-23.9812,-24.1555)
FOOTPRINT_POINT_LONGITUDE = (58.201,57.8058,57.3833,57.1192,57.119, 57.1177,57.1177,57.1163,57.115,57.1127, 57.1097,57.1071,57.104,57.1009,57.0978, 57.0943,57.0911,57.088,57.0829,57.0792, 57.0749,57.0708,57.0654,57.0559,57.0496 ,57.0436,57.038,57.0324,57.0261,57.0191 ,57.0104,56.9989,56.9872,56.9789, 56.9662,56.9576,56.9487,56.9394,56.9247 ,56.9143,56.9034,56.8924,56.884,56.8646 ,56.8515,56.8379,56.8177,56.804,56.7899 ,57.1241,57.5028,57.8807,58.2046, 58.5276,58.7113,58.7092,58.707,58.703, 58.6969,58.693,58.6887,58.6851,58.6815, 58.6753,58.6719,58.6686,58.6647,58.6612 ,58.6575,58.6542,58.6492,58.6442,58.641 ,58.6378,58.6348,58.63,58.6268,58.6231, 58.6192,58.6161,58.6126,58.6096,58.6066 ,58.6042,58.5999,58.596,58.592,58.589, 58.5865,58.5845,58.5809,58.5778,58.5731 ,58.5684,58.5652,58.5617,58.5583, 58.5508,58.5484,58.201)
ORBIT_NUMBER = 8440
ORBITAL_ECCENTRICITY = 0.579
ORBITAL_INCLINATION = 86.84
ORBITAL_SEMIMAJOR_AXIS = 8818.85
PERIAPSIS_ALTITUDE = 323.05
PERIAPSIS_ARGUMENT_ANGLE = 319.74
PERIAPSIS_TIME = 2010-08-06T22:02:36.000Z
SPACECRAFT_ORIENTATION = (0.0,1.0,0.0)
^MEX_ORIENTATION_DESC = "MEX_ORIENTATION_DESC.TXT"
SPACECRAFT_POINTING_MODE = ACROSSTRACK
^MEX_POINTING_DESC = "MEX_POINTING_DESC.TXT"
RIGHT_ASCENSION = -1e+32
DECLINATION = -1e+32
OFFSET_ANGLE = 0.13
SPACECRAFT_SOLAR_DISTANCE = 2.37671e+08
TARGET_NAME = MARS
/* CAMERA DATA ELEMENTS */
DETECTOR_TEMPERATURE = 18.1666
FOCAL_PLANE_TEMPERATURE = 7.9716
INST_CMPRS_NAME = "DISCRETE COSINE TRANSFORMATION (DCT)"
INST_CMPRS_RATIO = 5.54117
INST_CMPRS_QUALITY = 0
INST_CMPRS_QUANTZ_TBL_ID = 0
INSTRUMENT_TEMPERATURE = 11.0301
LENS_TEMPERATURE = 8.5833
MACROPIXEL_SIZE = 4
MISSING_FRAMES = 1
PIXEL_SUBSAMPLING_FLAG = N
SIGNAL_CHAIN_ID = 2
/* RADIOMETRIC DATA ELEMENTS */
BANDWIDTH = 88.0
CENTER_FILTER_WAVELENGTH = 538.0
RADIANCE_OFFSET = 0.334929
RADIANCE_SCALING_FACTOR = 0.00454655
REFLECTANCE_SCALING_FACTOR = 0.000221117
MEX:REFLECTANCE_OFFSET = 0.0162889
/* IMAGE OBJECT DEFINITIONS */
OBJECT = IMAGE
  INTERCHANGE_FORMAT = BINARY
  LINES = 19834
  LINE_SAMPLES = 2354
  SAMPLE_TYPE = UNSIGNED_INTEGER
  SAMPLE_BITS = 8
  BANDS = 1
  BAND_STORAGE_TYPE = BAND_SEQUENTIAL
  MAXIMUM = 255
  MEAN = 116.612
  MINIMUM = 1
  STANDARD_DEVIATION = 21.4458
END_OBJECT = IMAGE
/* MAP OBJECT DEFINITIONS */
OBJECT = IMAGE_MAP_PROJECTION
  ^DATA_SET_MAP_PROJECTION_CATALOG= "DSMAP.CAT"
  A_AXIS_RADIUS = 3396.0
  B_AXIS_RADIUS = 3396.0
  C_AXIS_RADIUS = 3396.0
  CENTER_LATITUDE = 0.0
  CENTER_LONGITUDE = 58.0
  COORDINATE_SYSTEM_NAME = PLANETOGRAPHIC
  COORDINATE_SYSTEM_TYPE = "BODY-FIXED ROTATING"
  EASTERNMOST_LONGITUDE = 58.7113
  FIRST_STANDARD_PARALLEL = "N/A"
  LINE_FIRST_PIXEL = 1
  LINE_LAST_PIXEL = 19834
  LINE_PROJECTION_OFFSET = -8815.375
  MAP_PROJECTION_ROTATION = 0.0
  MAP_PROJECTION_TYPE = SINUSOIDAL
  MAP_RESOLUTION = 1185.42760773333
  MAP_SCALE = 0.05
  MAXIMUM_LATITUDE = -7.42355
  MINIMUM_LATITUDE = -24.1555
  POSITIVE_LONGITUDE_DIRECTION = EAST
  REFERENCE_LATITUDE = "N/A"
  REFERENCE_LONGITUDE = "N/A"
  SAMPLE_FIRST_PIXEL = 1
  SAMPLE_LAST_PIXEL = 2354
  SAMPLE_PROJECTION_OFFSET = 1486.375
  SECOND_STANDARD_PARALLEL = "N/A"
  WESTERNMOST_LONGITUDE = 56.7899
END_OBJECT = IMAGE_MAP_PROJECTION
/* The JPEG2000 image data file associated with this label. */
OBJECT = COMPRESSED_FILE
  FILE_NAME = "H8440_0000_GR3.JP2"
  RECORD_TYPE = UNDEFINED
  FILE_RECORDS = UNK
  ENCODING_TYPE = "JP2"
  INTERCHANGE_FORMAT = BINARY
  UNCOMPRESSED_FILE_NAME = "H8440_0000_GR3.IMG"
  REQUIRED_STORAGE_BYTES = "46710422"
  ^DESCRIPTION = "JP2INFO.TXT"
END_OBJECT = COMPRESSED_FILE
END
