PDS_VERSION_ID = PDS3
/* FILE DATA ELEMENTS */
RECORD_TYPE = STREAM
/* POINTERS TO DATA OBJECTS */
^COMPRESSED_FILE = "H8441_0000_P23.JP2"
/* IDENTIFICATION DATA ELEMENTS */
DATA_SET_ID = "MEX-M-HRSC-5-REFDR-MAPPROJECTED-V3.0"
DATA_SET_NAME = "MARS EXPRESS HRSC MAP PROJECTED REFDR V3.0"
DETECTOR_ID = MEX_HRSC_P2
EVENT_TYPE = "MARS-REGIONAL-MAPPING-Te-Fl"
INSTRUMENT_HOST_ID = MEX
INSTRUMENT_HOST_NAME = "MARS EXPRESS"
INSTRUMENT_ID = HRSC
INSTRUMENT_NAME = "HIGH RESOLUTION STEREO CAMERA"
MISSION_NAME = "MARS EXPRESS"
MISSION_PHASE_NAME = ME_Phase_21
PROCESSING_LEVEL_ID = 3
PRODUCT_CREATION_TIME = 2016-10-25T14:43:05.000Z
PRODUCT_ID = "H8441_0000_P23.JP2"
RELEASE_ID = 0091
REVISION_ID = 0000
/* QUALITY DATA ELEMENTS */
DATA_QUALITY_ID = 1
DATA_QUALITY_DESC = "Data calculated based on original SPICE kernels"
/* TIME DATA ELEMENTS */
SPACECRAFT_CLOCK_START_COUNT = "1/0229237518.09077"
SPACECRAFT_CLOCK_STOP_COUNT = "1/0229237698.40778"
START_TIME = 2010-08-07T05:05:31.412Z
STOP_TIME = 2010-08-07T05:07:14.251Z
/* ORBITAL DATA ELEMENTS */
ASCENDING_NODE_LONGITUDE = 56.08
MAXIMUM_RESOLUTION = 58.3
FOOTPRINT_POINT_LATITUDE = (-26.0204,-26.02,-26.0192,-26.0172, -26.0152,-25.9992,-25.8776,-25.756, -25.6338,-25.3915,-25.2093,-25.0879, -24.9662,-24.8448,-24.7232,-24.6018, -24.4792,-24.295,-24.0538,-23.8109, -23.6898,-23.5686,-23.4467,-23.3176, -23.1721,-22.9543,-22.8091,-22.6642, -22.5193,-22.3019,-22.1573,-22.0125, -21.8677,-21.7232,-21.5787,-21.4343, -21.2177,-21.0734,-20.857,-20.6408, -20.4966,-20.3511,-20.1367,-19.9926, -19.8485,-19.7045,-19.4886,-19.3446, -19.2676,-19.2682,-19.2685,-19.2679, -19.2677,-19.2657,-19.2662,-19.338, -19.4821,-19.6262,-19.8422,-20.0582, -20.2023,-20.3465,-20.491,-20.6355, -20.7798,-20.9242,-21.0688,-21.2855, -21.5023,-21.647,-21.7918,-21.9367, -22.0814,-22.2988,-22.4438,-22.5888, -22.8064,-22.9514,-23.0964,-23.2417, -23.4441,-23.5661,-23.6877,-23.8096, -23.9314,-24.0531,-24.2361,-24.358, -24.4797,-24.6016,-24.7232,-24.845, -24.9668,-25.1495,-25.2714,-25.4543, -25.6374,-25.8197,-26.003,-26.0204)
FOOTPRINT_POINT_LONGITUDE = (316.068,315.891,315.7,315.408,315.192, 315.005,315.005,315.005,315.005,315.006 ,315.006,315.006,315.006,315.006, 315.006,315.006,315.005,315.004,315.004 ,315.003,315.003,315.002,315.002, 315.001,315.0,314.998,314.997,314.996, 314.995,314.994,314.993,314.992,314.99, 314.989,314.988,314.987,314.985,314.983 ,314.981,314.979,314.978,314.975, 314.974,314.972,314.97,314.969,314.966, 314.964,315.14,315.319,315.456,315.757, 315.95,316.087,316.265,316.434,316.433, 316.431,316.43,316.428,316.427,316.426, 316.425,316.424,316.423,316.422,316.421 ,316.419,316.418,316.417,316.415, 316.414,316.413,316.411,316.41,316.409, 316.407,316.406,316.405,316.404,316.402 ,316.4,316.399,316.398,316.397,316.396, 316.395,316.393,316.392,316.391,316.39, 316.389,316.388,316.387,316.386,316.384 ,316.383,316.381,316.379,316.068)
ORBIT_NUMBER = 8441
ORBITAL_ECCENTRICITY = 0.579
ORBITAL_INCLINATION = 86.84
ORBITAL_SEMIMAJOR_AXIS = 8814.19
PERIAPSIS_ALTITUDE = 323.46
PERIAPSIS_ARGUMENT_ANGLE = 319.58
PERIAPSIS_TIME = 2010-08-07T05:02:13.000Z
SPACECRAFT_ORIENTATION = (0.0,1.0,0.0)
^MEX_ORIENTATION_DESC = "MEX_ORIENTATION_DESC.TXT"
SPACECRAFT_POINTING_MODE = NADIR
^MEX_POINTING_DESC = "MEX_POINTING_DESC.TXT"
RIGHT_ASCENSION = -1e+32
DECLINATION = -1e+32
OFFSET_ANGLE = -1e+32
SPACECRAFT_SOLAR_DISTANCE = 2.37623e+08
TARGET_NAME = MARS
/* CAMERA DATA ELEMENTS */
DETECTOR_TEMPERATURE = 18.3705
FOCAL_PLANE_TEMPERATURE = 7.7677
INST_CMPRS_NAME = "DISCRETE COSINE TRANSFORMATION (DCT)"
INST_CMPRS_RATIO = 10.6104
INST_CMPRS_QUALITY = 0
INST_CMPRS_QUANTZ_TBL_ID = 0
INSTRUMENT_TEMPERATURE = 11.0301
LENS_TEMPERATURE = 8.3794
MACROPIXEL_SIZE = 4
MISSING_FRAMES = 0
PIXEL_SUBSAMPLING_FLAG = N
SIGNAL_CHAIN_ID = 3
/* RADIOMETRIC DATA ELEMENTS */
BANDWIDTH = 177.0
CENTER_FILTER_WAVELENGTH = 676.5
RADIANCE_OFFSET = 0.507692
RADIANCE_SCALING_FACTOR = 0.0103529
REFLECTANCE_SCALING_FACTOR = 0.000309951
MEX:REFLECTANCE_OFFSET = 0.0151995
/* IMAGE OBJECT DEFINITIONS */
OBJECT = IMAGE
  INTERCHANGE_FORMAT = BINARY
  LINES = 7988
  LINE_SAMPLES = 1784
  SAMPLE_TYPE = UNSIGNED_INTEGER
  SAMPLE_BITS = 8
  BANDS = 1
  BAND_STORAGE_TYPE = BAND_SEQUENTIAL
  MAXIMUM = 255
  MEAN = 105.715
  MINIMUM = 1
  STANDARD_DEVIATION = 17.8886
END_OBJECT = IMAGE
/* MAP OBJECT DEFINITIONS */
OBJECT = IMAGE_MAP_PROJECTION
  ^DATA_SET_MAP_PROJECTION_CATALOG= "DSMAP.CAT"
  A_AXIS_RADIUS = 3396.0
  B_AXIS_RADIUS = 3396.0
  C_AXIS_RADIUS = 3396.0
  CENTER_LATITUDE = 0.0
  CENTER_LONGITUDE = 316.0
  COORDINATE_SYSTEM_NAME = PLANETOGRAPHIC
  COORDINATE_SYSTEM_TYPE = "BODY-FIXED ROTATING"
  EASTERNMOST_LONGITUDE = 316.434
  FIRST_STANDARD_PARALLEL = "N/A"
  LINE_FIRST_PIXEL = 1
  LINE_LAST_PIXEL = 7988
  LINE_PROJECTION_OFFSET = -22840.125
  MAP_PROJECTION_ROTATION = 0.0
  MAP_PROJECTION_TYPE = SINUSOIDAL
  MAP_RESOLUTION = 1185.42760773333
  MAP_SCALE = 0.05
  MAXIMUM_LATITUDE = -19.2657
  MINIMUM_LATITUDE = -26.0204
  POSITIVE_LONGITUDE_DIRECTION = EAST
  REFERENCE_LATITUDE = "N/A"
  REFERENCE_LONGITUDE = "N/A"
  SAMPLE_FIRST_PIXEL = 1
  SAMPLE_LAST_PIXEL = 1784
  SAMPLE_PROJECTION_OFFSET = 1231.125
  SECOND_STANDARD_PARALLEL = "N/A"
  WESTERNMOST_LONGITUDE = 314.964
END_OBJECT = IMAGE_MAP_PROJECTION
/* The JPEG2000 image data file associated with this label. */
OBJECT = COMPRESSED_FILE
  FILE_NAME = "H8441_0000_P23.JP2"
  RECORD_TYPE = UNDEFINED
  FILE_RECORDS = UNK
  ENCODING_TYPE = "JP2"
  INTERCHANGE_FORMAT = BINARY
  UNCOMPRESSED_FILE_NAME = "H8441_0000_P23.IMG"
  REQUIRED_STORAGE_BYTES = "14270216"
  ^DESCRIPTION = "JP2INFO.TXT"
END_OBJECT = COMPRESSED_FILE
END
