PDS_VERSION_ID = PDS3
/* FILE DATA ELEMENTS */
RECORD_TYPE = STREAM
/* POINTERS TO DATA OBJECTS */
^COMPRESSED_FILE = "H8451_0000_GR3.JP2"
/* IDENTIFICATION DATA ELEMENTS */
DATA_SET_ID = "MEX-M-HRSC-5-REFDR-MAPPROJECTED-V3.0"
DATA_SET_NAME = "MARS EXPRESS HRSC MAP PROJECTED REFDR V3.0"
DETECTOR_ID = MEX_HRSC_GREEN
EVENT_TYPE = "MARS-REGIONAL-MAPPING-Im-Fl-La"
INSTRUMENT_HOST_ID = MEX
INSTRUMENT_HOST_NAME = "MARS EXPRESS"
INSTRUMENT_ID = HRSC
INSTRUMENT_NAME = "HIGH RESOLUTION STEREO CAMERA"
MISSION_NAME = "MARS EXPRESS"
MISSION_PHASE_NAME = ME_Phase_21
PROCESSING_LEVEL_ID = 3
PRODUCT_CREATION_TIME = 2016-10-25T14:43:05.000Z
PRODUCT_ID = "H8451_0000_GR3.JP2"
RELEASE_ID = 0091
REVISION_ID = 0000
/* QUALITY DATA ELEMENTS */
DATA_QUALITY_ID = 1
DATA_QUALITY_DESC = "Data calculated based on original SPICE kernels"
/* TIME DATA ELEMENTS */
SPACECRAFT_CLOCK_START_COUNT = "1/0229489400.08271"
SPACECRAFT_CLOCK_STOP_COUNT = "1/0229489901.38519"
START_TIME = 2010-08-10T03:04:06.281Z
STOP_TIME = 2010-08-10T03:10:22.384Z
/* ORBITAL DATA ELEMENTS */
ASCENDING_NODE_LONGITUDE = 55.89
MAXIMUM_RESOLUTION = 67
FOOTPRINT_POINT_LATITUDE = (-20.3682,-20.3682,-19.8468,-19.1473, -18.6184,-18.2613,-17.9002,-17.5397, -17.1725,-16.6234,-16.0533,-15.6783, -15.2975,-14.9173,-14.53,-13.9465, -13.5532,-13.156,-12.7565,-12.3518, -11.9466,-11.5341,-11.1196,-10.7017, -10.2779,-9.85301,-9.42209,-8.98725, -8.54927,-8.10711,-7.65855,-7.20611, -6.74999,-6.28899,-5.82251,-5.35062, -4.87395,-4.39153,-3.90581,-3.41251, -2.91466,-2.41137,-1.90169,-1.38695, -0.865937,-0.33821,0.196125,0.736086, 1.12178,1.13391,1.14102,1.15532,0.88745 ,0.345228,-0.192542,-0.72203,-1.24667, -1.76473,-2.2764,-2.78224,-3.28233, -3.77692,-4.26597,-4.75,-5.22882, -5.70225,-6.17076,-6.63414,-7.09268, -7.54728,-7.99698,-8.44113,-8.88132, -9.31842,-9.74992,-10.1765,-10.6013, -11.0222,-11.4386,-11.8519,-12.2583, -12.6652,-13.0651,-13.4644,-13.8582, -14.2507,-14.6381,-15.0245,-15.4055, -15.7859,-16.1599,-16.7285,-17.0959, -17.6453,-18.0059,-18.5461,-18.8997, -19.6049,-20.2996,-20.3682)
FOOTPRINT_POINT_LONGITUDE = (13.4537,12.6884,12.431,12.4187,12.4068 ,12.3992,12.3923,12.3855,12.3771, 12.3633,12.3498,12.3403,12.3306,12.3206 ,12.3099,12.2935,12.282,12.2702,12.2581 ,12.2455,12.2319,12.2185,12.2054, 12.1902,12.1766,12.1611,12.1452,12.129, 12.1121,12.0941,12.0763,12.0581,12.0388 ,12.0192,11.9992,11.9785,11.957,11.9356 ,11.9113,11.8893,11.8653,11.84,11.8149, 11.7879,11.7603,11.7317,11.7027,11.6723 ,11.96,12.5826,12.9661,13.7604,14.2228, 14.2133,14.2082,14.198,14.191,14.1835, 14.1767,14.1697,14.1631,14.1569,14.1503 ,14.144,14.1376,14.1328,14.1284,14.1231 ,14.1177,14.1128,14.1072,14.1023, 14.0974,14.093,14.0883,14.0819,14.0771, 14.0778,14.0745,14.0704,14.0638,14.0603 ,14.0562,14.0524,14.0491,14.0458, 14.0427,14.0398,14.0374,14.0326,14.0298 ,14.0252,14.0222,14.0178,14.0148, 14.0106,14.0076,14.0014,13.9968, 13.4537)
ORBIT_NUMBER = 8451
ORBITAL_ECCENTRICITY = 0.579
ORBITAL_INCLINATION = 86.83
ORBITAL_SEMIMAJOR_AXIS = 8814.67
PERIAPSIS_ALTITUDE = 323.3
PERIAPSIS_ARGUMENT_ANGLE = 317.83
PERIAPSIS_TIME = 2010-08-10T02:58:24.000Z
SPACECRAFT_ORIENTATION = (0.0,1.0,0.0)
^MEX_ORIENTATION_DESC = "MEX_ORIENTATION_DESC.TXT"
SPACECRAFT_POINTING_MODE = ACROSSTRACK
^MEX_POINTING_DESC = "MEX_POINTING_DESC.TXT"
RIGHT_ASCENSION = -1e+32
DECLINATION = -1e+32
OFFSET_ANGLE = -0.3
SPACECRAFT_SOLAR_DISTANCE = 2.37135e+08
TARGET_NAME = MARS
/* CAMERA DATA ELEMENTS */
DETECTOR_TEMPERATURE = 18.1666
FOCAL_PLANE_TEMPERATURE = 8.9911
INST_CMPRS_NAME = "DISCRETE COSINE TRANSFORMATION (DCT)"
INST_CMPRS_RATIO = 11.5853
INST_CMPRS_QUALITY = 0
INST_CMPRS_QUANTZ_TBL_ID = 0
INSTRUMENT_TEMPERATURE = 11.0301
LENS_TEMPERATURE = 8.5833
MACROPIXEL_SIZE = 4
MISSING_FRAMES = 1
PIXEL_SUBSAMPLING_FLAG = N
SIGNAL_CHAIN_ID = 2
/* RADIOMETRIC DATA ELEMENTS */
BANDWIDTH = 88.0
CENTER_FILTER_WAVELENGTH = 538.0
RADIANCE_OFFSET = 0.465971
RADIANCE_SCALING_FACTOR = 0.00765198
REFLECTANCE_SCALING_FACTOR = 0.000370467
MEX:REFLECTANCE_OFFSET = 0.0225598
/* IMAGE OBJECT DEFINITIONS */
OBJECT = IMAGE
  INTERCHANGE_FORMAT = BINARY
  LINES = 25531
  LINE_SAMPLES = 3105
  SAMPLE_TYPE = UNSIGNED_INTEGER
  SAMPLE_BITS = 8
  BANDS = 1
  BAND_STORAGE_TYPE = BAND_SEQUENTIAL
  MAXIMUM = 255
  MEAN = 100.415
  MINIMUM = 1
  STANDARD_DEVIATION = 33.3782
END_OBJECT = IMAGE
/* MAP OBJECT DEFINITIONS */
OBJECT = IMAGE_MAP_PROJECTION
  ^DATA_SET_MAP_PROJECTION_CATALOG= "DSMAP.CAT"
  A_AXIS_RADIUS = 3396.0
  B_AXIS_RADIUS = 3396.0
  C_AXIS_RADIUS = 3396.0
  CENTER_LATITUDE = 0.0
  CENTER_LONGITUDE = 13.0
  COORDINATE_SYSTEM_NAME = PLANETOGRAPHIC
  COORDINATE_SYSTEM_TYPE = "BODY-FIXED ROTATING"
  EASTERNMOST_LONGITUDE = 14.2228
  FIRST_STANDARD_PARALLEL = "N/A"
  LINE_FIRST_PIXEL = 1
  LINE_LAST_PIXEL = 25531
  LINE_PROJECTION_OFFSET = 1383.125
  MAP_PROJECTION_ROTATION = 0.0
  MAP_PROJECTION_TYPE = SINUSOIDAL
  MAP_RESOLUTION = 1185.42760773333
  MAP_SCALE = 0.05
  MAXIMUM_LATITUDE = 1.15532
  MINIMUM_LATITUDE = -20.3682
  POSITIVE_LONGITUDE_DIRECTION = EAST
  REFERENCE_LATITUDE = "N/A"
  REFERENCE_LONGITUDE = "N/A"
  SAMPLE_FIRST_PIXEL = 1
  SAMPLE_LAST_PIXEL = 3105
  SAMPLE_PROJECTION_OFFSET = 1616.625
  SECOND_STANDARD_PARALLEL = "N/A"
  WESTERNMOST_LONGITUDE = 11.6723
END_OBJECT = IMAGE_MAP_PROJECTION
/* The JPEG2000 image data file associated with this label. */
OBJECT = COMPRESSED_FILE
  FILE_NAME = "H8451_0000_GR3.JP2"
  RECORD_TYPE = UNDEFINED
  FILE_RECORDS = UNK
  ENCODING_TYPE = "JP2"
  INTERCHANGE_FORMAT = BINARY
  UNCOMPRESSED_FILE_NAME = "H8451_0000_GR3.IMG"
  REQUIRED_STORAGE_BYTES = "79298595"
  ^DESCRIPTION = "JP2INFO.TXT"
END_OBJECT = COMPRESSED_FILE
END
