PDS_VERSION_ID = PDS3
/* FILE DATA ELEMENTS */
RECORD_TYPE = STREAM
/* POINTERS TO DATA OBJECTS */
^COMPRESSED_FILE = "H8451_0000_RE3.JP2"
/* IDENTIFICATION DATA ELEMENTS */
DATA_SET_ID = "MEX-M-HRSC-5-REFDR-MAPPROJECTED-V3.0"
DATA_SET_NAME = "MARS EXPRESS HRSC MAP PROJECTED REFDR V3.0"
DETECTOR_ID = MEX_HRSC_RED
EVENT_TYPE = "MARS-REGIONAL-MAPPING-Im-Fl-La"
INSTRUMENT_HOST_ID = MEX
INSTRUMENT_HOST_NAME = "MARS EXPRESS"
INSTRUMENT_ID = HRSC
INSTRUMENT_NAME = "HIGH RESOLUTION STEREO CAMERA"
MISSION_NAME = "MARS EXPRESS"
MISSION_PHASE_NAME = ME_Phase_21
PROCESSING_LEVEL_ID = 3
PRODUCT_CREATION_TIME = 2016-10-25T14:43:05.000Z
PRODUCT_ID = "H8451_0000_RE3.JP2"
RELEASE_ID = 0091
REVISION_ID = 0000
/* QUALITY DATA ELEMENTS */
DATA_QUALITY_ID = 1
DATA_QUALITY_DESC = "Data calculated based on original SPICE kernels"
/* TIME DATA ELEMENTS */
SPACECRAFT_CLOCK_START_COUNT = "1/0229489400.08271"
SPACECRAFT_CLOCK_STOP_COUNT = "1/0229489901.38519"
START_TIME = 2010-08-10T03:03:28.836Z
STOP_TIME = 2010-08-10T03:09:09.290Z
/* ORBITAL DATA ELEMENTS */
ASCENDING_NODE_LONGITUDE = 55.89
MAXIMUM_RESOLUTION = 66.6
FOOTPRINT_POINT_LATITUDE = (-20.3746,-20.3845,-20.3906,-20.0422, -19.6956,-19.3496,-18.8159,-18.4572, -17.9211,-17.3791,-17.0148,-16.6392, -16.2687,-15.7049,-15.3247,-14.9451, -14.5563,-13.9734,-13.5772,-13.1806, -12.5766,-12.1723,-11.7563,-11.3484, -10.9297,-10.2935,-9.86725,-9.43402, -8.99853,-8.55566,-7.8829,-7.43217, -6.97442,-6.51155,-6.04559,-5.57292, -5.0955,-4.61373,-4.12399,-3.38572, -2.88439,-2.3758,-1.86232,-1.34054, -0.813124,-0.278636,0.260128,0.80883, 1.11477,1.12377,1.1322,1.14133,1.15332, 1.16883,0.8923,0.341498,-0.195101, -0.997551,-1.52253,-2.04081,-2.55301, -3.05975,-3.56065,-4.05665,-4.54581, -5.03013,-5.50892,-5.97994,-6.44615, -7.13984,-7.82187,-8.49523,-8.93881, -9.37528,-9.81004,-10.2428,-10.6686, -11.0807,-11.699,-12.3247,-12.7294, -13.3321,-13.7293,-14.1225,-14.5109, -14.9004,-15.279,-15.6624,-16.0403, -16.5983,-16.9709,-17.3346,-17.6996, -18.0639,-18.4194,-18.7757,-19.3092, -19.6559,-20.0038,-20.3746)
FOOTPRINT_POINT_LONGITUDE = (13.8054,13.2904,12.8484,12.4677, 12.4625,12.4573,12.4478,12.441,12.4313, 12.4218,12.4144,12.4058,12.3982,12.3856 ,12.377,12.3681,12.3586,12.3439,12.3338 ,12.3232,12.3068,12.2953,12.2826, 12.2714,12.259,12.2388,12.2255,12.2113, 12.1967,12.1814,12.1572,12.141,12.1244, 12.1068,12.0889,12.0706,12.0516,12.0322 ,12.0115,11.9812,11.9596,11.9372, 11.9144,11.8901,11.8653,11.8396,11.8136 ,11.7859,12.16,12.5286,12.8325,13.1807, 13.5735,14.1065,14.1036,14.0975,14.0946 ,14.0869,14.0824,14.0782,14.0741, 14.0701,14.0662,14.0624,14.0585,14.0546 ,14.0511,14.0493,14.0463,14.0411, 14.0366,14.0314,14.0284,14.0256,14.0226 ,14.018,14.0151,14.0167,14.0154,14.0072 ,14.005,14.001,13.9988,13.9966,13.9947, 13.9924,13.9913,13.988,13.9859,13.9834, 13.9812,13.9795,13.9772,13.9752,13.9733 ,13.9713,13.9676,13.966,13.964,13.8054)
ORBIT_NUMBER = 8451
ORBITAL_ECCENTRICITY = 0.579
ORBITAL_INCLINATION = 86.83
ORBITAL_SEMIMAJOR_AXIS = 8814.67
PERIAPSIS_ALTITUDE = 323.3
PERIAPSIS_ARGUMENT_ANGLE = 317.83
PERIAPSIS_TIME = 2010-08-10T02:58:24.000Z
SPACECRAFT_ORIENTATION = (0.0,1.0,0.0)
^MEX_ORIENTATION_DESC = "MEX_ORIENTATION_DESC.TXT"
SPACECRAFT_POINTING_MODE = ACROSSTRACK
^MEX_POINTING_DESC = "MEX_POINTING_DESC.TXT"
RIGHT_ASCENSION = -1e+32
DECLINATION = -1e+32
OFFSET_ANGLE = -0.3
SPACECRAFT_SOLAR_DISTANCE = 2.37135e+08
TARGET_NAME = MARS
/* CAMERA DATA ELEMENTS */
DETECTOR_TEMPERATURE = 18.5744
FOCAL_PLANE_TEMPERATURE = 8.9911
INST_CMPRS_NAME = "DISCRETE COSINE TRANSFORMATION (DCT)"
INST_CMPRS_RATIO = 12.5732
INST_CMPRS_QUALITY = 0
INST_CMPRS_QUANTZ_TBL_ID = 0
INSTRUMENT_TEMPERATURE = 11.0301
LENS_TEMPERATURE = 8.5833
MACROPIXEL_SIZE = 4
MISSING_FRAMES = 0
PIXEL_SUBSAMPLING_FLAG = N
SIGNAL_CHAIN_ID = 2
/* RADIOMETRIC DATA ELEMENTS */
BANDWIDTH = 48.0
CENTER_FILTER_WAVELENGTH = 748.0
RADIANCE_OFFSET = 0.311408
RADIANCE_SCALING_FACTOR = 0.00865466
REFLECTANCE_SCALING_FACTOR = 0.00111062
MEX:REFLECTANCE_OFFSET = 0.0399618
/* IMAGE OBJECT DEFINITIONS */
OBJECT = IMAGE
  INTERCHANGE_FORMAT = BINARY
  LINES = 25531
  LINE_SAMPLES = 3105
  SAMPLE_TYPE = UNSIGNED_INTEGER
  SAMPLE_BITS = 8
  BANDS = 1
  BAND_STORAGE_TYPE = BAND_SEQUENTIAL
  MAXIMUM = 255
  MEAN = 83.7813
  MINIMUM = 1
  STANDARD_DEVIATION = 39.226
END_OBJECT = IMAGE
/* MAP OBJECT DEFINITIONS */
OBJECT = IMAGE_MAP_PROJECTION
  ^DATA_SET_MAP_PROJECTION_CATALOG= "DSMAP.CAT"
  A_AXIS_RADIUS = 3396.0
  B_AXIS_RADIUS = 3396.0
  C_AXIS_RADIUS = 3396.0
  CENTER_LATITUDE = 0.0
  CENTER_LONGITUDE = 13.0
  COORDINATE_SYSTEM_NAME = PLANETOGRAPHIC
  COORDINATE_SYSTEM_TYPE = "BODY-FIXED ROTATING"
  EASTERNMOST_LONGITUDE = 14.1065
  FIRST_STANDARD_PARALLEL = "N/A"
  LINE_FIRST_PIXEL = 1
  LINE_LAST_PIXEL = 25531
  LINE_PROJECTION_OFFSET = 1383.125
  MAP_PROJECTION_ROTATION = 0.0
  MAP_PROJECTION_TYPE = SINUSOIDAL
  MAP_RESOLUTION = 1185.42760773333
  MAP_SCALE = 0.05
  MAXIMUM_LATITUDE = 1.16883
  MINIMUM_LATITUDE = -20.3906
  POSITIVE_LONGITUDE_DIRECTION = EAST
  REFERENCE_LATITUDE = "N/A"
  REFERENCE_LONGITUDE = "N/A"
  SAMPLE_FIRST_PIXEL = 1
  SAMPLE_LAST_PIXEL = 3105
  SAMPLE_PROJECTION_OFFSET = 1616.625
  SECOND_STANDARD_PARALLEL = "N/A"
  WESTERNMOST_LONGITUDE = 11.7859
END_OBJECT = IMAGE_MAP_PROJECTION
/* The JPEG2000 image data file associated with this label. */
OBJECT = COMPRESSED_FILE
  FILE_NAME = "H8451_0000_RE3.JP2"
  RECORD_TYPE = UNDEFINED
  FILE_RECORDS = UNK
  ENCODING_TYPE = "JP2"
  INTERCHANGE_FORMAT = BINARY
  UNCOMPRESSED_FILE_NAME = "H8451_0000_RE3.IMG"
  REQUIRED_STORAGE_BYTES = "79298595"
  ^DESCRIPTION = "JP2INFO.TXT"
END_OBJECT = COMPRESSED_FILE
END
