PDS_VERSION_ID = PDS3
/* FILE DATA ELEMENTS */
RECORD_TYPE = STREAM
/* POINTERS TO DATA OBJECTS */
^COMPRESSED_FILE = "H8453_0000_IR3.JP2"
/* IDENTIFICATION DATA ELEMENTS */
DATA_SET_ID = "MEX-M-HRSC-5-REFDR-MAPPROJECTED-V3.0"
DATA_SET_NAME = "MARS EXPRESS HRSC MAP PROJECTED REFDR V3.0"
DETECTOR_ID = MEX_HRSC_IR
EVENT_TYPE = "MARS-REGIONAL-MAPPING-Im-Fl"
INSTRUMENT_HOST_ID = MEX
INSTRUMENT_HOST_NAME = "MARS EXPRESS"
INSTRUMENT_ID = HRSC
INSTRUMENT_NAME = "HIGH RESOLUTION STEREO CAMERA"
MISSION_NAME = "MARS EXPRESS"
MISSION_PHASE_NAME = ME_Phase_21
PROCESSING_LEVEL_ID = 3
PRODUCT_CREATION_TIME = 2016-10-25T14:43:05.000Z
PRODUCT_ID = "H8453_0000_IR3.JP2"
RELEASE_ID = 0091
REVISION_ID = 0000
/* QUALITY DATA ELEMENTS */
DATA_QUALITY_ID = 1
DATA_QUALITY_DESC = "Data calculated based on original SPICE kernels"
/* TIME DATA ELEMENTS */
SPACECRAFT_CLOCK_START_COUNT = "1/0229539645.07308"
SPACECRAFT_CLOCK_STOP_COUNT = "1/0229539863.20197"
START_TIME = 2010-08-10T17:01:47.740Z
STOP_TIME = 2010-08-10T17:04:16.201Z
/* ORBITAL DATA ELEMENTS */
ASCENDING_NODE_LONGITUDE = 55.84
MAXIMUM_RESOLUTION = 124.1
FOOTPRINT_POINT_LATITUDE = (-28.1984,-28.1978,-28.1968,-28.1958, -28.1938,-28.2064,-28.0314,-27.7666, -27.5888,-27.4141,-27.2385,-27.0624, -26.888,-26.7133,-26.539,-26.3653, -26.1059,-25.9325,-25.6731,-25.5006, -25.3269,-25.1539,-24.9818,-24.8093, -24.637,-24.3785,-24.0371,-23.8666, -23.6106,-23.2661,-23.0908,-22.9142, -22.7379,-22.5642,-22.3911,-22.2145, -22.0372,-21.8619,-21.6856,-21.4201, -21.1501,-20.969,-20.7887,-20.6088, -20.4298,-20.1562,-19.9732,-19.6977, -19.5141,-19.2999,-19.2979,-19.2955, -19.2922,-19.2906,-19.2879,-19.5711, -19.7551,-19.9388,-20.1235,-20.3078, -20.4908,-20.6715,-20.852,-21.0314, -21.2127,-21.4816,-21.6569,-21.9246, -22.1034,-22.2788,-22.5422,-22.717, -22.8921,-23.0668,-23.2422,-23.5035, -23.6742,-23.8454,-24.0168,-24.1886, -24.3603,-24.5327,-24.7041,-24.8763, -25.1356,-25.3946,-25.5676,-25.827, -26.0003,-26.1742,-26.3483,-26.6095, -26.7837,-26.9583,-27.2195,-27.4845, -27.6602,-27.8357,-28.0116,-28.1984)
FOOTPRINT_POINT_LONGITUDE = (168.882,168.678,168.419,168.201, 167.834,167.562,167.562,167.562,167.564 ,167.563,167.563,167.564,167.563, 167.563,167.563,167.562,167.561,167.56, 167.559,167.557,167.557,167.556,167.555 ,167.554,167.553,167.551,167.548, 167.546,167.543,167.539,167.538,167.537 ,167.535,167.533,167.531,167.528, 167.526,167.522,167.519,167.516,167.511 ,167.509,167.505,167.502,167.499, 167.493,167.489,167.484,167.481,167.568 ,167.851,168.07,168.337,168.697,169.009 ,169.142,169.14,169.137,169.135,169.133 ,169.13,169.128,169.126,169.123,169.12, 169.116,169.113,169.11,169.108,169.105, 169.102,169.099,169.097,169.095,169.093 ,169.09,169.087,169.085,169.083,169.081 ,169.078,169.076,169.074,169.071, 169.068,169.064,169.062,169.058,169.055 ,169.053,169.05,169.047,169.044,169.041 ,169.037,169.034,169.032,169.029, 169.027,168.882)
ORBIT_NUMBER = 8453
ORBITAL_ECCENTRICITY = 0.579
ORBITAL_INCLINATION = 86.83
ORBITAL_SEMIMAJOR_AXIS = 8811.42
PERIAPSIS_ALTITUDE = 323.5
PERIAPSIS_ARGUMENT_ANGLE = 317.51
PERIAPSIS_TIME = 2010-08-10T16:57:43.000Z
SPACECRAFT_ORIENTATION = (0.0,1.0,0.0)
^MEX_ORIENTATION_DESC = "MEX_ORIENTATION_DESC.TXT"
SPACECRAFT_POINTING_MODE = NADIR
^MEX_POINTING_DESC = "MEX_POINTING_DESC.TXT"
RIGHT_ASCENSION = -1e+32
DECLINATION = -1e+32
OFFSET_ANGLE = -1e+32
SPACECRAFT_SOLAR_DISTANCE = 2.37036e+08
TARGET_NAME = MARS
/* CAMERA DATA ELEMENTS */
DETECTOR_TEMPERATURE = 17.351
FOCAL_PLANE_TEMPERATURE = 8.3794
INST_CMPRS_NAME = "DISCRETE COSINE TRANSFORMATION (DCT)"
INST_CMPRS_RATIO = 3.55138
INST_CMPRS_QUALITY = 0
INST_CMPRS_QUANTZ_TBL_ID = 0
INSTRUMENT_TEMPERATURE = 11.0301
LENS_TEMPERATURE = 10.2145
MACROPIXEL_SIZE = 8
MISSING_FRAMES = 0
PIXEL_SUBSAMPLING_FLAG = N
SIGNAL_CHAIN_ID = 2
/* RADIOMETRIC DATA ELEMENTS */
BANDWIDTH = 81.0
CENTER_FILTER_WAVELENGTH = 955.5
RADIANCE_OFFSET = 0.0817308
RADIANCE_SCALING_FACTOR = 0.00675991
REFLECTANCE_SCALING_FACTOR = 0.000819402
MEX:REFLECTANCE_OFFSET = 0.009907
/* IMAGE OBJECT DEFINITIONS */
OBJECT = IMAGE
  INTERCHANGE_FORMAT = BINARY
  LINES = 5296
  LINE_SAMPLES = 930
  SAMPLE_TYPE = UNSIGNED_INTEGER
  SAMPLE_BITS = 8
  BANDS = 1
  BAND_STORAGE_TYPE = BAND_SEQUENTIAL
  MAXIMUM = 255
  MEAN = 94.2106
  MINIMUM = 1
  STANDARD_DEVIATION = 30.4948
END_OBJECT = IMAGE
/* MAP OBJECT DEFINITIONS */
OBJECT = IMAGE_MAP_PROJECTION
  ^DATA_SET_MAP_PROJECTION_CATALOG= "DSMAP.CAT"
  A_AXIS_RADIUS = 3396.0
  B_AXIS_RADIUS = 3396.0
  C_AXIS_RADIUS = 3396.0
  CENTER_LATITUDE = 0.0
  CENTER_LONGITUDE = 168.0
  COORDINATE_SYSTEM_NAME = PLANETOGRAPHIC
  COORDINATE_SYSTEM_TYPE = "BODY-FIXED ROTATING"
  EASTERNMOST_LONGITUDE = 169.142
  FIRST_STANDARD_PARALLEL = "N/A"
  LINE_FIRST_PIXEL = 1
  LINE_LAST_PIXEL = 5296
  LINE_PROJECTION_OFFSET = -11443.9375
  MAP_PROJECTION_ROTATION = 0.0
  MAP_PROJECTION_TYPE = SINUSOIDAL
  MAP_RESOLUTION = 592.713803866667
  MAP_SCALE = 0.1
  MAXIMUM_LATITUDE = -19.2879
  MINIMUM_LATITUDE = -28.2064
  POSITIVE_LONGITUDE_DIRECTION = EAST
  REFERENCE_LATITUDE = "N/A"
  REFERENCE_LONGITUDE = "N/A"
  SAMPLE_FIRST_PIXEL = 1
  SAMPLE_LAST_PIXEL = 930
  SAMPLE_PROJECTION_OFFSET = 296.4375
  SECOND_STANDARD_PARALLEL = "N/A"
  WESTERNMOST_LONGITUDE = 167.481
END_OBJECT = IMAGE_MAP_PROJECTION
/* The JPEG2000 image data file associated with this label. */
OBJECT = COMPRESSED_FILE
  FILE_NAME = "H8453_0000_IR3.JP2"
  RECORD_TYPE = UNDEFINED
  FILE_RECORDS = UNK
  ENCODING_TYPE = "JP2"
  INTERCHANGE_FORMAT = BINARY
  UNCOMPRESSED_FILE_NAME = "H8453_0000_IR3.IMG"
  REQUIRED_STORAGE_BYTES = "4943880"
  ^DESCRIPTION = "JP2INFO.TXT"
END_OBJECT = COMPRESSED_FILE
END
