PDS_VERSION_ID = PDS3
/* FILE DATA ELEMENTS */
RECORD_TYPE = STREAM
/* POINTERS TO DATA OBJECTS */
^COMPRESSED_FILE = "H8453_0000_P23.JP2"
/* IDENTIFICATION DATA ELEMENTS */
DATA_SET_ID = "MEX-M-HRSC-5-REFDR-MAPPROJECTED-V3.0"
DATA_SET_NAME = "MARS EXPRESS HRSC MAP PROJECTED REFDR V3.0"
DETECTOR_ID = MEX_HRSC_P2
EVENT_TYPE = "MARS-REGIONAL-MAPPING-Im-Fl"
INSTRUMENT_HOST_ID = MEX
INSTRUMENT_HOST_NAME = "MARS EXPRESS"
INSTRUMENT_ID = HRSC
INSTRUMENT_NAME = "HIGH RESOLUTION STEREO CAMERA"
MISSION_NAME = "MARS EXPRESS"
MISSION_PHASE_NAME = ME_Phase_21
PROCESSING_LEVEL_ID = 3
PRODUCT_CREATION_TIME = 2016-10-25T14:43:05.000Z
PRODUCT_ID = "H8453_0000_P23.JP2"
RELEASE_ID = 0091
REVISION_ID = 0000
/* QUALITY DATA ELEMENTS */
DATA_QUALITY_ID = 1
DATA_QUALITY_DESC = "Data calculated based on original SPICE kernels"
/* TIME DATA ELEMENTS */
SPACECRAFT_CLOCK_START_COUNT = "1/0229539645.07308"
SPACECRAFT_CLOCK_STOP_COUNT = "1/0229539863.20197"
START_TIME = 2010-08-10T17:00:58.430Z
STOP_TIME = 2010-08-10T17:03:14.986Z
/* ORBITAL DATA ELEMENTS */
ASCENDING_NODE_LONGITUDE = 55.84
MAXIMUM_RESOLUTION = 58
FOOTPRINT_POINT_LATITUDE = (-28.2573,-28.2568,-28.256,-28.2548, -28.2521,-28.2495,-28.2322,-27.994, -27.8356,-27.5214,-27.2842,-27.0476, -26.8893,-26.573,-26.4144,-26.1766, -26.0178,-25.7805,-25.6221,-25.4637, -25.2841,-25.0954,-24.8129,-24.6248, -24.3426,-24.1538,-23.9654,-23.7771, -23.495,-23.3068,-23.1194,-22.9333, -22.7481,-22.56,-22.2778,-22.0903, -21.9012,-21.7127,-21.5266,-21.3385, -21.0579,-20.8708,-20.6838,-20.4964, -20.3081,-20.027,-19.7443,-19.5533, -19.3009,-19.304,-19.3048,-19.3058, -19.3036,-19.303,-19.4931,-19.6843, -19.8758,-20.0617,-20.2492,-20.4359, -20.7161,-20.9037,-21.0915,-21.2786, -21.4668,-21.6558,-21.843,-22.0297, -22.2181,-22.501,-22.6877,-22.969, -23.1569,-23.3445,-23.5326,-23.7209, -23.909,-24.0972,-24.2855,-24.5672, -24.7573,-24.946,-25.1342,-25.3234, -25.499,-25.6576,-25.816,-25.9746, -26.133,-26.2915,-26.5293,-26.6879, -26.8468,-27.0055,-27.2438,-27.5598, -27.7184,-27.8773,-28.036,-28.2573)
FOOTPRINT_POINT_LONGITUDE = (168.978,168.668,168.487,168.294, 167.997,167.778,167.587,167.588,167.589 ,167.591,167.592,167.593,167.593, 167.593,167.593,167.593,167.592,167.592 ,167.592,167.591,167.591,167.591,167.59 ,167.589,167.588,167.587,167.586, 167.584,167.583,167.581,167.58,167.579, 167.579,167.577,167.574,167.572,167.57, 167.567,167.566,167.563,167.56,167.557, 167.555,167.552,167.549,167.544,167.54, 167.538,167.662,167.892,168.208,168.422 ,168.752,169.072,169.071,169.069, 169.068,169.066,169.064,169.063,169.061 ,169.059,169.057,169.055,169.053, 169.051,169.049,169.048,169.046,169.042 ,169.041,169.039,169.037,169.036, 169.034,169.032,169.03,169.028,169.027, 169.024,169.022,169.02,169.018,169.016, 169.014,169.012,169.011,169.009,169.007 ,169.005,169.003,169.001,168.999, 168.997,168.994,168.992,168.99,168.988, 168.986,168.978)
ORBIT_NUMBER = 8453
ORBITAL_ECCENTRICITY = 0.579
ORBITAL_INCLINATION = 86.83
ORBITAL_SEMIMAJOR_AXIS = 8811.42
PERIAPSIS_ALTITUDE = 323.5
PERIAPSIS_ARGUMENT_ANGLE = 317.51
PERIAPSIS_TIME = 2010-08-10T16:57:43.000Z
SPACECRAFT_ORIENTATION = (0.0,1.0,0.0)
^MEX_ORIENTATION_DESC = "MEX_ORIENTATION_DESC.TXT"
SPACECRAFT_POINTING_MODE = NADIR
^MEX_POINTING_DESC = "MEX_POINTING_DESC.TXT"
RIGHT_ASCENSION = -1e+32
DECLINATION = -1e+32
OFFSET_ANGLE = -1e+32
SPACECRAFT_SOLAR_DISTANCE = 2.37036e+08
TARGET_NAME = MARS
/* CAMERA DATA ELEMENTS */
DETECTOR_TEMPERATURE = 18.5744
FOCAL_PLANE_TEMPERATURE = 8.3794
INST_CMPRS_NAME = "DISCRETE COSINE TRANSFORMATION (DCT)"
INST_CMPRS_RATIO = 3.49263
INST_CMPRS_QUALITY = 0
INST_CMPRS_QUANTZ_TBL_ID = 0
INSTRUMENT_TEMPERATURE = 11.0301
LENS_TEMPERATURE = 10.2145
MACROPIXEL_SIZE = 4
MISSING_FRAMES = 0
PIXEL_SUBSAMPLING_FLAG = N
SIGNAL_CHAIN_ID = 3
/* RADIOMETRIC DATA ELEMENTS */
BANDWIDTH = 177.0
CENTER_FILTER_WAVELENGTH = 676.5
RADIANCE_OFFSET = 0.452033
RADIANCE_SCALING_FACTOR = 0.0236979
REFLECTANCE_SCALING_FACTOR = 0.000705986
MEX:REFLECTANCE_OFFSET = 0.0134665
/* IMAGE OBJECT DEFINITIONS */
OBJECT = IMAGE
  INTERCHANGE_FORMAT = BINARY
  LINES = 10591
  LINE_SAMPLES = 1860
  SAMPLE_TYPE = UNSIGNED_INTEGER
  SAMPLE_BITS = 8
  BANDS = 1
  BAND_STORAGE_TYPE = BAND_SEQUENTIAL
  MAXIMUM = 255
  MEAN = 98.9374
  MINIMUM = 1
  STANDARD_DEVIATION = 30.2802
END_OBJECT = IMAGE
/* MAP OBJECT DEFINITIONS */
OBJECT = IMAGE_MAP_PROJECTION
  ^DATA_SET_MAP_PROJECTION_CATALOG= "DSMAP.CAT"
  A_AXIS_RADIUS = 3396.0
  B_AXIS_RADIUS = 3396.0
  C_AXIS_RADIUS = 3396.0
  CENTER_LATITUDE = 0.0
  CENTER_LONGITUDE = 168.0
  COORDINATE_SYSTEM_NAME = PLANETOGRAPHIC
  COORDINATE_SYSTEM_TYPE = "BODY-FIXED ROTATING"
  EASTERNMOST_LONGITUDE = 169.072
  FIRST_STANDARD_PARALLEL = "N/A"
  LINE_FIRST_PIXEL = 1
  LINE_LAST_PIXEL = 10591
  LINE_PROJECTION_OFFSET = -22887.375
  MAP_PROJECTION_ROTATION = 0.0
  MAP_PROJECTION_TYPE = SINUSOIDAL
  MAP_RESOLUTION = 1185.42760773333
  MAP_SCALE = 0.05
  MAXIMUM_LATITUDE = -19.3009
  MINIMUM_LATITUDE = -28.2573
  POSITIVE_LONGITUDE_DIRECTION = EAST
  REFERENCE_LATITUDE = "N/A"
  REFERENCE_LONGITUDE = "N/A"
  SAMPLE_FIRST_PIXEL = 1
  SAMPLE_LAST_PIXEL = 1860
  SAMPLE_PROJECTION_OFFSET = 593.375
  SECOND_STANDARD_PARALLEL = "N/A"
  WESTERNMOST_LONGITUDE = 167.538
END_OBJECT = IMAGE_MAP_PROJECTION
/* The JPEG2000 image data file associated with this label. */
OBJECT = COMPRESSED_FILE
  FILE_NAME = "H8453_0000_P23.JP2"
  RECORD_TYPE = UNDEFINED
  FILE_RECORDS = UNK
  ENCODING_TYPE = "JP2"
  INTERCHANGE_FORMAT = BINARY
  UNCOMPRESSED_FILE_NAME = "H8453_0000_P23.IMG"
  REQUIRED_STORAGE_BYTES = "19719720"
  ^DESCRIPTION = "JP2INFO.TXT"
END_OBJECT = COMPRESSED_FILE
END
