PDS_VERSION_ID = PDS3
/* FILE DATA ELEMENTS */
RECORD_TYPE = STREAM
/* POINTERS TO DATA OBJECTS */
^COMPRESSED_FILE = "H8458_0000_S23.JP2"
/* IDENTIFICATION DATA ELEMENTS */
DATA_SET_ID = "MEX-M-HRSC-5-REFDR-MAPPROJECTED-V3.0"
DATA_SET_NAME = "MARS EXPRESS HRSC MAP PROJECTED REFDR V3.0"
DETECTOR_ID = MEX_HRSC_S2
EVENT_TYPE = "MARS-REGIONAL-MAPPING-Im-Fl-La"
INSTRUMENT_HOST_ID = MEX
INSTRUMENT_HOST_NAME = "MARS EXPRESS"
INSTRUMENT_ID = HRSC
INSTRUMENT_NAME = "HIGH RESOLUTION STEREO CAMERA"
MISSION_NAME = "MARS EXPRESS"
MISSION_PHASE_NAME = ME_Phase_21
PROCESSING_LEVEL_ID = 3
PRODUCT_CREATION_TIME = 2016-10-25T14:43:05.000Z
PRODUCT_ID = "H8458_0000_S23.JP2"
RELEASE_ID = 0091
REVISION_ID = 0000
/* QUALITY DATA ELEMENTS */
DATA_QUALITY_ID = 1
DATA_QUALITY_DESC = "Data calculated based on original SPICE kernels"
/* TIME DATA ELEMENTS */
SPACECRAFT_CLOCK_START_COUNT = "1/0229665836.08243"
SPACECRAFT_CLOCK_STOP_COUNT = "1/0229666303.47109"
START_TIME = 2010-08-12T04:03:58.748Z
STOP_TIME = 2010-08-12T04:08:10.025Z
/* ORBITAL DATA ELEMENTS */
ASCENDING_NODE_LONGITUDE = 55.75
MAXIMUM_RESOLUTION = 44.8
FOOTPRINT_POINT_LATITUDE = (-8.87406,-8.88176,-8.88621,-8.88877, -8.89051,-8.77098,-8.50535,-7.84739, -7.31797,-6.91478,-6.5103,-6.23868, -5.9595,-5.67725,-5.40004,-5.11835, -4.83251,-4.5495,-4.08781,-3.65384, -3.36353,-3.06716,-2.77207,-2.47319, -2.17299,-1.86943,-1.41148,-1.10506, -0.794219,-0.480648,-0.164286,0.15182, 0.47072,0.786948,1.11136,1.43943,1.764, 2.0976,2.43774,2.94349,3.45757,3.80081, 4.1499,4.50411,4.85628,5.21237,5.57167, 5.93319,6.29801,6.57232,6.58151,6.58689 ,6.5982,6.60886,6.63956,6.25676,5.89253 ,5.53133,5.17169,4.8149,4.46237,4.11232 ,3.76202,3.41749,3.07549,2.56676, 2.06268,1.56263,1.06812,0.744721, 0.428757,0.109448,-0.207609,-0.679488, -0.992025,-1.30068,-1.60873,-1.91307, -2.2158,-2.51571,-2.81408,-3.11021, -3.40533,-3.6972,-3.99191,-4.31043, -4.59807,-5.02139,-5.30321,-5.58194, -5.86675,-6.28362,-6.55843,-6.82874, -7.0986,-7.36754,-7.63338,-8.03186, -8.55439,-8.87406)
FOOTPRINT_POINT_LONGITUDE = (17.6684,17.1973,16.8349,16.5454, 16.2556,15.8848,15.8743,15.8503,15.8314 ,15.8168,15.8019,15.7921,15.7798, 15.7677,15.7569,15.7453,15.7327,15.7211 ,15.7014,15.6831,15.6707,15.6574, 15.6444,15.6309,15.617,15.603,15.5815, 15.5674,15.5523,15.5367,15.5209,15.5052 ,15.4895,15.4747,15.458,15.4404,15.4243 ,15.4063,15.3862,15.3585,15.3294, 15.3102,15.29,15.2685,15.2481,15.2269, 15.2053,15.1834,15.1609,15.2498,15.7559 ,16.1016,16.6592,17.1905,17.8948, 17.8867,17.8827,17.8789,17.875,17.8713, 17.8678,17.8644,17.8604,17.8572,17.8539 ,17.849,17.8438,17.8385,17.8332,17.8308 ,17.8295,17.827,17.8244,17.8204,17.8178 ,17.8153,17.8127,17.8104,17.8082,17.806 ,17.8037,17.8015,17.7992,17.7971, 17.7939,17.7913,17.7892,17.7866,17.7848 ,17.7828,17.7793,17.7752,17.7733, 17.7715,17.7697,17.7679,17.766,17.7634, 17.7598,17.6684)
ORBIT_NUMBER = 8458
ORBITAL_ECCENTRICITY = 0.579
ORBITAL_INCLINATION = 86.83
ORBITAL_SEMIMAJOR_AXIS = 8812.94
PERIAPSIS_ALTITUDE = 323.11
PERIAPSIS_ARGUMENT_ANGLE = 316.63
PERIAPSIS_TIME = 2010-08-12T03:55:45.000Z
SPACECRAFT_ORIENTATION = (0.0,1.0,0.0)
^MEX_ORIENTATION_DESC = "MEX_ORIENTATION_DESC.TXT"
SPACECRAFT_POINTING_MODE = NADIR
^MEX_POINTING_DESC = "MEX_POINTING_DESC.TXT"
RIGHT_ASCENSION = -1e+32
DECLINATION = -1e+32
OFFSET_ANGLE = -1e+32
SPACECRAFT_SOLAR_DISTANCE = 2.36789e+08
TARGET_NAME = MARS
/* CAMERA DATA ELEMENTS */
DETECTOR_TEMPERATURE = 18.3705
FOCAL_PLANE_TEMPERATURE = 7.5638
INST_CMPRS_NAME = "DISCRETE COSINE TRANSFORMATION (DCT)"
INST_CMPRS_RATIO = 10.6096
INST_CMPRS_QUALITY = 0
INST_CMPRS_QUANTZ_TBL_ID = 0
INSTRUMENT_TEMPERATURE = 11.0301
LENS_TEMPERATURE = 8.1755
MACROPIXEL_SIZE = 2
MISSING_FRAMES = 5
PIXEL_SUBSAMPLING_FLAG = N
SIGNAL_CHAIN_ID = 1
/* RADIOMETRIC DATA ELEMENTS */
BANDWIDTH = 178.0
CENTER_FILTER_WAVELENGTH = 679.0
RADIANCE_OFFSET = 1.53549
RADIANCE_SCALING_FACTOR = 0.032717
REFLECTANCE_SCALING_FACTOR = 0.000971455
MEX:REFLECTANCE_OFFSET = 0.0455928
/* IMAGE OBJECT DEFINITIONS */
OBJECT = IMAGE
  INTERCHANGE_FORMAT = BINARY
  LINES = 18393
  LINE_SAMPLES = 3715
  SAMPLE_TYPE = UNSIGNED_INTEGER
  SAMPLE_BITS = 8
  BANDS = 1
  BAND_STORAGE_TYPE = BAND_SEQUENTIAL
  MAXIMUM = 255
  MEAN = 121.904
  MINIMUM = 1
  STANDARD_DEVIATION = 36.0954
END_OBJECT = IMAGE
/* MAP OBJECT DEFINITIONS */
OBJECT = IMAGE_MAP_PROJECTION
  ^DATA_SET_MAP_PROJECTION_CATALOG= "DSMAP.CAT"
  A_AXIS_RADIUS = 3396.0
  B_AXIS_RADIUS = 3396.0
  C_AXIS_RADIUS = 3396.0
  CENTER_LATITUDE = 0.0
  CENTER_LONGITUDE = 17.0
  COORDINATE_SYSTEM_NAME = PLANETOGRAPHIC
  COORDINATE_SYSTEM_TYPE = "BODY-FIXED ROTATING"
  EASTERNMOST_LONGITUDE = 17.8948
  FIRST_STANDARD_PARALLEL = "N/A"
  LINE_FIRST_PIXEL = 1
  LINE_LAST_PIXEL = 18393
  LINE_PROJECTION_OFFSET = 7855.25
  MAP_PROJECTION_ROTATION = 0.0
  MAP_PROJECTION_TYPE = SINUSOIDAL
  MAP_RESOLUTION = 1185.42760773333
  MAP_SCALE = 0.05
  MAXIMUM_LATITUDE = 6.63956
  MINIMUM_LATITUDE = -8.890510000000001
  POSITIVE_LONGITUDE_DIRECTION = EAST
  REFERENCE_LATITUDE = "N/A"
  REFERENCE_LONGITUDE = "N/A"
  SAMPLE_FIRST_PIXEL = 1
  SAMPLE_LAST_PIXEL = 3715
  SAMPLE_PROJECTION_OFFSET = 2428.75
  SECOND_STANDARD_PARALLEL = "N/A"
  WESTERNMOST_LONGITUDE = 15.1609
END_OBJECT = IMAGE_MAP_PROJECTION
/* The JPEG2000 image data file associated with this label. */
OBJECT = COMPRESSED_FILE
  FILE_NAME = "H8458_0000_S23.JP2"
  RECORD_TYPE = UNDEFINED
  FILE_RECORDS = UNK
  ENCODING_TYPE = "JP2"
  INTERCHANGE_FORMAT = BINARY
  UNCOMPRESSED_FILE_NAME = "H8458_0000_S23.IMG"
  REQUIRED_STORAGE_BYTES = "68352285"
  ^DESCRIPTION = "JP2INFO.TXT"
END_OBJECT = COMPRESSED_FILE
END
