PDS_VERSION_ID = PDS3
/* FILE DATA ELEMENTS */
RECORD_TYPE = STREAM
/* POINTERS TO DATA OBJECTS */
^COMPRESSED_FILE = "H8466_0000_ND3.JP2"
/* IDENTIFICATION DATA ELEMENTS */
DATA_SET_ID = "MEX-M-HRSC-5-REFDR-MAPPROJECTED-V3.0"
DATA_SET_NAME = "MARS EXPRESS HRSC MAP PROJECTED REFDR V3.0"
DETECTOR_ID = MEX_HRSC_NADIR
EVENT_TYPE = "MARS-REGIONAL-STEREO-Te"
INSTRUMENT_HOST_ID = MEX
INSTRUMENT_HOST_NAME = "MARS EXPRESS"
INSTRUMENT_ID = HRSC
INSTRUMENT_NAME = "HIGH RESOLUTION STEREO CAMERA"
MISSION_NAME = "MARS EXPRESS"
MISSION_PHASE_NAME = ME_Phase_21
PROCESSING_LEVEL_ID = 3
PRODUCT_CREATION_TIME = 2016-10-25T14:43:05.000Z
PRODUCT_ID = "H8466_0000_ND3.JP2"
RELEASE_ID = 0091
REVISION_ID = 0000
/* QUALITY DATA ELEMENTS */
DATA_QUALITY_ID = 1
DATA_QUALITY_DESC = "Data calculated based on original SPICE kernels"
/* TIME DATA ELEMENTS */
SPACECRAFT_CLOCK_START_COUNT = "1/0229866902.09060"
SPACECRAFT_CLOCK_STOP_COUNT = "1/0229867276.63261"
START_TIME = 2010-08-14T11:55:34.834Z
STOP_TIME = 2010-08-14T12:00:24.821Z
/* ORBITAL DATA ELEMENTS */
ASCENDING_NODE_LONGITUDE = 55.6
MAXIMUM_RESOLUTION = 13.5
FOOTPRINT_POINT_LATITUDE = (-33.9627,-33.7944,-33.4775,-33.1609, -32.8444,-32.5283,-32.2124,-31.8968, -31.5814,-31.2664,-30.9516,-30.6371, -30.323,-30.0091,-29.6955,-29.0694, -28.53,-28.1577,-27.7859,-27.4145, -27.0437,-26.6735,-26.3038,-25.9346, -25.566,-25.198,-24.8305,-24.4637, -24.0974,-23.7317,-23.3595,-22.9853, -22.6117,-22.2312,-21.8492,-21.2728, -20.8829,-20.4939,-20.0961,-19.6991, -19.0945,-18.6901,-18.278,-17.8659, -17.4471,-17.0276,-16.6014,-16.1745, -15.7399,-15.7348,-15.7315,-15.7253, -16.1609,-16.5885,-17.0156,-17.4359, -17.8556,-18.2685,-18.6814,-19.0866, -19.6923,-20.09,-20.4886,-20.8783, -21.2688,-21.8464,-22.229,-22.6102, -22.9844,-23.3592,-23.7321,-24.0984, -24.4653,-24.8327,-25.2008,-25.5694, -25.9386,-26.3083,-26.6786,-27.0495, -27.4209,-27.7927,-28.1651,-28.5381, -29.0785,-29.7056,-30.0196,-30.334, -30.6486,-30.9636,-31.2789,-31.5944, -31.9102,-32.2264,-32.5427,-32.8594, -33.1762,-33.4934,-33.8108,-33.9627)
FOOTPRINT_POINT_LONGITUDE = (278.417,277.822,277.827,277.832, 277.836,277.84,277.844,277.848,277.851, 277.855,277.857,277.86,277.862,277.864, 277.866,277.868,277.87,277.871,277.871, 277.871,277.871,277.87,277.869,277.868, 277.866,277.864,277.862,277.859,277.856 ,277.853,277.849,277.845,277.841, 277.837,277.832,277.824,277.818,277.812 ,277.805,277.798,277.787,277.779, 277.771,277.762,277.753,277.743,277.733 ,277.721,277.712,278.393,278.829, 279.482,279.477,279.474,279.471,279.467 ,279.463,279.458,279.454,279.45,279.444 ,279.439,279.435,279.431,279.427,279.42 ,279.416,279.412,279.407,279.403, 279.399,279.394,279.39,279.385,279.38, 279.376,279.371,279.366,279.362,279.357 ,279.351,279.346,279.341,279.335, 279.328,279.318,279.314,279.309,279.304 ,279.299,279.293,279.288,279.282, 279.277,279.271,279.266,279.262,279.254 ,279.248,278.417)
ORBIT_NUMBER = 8466
ORBITAL_ECCENTRICITY = 0.579
ORBITAL_INCLINATION = 86.82
ORBITAL_SEMIMAJOR_AXIS = 8811.37
PERIAPSIS_ALTITUDE = 322.56
PERIAPSIS_ARGUMENT_ANGLE = 315.27
PERIAPSIS_TIME = 2010-08-14T11:52:52.000Z
SPACECRAFT_ORIENTATION = (0.0,1.0,0.0)
^MEX_ORIENTATION_DESC = "MEX_ORIENTATION_DESC.TXT"
SPACECRAFT_POINTING_MODE = NADIR
^MEX_POINTING_DESC = "MEX_POINTING_DESC.TXT"
RIGHT_ASCENSION = -1e+32
DECLINATION = -1e+32
OFFSET_ANGLE = -1e+32
SPACECRAFT_SOLAR_DISTANCE = 2.3639e+08
TARGET_NAME = MARS
/* CAMERA DATA ELEMENTS */
DETECTOR_TEMPERATURE = 17.351
FOCAL_PLANE_TEMPERATURE = 7.5638
INST_CMPRS_NAME = "DISCRETE COSINE TRANSFORMATION (DCT)"
INST_CMPRS_RATIO = 8.42686
INST_CMPRS_QUALITY = 0
INST_CMPRS_QUANTZ_TBL_ID = 0
INSTRUMENT_TEMPERATURE = 10.8262
LENS_TEMPERATURE = 8.1755
MACROPIXEL_SIZE = 1
MISSING_FRAMES = 0
PIXEL_SUBSAMPLING_FLAG = N
SIGNAL_CHAIN_ID = 0
/* RADIOMETRIC DATA ELEMENTS */
BANDWIDTH = 177.0
CENTER_FILTER_WAVELENGTH = 677.5
RADIANCE_OFFSET = 0.0
RADIANCE_SCALING_FACTOR = 0.0238725
REFLECTANCE_SCALING_FACTOR = 0.00070866
MEX:REFLECTANCE_OFFSET = 0.0
/* IMAGE OBJECT DEFINITIONS */
OBJECT = IMAGE
  INTERCHANGE_FORMAT = BINARY
  LINES = 86515
  LINE_SAMPLES = 8485
  SAMPLE_TYPE = UNSIGNED_INTEGER
  SAMPLE_BITS = 8
  BANDS = 1
  BAND_STORAGE_TYPE = BAND_SEQUENTIAL
  MAXIMUM = 255
  MEAN = 78.0395
  MINIMUM = 1
  STANDARD_DEVIATION = 25.7252
END_OBJECT = IMAGE
/* MAP OBJECT DEFINITIONS */
OBJECT = IMAGE_MAP_PROJECTION
  ^DATA_SET_MAP_PROJECTION_CATALOG= "DSMAP.CAT"
  A_AXIS_RADIUS = 3396.0
  B_AXIS_RADIUS = 3396.0
  C_AXIS_RADIUS = 3396.0
  CENTER_LATITUDE = 0.0
  CENTER_LONGITUDE = 279.0
  COORDINATE_SYSTEM_NAME = PLANETOGRAPHIC
  COORDINATE_SYSTEM_TYPE = "BODY-FIXED ROTATING"
  EASTERNMOST_LONGITUDE = 279.482
  FIRST_STANDARD_PARALLEL = "N/A"
  LINE_FIRST_PIXEL = 1
  LINE_LAST_PIXEL = 86515
  LINE_PROJECTION_OFFSET = -74564.0
  MAP_PROJECTION_ROTATION = 0.0
  MAP_PROJECTION_TYPE = SINUSOIDAL
  MAP_RESOLUTION = 4741.71043093333
  MAP_SCALE = 0.0125
  MAXIMUM_LATITUDE = -15.7253
  MINIMUM_LATITUDE = -33.9627
  POSITIVE_LONGITUDE_DIRECTION = EAST
  REFERENCE_LATITUDE = "N/A"
  REFERENCE_LONGITUDE = "N/A"
  SAMPLE_FIRST_PIXEL = 1
  SAMPLE_LAST_PIXEL = 8485
  SAMPLE_PROJECTION_OFFSET = 6070.0
  SECOND_STANDARD_PARALLEL = "N/A"
  WESTERNMOST_LONGITUDE = 277.712
END_OBJECT = IMAGE_MAP_PROJECTION
/* The JPEG2000 image data file associated with this label. */
OBJECT = COMPRESSED_FILE
  FILE_NAME = "H8466_0000_ND3.JP2"
  RECORD_TYPE = UNDEFINED
  FILE_RECORDS = UNK
  ENCODING_TYPE = "JP2"
  INTERCHANGE_FORMAT = BINARY
  UNCOMPRESSED_FILE_NAME = "H8466_0000_ND3.IMG"
  REQUIRED_STORAGE_BYTES = "734113715"
  ^DESCRIPTION = "JP2INFO.TXT"
END_OBJECT = COMPRESSED_FILE
END
