PDS_VERSION_ID = PDS3
/* FILE DATA ELEMENTS */
RECORD_TYPE = STREAM
/* POINTERS TO DATA OBJECTS */
^COMPRESSED_FILE = "H8473_0000_BL3.JP2"
/* IDENTIFICATION DATA ELEMENTS */
DATA_SET_ID = "MEX-M-HRSC-5-REFDR-MAPPROJECTED-V3.0"
DATA_SET_NAME = "MARS EXPRESS HRSC MAP PROJECTED REFDR V3.0"
DETECTOR_ID = MEX_HRSC_BLUE
EVENT_TYPE = "MARS-REGIONAL-STEREO-Te"
INSTRUMENT_HOST_ID = MEX
INSTRUMENT_HOST_NAME = "MARS EXPRESS"
INSTRUMENT_ID = HRSC
INSTRUMENT_NAME = "HIGH RESOLUTION STEREO CAMERA"
MISSION_NAME = "MARS EXPRESS"
MISSION_PHASE_NAME = ME_Phase_21
PROCESSING_LEVEL_ID = 3
PRODUCT_CREATION_TIME = 2016-10-25T14:43:05.000Z
PRODUCT_ID = "H8473_0000_BL3.JP2"
RELEASE_ID = 0091
REVISION_ID = 0000
/* QUALITY DATA ELEMENTS */
DATA_QUALITY_ID = 1
DATA_QUALITY_DESC = "Data calculated based on original SPICE kernels"
/* TIME DATA ELEMENTS */
SPACECRAFT_CLOCK_START_COUNT = "1/0230043300.08254"
SPACECRAFT_CLOCK_STOP_COUNT = "1/0230043579.61292"
START_TIME = 2010-08-16T12:55:33.090Z
STOP_TIME = 2010-08-16T12:58:32.521Z
/* ORBITAL DATA ELEMENTS */
ASCENDING_NODE_LONGITUDE = 55.46
MAXIMUM_RESOLUTION = 128.6
FOOTPRINT_POINT_LATITUDE = (-25.1845,-25.1795,-25.1741,-25.1681, -25.1616,-25.1546,-25.147,-24.8407, -24.4394,-24.0386,-23.8351,-23.6299, -23.4249,-23.2201,-23.0157,-22.7052, -22.4957,-22.2865,-22.0774,-21.8686, -21.5497,-21.3362,-21.1231,-20.9101, -20.5856,-20.3679,-20.1505,-19.9333, -19.7127,-19.4909,-19.2693,-19.0481, -18.8244,-18.5984,-18.3727,-18.1473, -17.8037,-17.5739,-17.3445,-16.9952, -16.7615,-16.5288,-16.1743,-15.9369, -15.6994,-15.4579,-15.216,-14.9743, -14.7294,-14.4837,-14.2384,-14.0938, -14.0972,-14.101,-14.1024,-14.231, -14.4769,-14.7233,-14.9689,-15.2108, -15.4531,-15.6954,-15.9333,-16.1717, -16.528,-16.762,-16.9965,-17.3471, -17.5769,-17.8072,-18.1521,-18.3779, -18.6041,-18.8305,-19.0553,-19.2772, -19.4993,-19.7217,-19.9432,-20.1608, -20.3786,-20.5967,-20.9224,-21.136, -21.3497,-21.5637,-21.8837,-22.093, -22.3025,-22.512,-22.7219,-22.931, -23.136,-23.3412,-23.5465,-23.752, -24.0592,-24.4608,-24.863,-25.1845)
FOOTPRINT_POINT_LONGITUDE = (281.829,281.599,281.365,281.127, 280.887,280.642,280.394,280.323,280.326 ,280.328,280.329,280.329,280.33,280.331 ,280.332,280.333,280.333,280.332, 280.332,280.332,280.331,280.331,280.33, 280.33,280.328,280.327,280.326,280.324, 280.322,280.321,280.319,280.317,280.316 ,280.313,280.311,280.308,280.304, 280.301,280.298,280.293,280.29,280.289, 280.286,280.284,280.278,280.273,280.268 ,280.261,280.256,280.25,280.245,280.661 ,281.003,281.517,281.814,282.134,282.13 ,282.126,282.122,282.118,282.114,282.11 ,282.106,282.102,282.096,282.092, 282.088,282.081,282.077,282.073,282.066 ,282.062,282.058,282.054,282.049, 282.045,282.041,282.037,282.032,282.028 ,282.023,282.019,282.012,282.008, 282.003,281.999,281.992,281.987,281.982 ,281.978,281.973,281.968,281.963, 281.959,281.954,281.949,281.942,281.932 ,281.922,281.829)
ORBIT_NUMBER = 8473
ORBITAL_ECCENTRICITY = 0.579
ORBITAL_INCLINATION = 86.82
ORBITAL_SEMIMAJOR_AXIS = 8808.85
PERIAPSIS_ALTITUDE = 322.45
PERIAPSIS_ARGUMENT_ANGLE = 314.07
PERIAPSIS_TIME = 2010-08-16T12:50:21.000Z
SPACECRAFT_ORIENTATION = (0.0,1.0,0.0)
^MEX_ORIENTATION_DESC = "MEX_ORIENTATION_DESC.TXT"
SPACECRAFT_POINTING_MODE = ACROSSTRACK
^MEX_POINTING_DESC = "MEX_POINTING_DESC.TXT"
RIGHT_ASCENSION = -1e+32
DECLINATION = -1e+32
OFFSET_ANGLE = 1.346
SPACECRAFT_SOLAR_DISTANCE = 2.36037e+08
TARGET_NAME = MARS
/* CAMERA DATA ELEMENTS */
DETECTOR_TEMPERATURE = 18.1666
FOCAL_PLANE_TEMPERATURE = 7.7677
INST_CMPRS_NAME = "DISCRETE COSINE TRANSFORMATION (DCT)"
INST_CMPRS_RATIO = 15.0427
INST_CMPRS_QUALITY = 0
INST_CMPRS_QUANTZ_TBL_ID = 0
INSTRUMENT_TEMPERATURE = 11.0301
LENS_TEMPERATURE = 7.9716
MACROPIXEL_SIZE = 8
MISSING_FRAMES = 0
PIXEL_SUBSAMPLING_FLAG = N
SIGNAL_CHAIN_ID = 2
/* RADIOMETRIC DATA ELEMENTS */
BANDWIDTH = 76.0
CENTER_FILTER_WAVELENGTH = 444.0
RADIANCE_OFFSET = 0.107462
RADIANCE_SCALING_FACTOR = 0.0025812
REFLECTANCE_SCALING_FACTOR = 0.000147753
MEX:REFLECTANCE_OFFSET = 0.00615134
/* IMAGE OBJECT DEFINITIONS */
OBJECT = IMAGE
  INTERCHANGE_FORMAT = BINARY
  LINES = 6577
  LINE_SAMPLES = 1183
  SAMPLE_TYPE = UNSIGNED_INTEGER
  SAMPLE_BITS = 8
  BANDS = 1
  BAND_STORAGE_TYPE = BAND_SEQUENTIAL
  MAXIMUM = 255
  MEAN = 140.308
  MINIMUM = 1
  STANDARD_DEVIATION = 22.3203
END_OBJECT = IMAGE
/* MAP OBJECT DEFINITIONS */
OBJECT = IMAGE_MAP_PROJECTION
  ^DATA_SET_MAP_PROJECTION_CATALOG= "DSMAP.CAT"
  A_AXIS_RADIUS = 3396.0
  B_AXIS_RADIUS = 3396.0
  C_AXIS_RADIUS = 3396.0
  CENTER_LATITUDE = 0.0
  CENTER_LONGITUDE = 281.0
  COORDINATE_SYSTEM_NAME = PLANETOGRAPHIC
  COORDINATE_SYSTEM_TYPE = "BODY-FIXED ROTATING"
  EASTERNMOST_LONGITUDE = 282.134
  FIRST_STANDARD_PARALLEL = "N/A"
  LINE_FIRST_PIXEL = 1
  LINE_LAST_PIXEL = 6577
  LINE_PROJECTION_OFFSET = -8344.1875
  MAP_PROJECTION_ROTATION = 0.0
  MAP_PROJECTION_TYPE = SINUSOIDAL
  MAP_RESOLUTION = 592.713803866667
  MAP_SCALE = 0.1
  MAXIMUM_LATITUDE = -14.0938
  MINIMUM_LATITUDE = -25.1845
  POSITIVE_LONGITUDE_DIRECTION = EAST
  REFERENCE_LATITUDE = "N/A"
  REFERENCE_LONGITUDE = "N/A"
  SAMPLE_FIRST_PIXEL = 1
  SAMPLE_LAST_PIXEL = 1183
  SAMPLE_PROJECTION_OFFSET = 522.8125
  SECOND_STANDARD_PARALLEL = "N/A"
  WESTERNMOST_LONGITUDE = 280.245
END_OBJECT = IMAGE_MAP_PROJECTION
/* The JPEG2000 image data file associated with this label. */
OBJECT = COMPRESSED_FILE
  FILE_NAME = "H8473_0000_BL3.JP2"
  RECORD_TYPE = UNDEFINED
  FILE_RECORDS = UNK
  ENCODING_TYPE = "JP2"
  INTERCHANGE_FORMAT = BINARY
  UNCOMPRESSED_FILE_NAME = "H8473_0000_BL3.IMG"
  REQUIRED_STORAGE_BYTES = "7798336"
  ^DESCRIPTION = "JP2INFO.TXT"
END_OBJECT = COMPRESSED_FILE
END
