PDS_VERSION_ID = PDS3
/* FILE DATA ELEMENTS */
RECORD_TYPE = STREAM
/* POINTERS TO DATA OBJECTS */
^COMPRESSED_FILE = "H8473_0000_IR3.JP2"
/* IDENTIFICATION DATA ELEMENTS */
DATA_SET_ID = "MEX-M-HRSC-5-REFDR-MAPPROJECTED-V3.0"
DATA_SET_NAME = "MARS EXPRESS HRSC MAP PROJECTED REFDR V3.0"
DETECTOR_ID = MEX_HRSC_IR
EVENT_TYPE = "MARS-REGIONAL-STEREO-Te"
INSTRUMENT_HOST_ID = MEX
INSTRUMENT_HOST_NAME = "MARS EXPRESS"
INSTRUMENT_ID = HRSC
INSTRUMENT_NAME = "HIGH RESOLUTION STEREO CAMERA"
MISSION_NAME = "MARS EXPRESS"
MISSION_PHASE_NAME = ME_Phase_21
PROCESSING_LEVEL_ID = 3
PRODUCT_CREATION_TIME = 2016-10-25T14:43:05.000Z
PRODUCT_ID = "H8473_0000_IR3.JP2"
RELEASE_ID = 0091
REVISION_ID = 0000
/* QUALITY DATA ELEMENTS */
DATA_QUALITY_ID = 1
DATA_QUALITY_DESC = "Data calculated based on original SPICE kernels"
/* TIME DATA ELEMENTS */
SPACECRAFT_CLOCK_START_COUNT = "1/0230043300.08254"
SPACECRAFT_CLOCK_STOP_COUNT = "1/0230043579.61292"
START_TIME = 2010-08-16T12:56:13.437Z
STOP_TIME = 2010-08-16T12:59:29.389Z
/* ORBITAL DATA ELEMENTS */
ASCENDING_NODE_LONGITUDE = 55.46
MAXIMUM_RESOLUTION = 141.9
FOOTPRINT_POINT_LATITUDE = (-25.0933,-25.1044,-25.1155,-25.1265, -25.1376,-25.1486,-25.1597,-24.8675, -24.67,-24.4728,-24.273,-24.0717, -23.8707,-23.6701,-23.3667,-23.1614, -22.957,-22.651,-22.4443,-22.2364, -22.0289,-21.7178,-21.5062,-21.2949, -20.9783,-20.658,-20.4434,-20.2295, -20.0132,-19.7959,-19.4702,-19.1398, -18.9188,-18.6986,-18.4752,-18.2516, -18.0284,-17.8022,-17.5748,-17.2343, -16.8887,-16.658,-16.422,-16.0692, -15.8339,-15.598,-15.364,-15.126, -14.889,-14.5284,-14.2869,-14.1051, -14.0881,-14.073,-14.0531,-14.0413, -14.0245,-14.3839,-14.7471,-14.9869, -15.3467,-15.7013,-16.0567,-16.4058, -16.6385,-16.8688,-17.0995,-17.4423, -17.6705,-17.8983,-18.1225,-18.3473, -18.5722,-18.7929,-19.0142,-19.3458, -19.5632,-19.7814,-20.1084,-20.323, -20.5379,-20.8604,-21.0711,-21.2825, -21.4943,-21.8093,-22.0173,-22.33, -22.5383,-22.743,-22.9477,-23.1528, -23.4596,-23.7614,-23.9628,-24.1647, -24.3662,-24.5637,-24.7616,-25.0933)
FOOTPRINT_POINT_LONGITUDE = (281.897,281.652,281.404,281.153, 280.897,280.639,280.376,280.267,280.267 ,280.268,280.268,280.269,280.269, 280.269,280.269,280.27,280.269,280.268, 280.268,280.267,280.266,280.264,280.263 ,280.262,280.26,280.257,280.255,280.253 ,280.251,280.248,280.244,280.241, 280.238,280.235,280.231,280.228,280.224 ,280.22,280.217,280.21,280.204,280.2, 280.198,280.194,280.189,280.183,280.176 ,280.169,280.161,280.151,280.144,280.46 ,280.798,281.094,281.483,281.733, 282.075,282.212,282.205,282.2,282.192, 282.185,282.177,282.169,282.164,282.159 ,282.154,282.147,282.141,282.136, 282.131,282.126,282.121,282.116,282.111 ,282.103,282.098,282.093,282.085,282.08 ,282.075,282.067,282.062,282.057, 282.052,282.044,282.038,282.03,282.025, 282.02,282.015,282.009,282.001,281.993, 281.988,281.982,281.977,281.971,281.966 ,281.897)
ORBIT_NUMBER = 8473
ORBITAL_ECCENTRICITY = 0.579
ORBITAL_INCLINATION = 86.82
ORBITAL_SEMIMAJOR_AXIS = 8808.85
PERIAPSIS_ALTITUDE = 322.45
PERIAPSIS_ARGUMENT_ANGLE = 314.07
PERIAPSIS_TIME = 2010-08-16T12:50:21.000Z
SPACECRAFT_ORIENTATION = (0.0,1.0,0.0)
^MEX_ORIENTATION_DESC = "MEX_ORIENTATION_DESC.TXT"
SPACECRAFT_POINTING_MODE = ACROSSTRACK
^MEX_POINTING_DESC = "MEX_POINTING_DESC.TXT"
RIGHT_ASCENSION = -1e+32
DECLINATION = -1e+32
OFFSET_ANGLE = 1.346
SPACECRAFT_SOLAR_DISTANCE = 2.36037e+08
TARGET_NAME = MARS
/* CAMERA DATA ELEMENTS */
DETECTOR_TEMPERATURE = 17.1471
FOCAL_PLANE_TEMPERATURE = 7.7677
INST_CMPRS_NAME = "DISCRETE COSINE TRANSFORMATION (DCT)"
INST_CMPRS_RATIO = 13.915
INST_CMPRS_QUALITY = 0
INST_CMPRS_QUANTZ_TBL_ID = 0
INSTRUMENT_TEMPERATURE = 11.0301
LENS_TEMPERATURE = 7.9716
MACROPIXEL_SIZE = 8
MISSING_FRAMES = 0
PIXEL_SUBSAMPLING_FLAG = N
SIGNAL_CHAIN_ID = 2
/* RADIOMETRIC DATA ELEMENTS */
BANDWIDTH = 81.0
CENTER_FILTER_WAVELENGTH = 955.5
RADIANCE_OFFSET = 0.0886795
RADIANCE_SCALING_FACTOR = 0.00655781
REFLECTANCE_SCALING_FACTOR = 0.000788211
MEX:REFLECTANCE_OFFSET = 0.0106588
/* IMAGE OBJECT DEFINITIONS */
OBJECT = IMAGE
  INTERCHANGE_FORMAT = BINARY
  LINES = 6577
  LINE_SAMPLES = 1183
  SAMPLE_TYPE = UNSIGNED_INTEGER
  SAMPLE_BITS = 8
  BANDS = 1
  BAND_STORAGE_TYPE = BAND_SEQUENTIAL
  MAXIMUM = 255
  MEAN = 89.6413
  MINIMUM = 1
  STANDARD_DEVIATION = 24.6353
END_OBJECT = IMAGE
/* MAP OBJECT DEFINITIONS */
OBJECT = IMAGE_MAP_PROJECTION
  ^DATA_SET_MAP_PROJECTION_CATALOG= "DSMAP.CAT"
  A_AXIS_RADIUS = 3396.0
  B_AXIS_RADIUS = 3396.0
  C_AXIS_RADIUS = 3396.0
  CENTER_LATITUDE = 0.0
  CENTER_LONGITUDE = 281.0
  COORDINATE_SYSTEM_NAME = PLANETOGRAPHIC
  COORDINATE_SYSTEM_TYPE = "BODY-FIXED ROTATING"
  EASTERNMOST_LONGITUDE = 282.212
  FIRST_STANDARD_PARALLEL = "N/A"
  LINE_FIRST_PIXEL = 1
  LINE_LAST_PIXEL = 6577
  LINE_PROJECTION_OFFSET = -8344.1875
  MAP_PROJECTION_ROTATION = 0.0
  MAP_PROJECTION_TYPE = SINUSOIDAL
  MAP_RESOLUTION = 592.713803866667
  MAP_SCALE = 0.1
  MAXIMUM_LATITUDE = -14.0245
  MINIMUM_LATITUDE = -25.1597
  POSITIVE_LONGITUDE_DIRECTION = EAST
  REFERENCE_LATITUDE = "N/A"
  REFERENCE_LONGITUDE = "N/A"
  SAMPLE_FIRST_PIXEL = 1
  SAMPLE_LAST_PIXEL = 1183
  SAMPLE_PROJECTION_OFFSET = 522.8125
  SECOND_STANDARD_PARALLEL = "N/A"
  WESTERNMOST_LONGITUDE = 280.144
END_OBJECT = IMAGE_MAP_PROJECTION
/* The JPEG2000 image data file associated with this label. */
OBJECT = COMPRESSED_FILE
  FILE_NAME = "H8473_0000_IR3.JP2"
  RECORD_TYPE = UNDEFINED
  FILE_RECORDS = UNK
  ENCODING_TYPE = "JP2"
  INTERCHANGE_FORMAT = BINARY
  UNCOMPRESSED_FILE_NAME = "H8473_0000_IR3.IMG"
  REQUIRED_STORAGE_BYTES = "7798336"
  ^DESCRIPTION = "JP2INFO.TXT"
END_OBJECT = COMPRESSED_FILE
END
