PDS_VERSION_ID = PDS3
/* FILE DATA ELEMENTS */
RECORD_TYPE = STREAM
/* POINTERS TO DATA OBJECTS */
^COMPRESSED_FILE = "H8473_0000_P13.JP2"
/* IDENTIFICATION DATA ELEMENTS */
DATA_SET_ID = "MEX-M-HRSC-5-REFDR-MAPPROJECTED-V3.0"
DATA_SET_NAME = "MARS EXPRESS HRSC MAP PROJECTED REFDR V3.0"
DETECTOR_ID = MEX_HRSC_P1
EVENT_TYPE = "MARS-REGIONAL-STEREO-Te"
INSTRUMENT_HOST_ID = MEX
INSTRUMENT_HOST_NAME = "MARS EXPRESS"
INSTRUMENT_ID = HRSC
INSTRUMENT_NAME = "HIGH RESOLUTION STEREO CAMERA"
MISSION_NAME = "MARS EXPRESS"
MISSION_PHASE_NAME = ME_Phase_21
PROCESSING_LEVEL_ID = 3
PRODUCT_CREATION_TIME = 2016-10-25T14:43:05.000Z
PRODUCT_ID = "H8473_0000_P13.JP2"
RELEASE_ID = 0091
REVISION_ID = 0000
/* QUALITY DATA ELEMENTS */
DATA_QUALITY_ID = 1
DATA_QUALITY_DESC = "Data calculated based on original SPICE kernels"
/* TIME DATA ELEMENTS */
SPACECRAFT_CLOCK_START_COUNT = "1/0230043300.08254"
SPACECRAFT_CLOCK_STOP_COUNT = "1/0230043579.61292"
START_TIME = 2010-08-16T12:56:05.959Z
STOP_TIME = 2010-08-16T12:59:18.809Z
/* ORBITAL DATA ELEMENTS */
ASCENDING_NODE_LONGITUDE = 55.46
MAXIMUM_RESOLUTION = 34.5
FOOTPRINT_POINT_LATITUDE = (-25.1195,-25.1282,-25.1367,-25.1451, -25.1534,-25.1616,-25.1714,-24.7717, -24.5698,-24.368,-23.9659,-23.7604, -23.4522,-23.247,-23.0416,-22.8331, -22.6239,-22.4156,-22.2072,-21.89, -21.6776,-21.4655,-21.1454,-20.9292, -20.7137,-20.4984,-20.1702,-19.9511, -19.7325,-19.5113,-19.2884,-18.9546, -18.6167,-18.3909,-18.1656,-17.9366, -17.7072,-17.4782,-17.2462,-17.0134, -16.7812,-16.5439,-16.3052,-15.9482, -15.7093,-15.3516,-15.1103,-14.8699, -14.5032,-14.2583,-14.0998,-14.0831, -14.0743,-14.0593,-14.0441,-14.1504, -14.5187,-14.7646,-15.0073,-15.2509, -15.6119,-15.8515,-16.0906,-16.3268, -16.5638,-16.9149,-17.1479,-17.4964, -17.7262,-18.072,-18.4115,-18.6381, -18.864,-19.0869,-19.31,-19.6439, -19.8634,-20.0833,-20.3036,-20.5207, -20.7368,-20.9531,-21.276,-21.4884, -21.7014,-21.9148,-22.1266,-22.3354, -22.6498,-22.8595,-23.0668,-23.2721, -23.4779,-23.6839,-23.9912,-24.1929, -24.3949,-24.5973,-24.8,-25.1195)
FOOTPRINT_POINT_LONGITUDE = (281.857,281.605,281.349,281.089, 280.826,280.558,280.261,280.263,280.264 ,280.264,280.265,280.265,280.265, 280.266,280.266,280.266,280.266,280.264 ,280.264,280.262,280.261,280.26,280.259 ,280.257,280.255,280.254,280.251, 280.249,280.246,280.243,280.241,280.237 ,280.233,280.229,280.226,280.222, 280.218,280.214,280.21,280.206,280.202, 280.199,280.198,280.192,280.187,280.176 ,280.17,280.162,280.152,280.145,280.389 ,280.797,281.018,281.358,281.752, 282.203,282.195,282.19,282.185,282.18, 282.173,282.168,282.163,282.158,282.153 ,282.146,282.141,282.134,282.129, 282.121,282.114,282.109,282.104,282.099 ,282.094,282.086,282.081,282.076, 282.071,282.066,282.061,282.056,282.048 ,282.043,282.038,282.033,282.028, 282.022,282.014,282.009,282.004,281.999 ,281.993,281.988,281.98,281.975,281.969 ,281.964,281.958,281.857)
ORBIT_NUMBER = 8473
ORBITAL_ECCENTRICITY = 0.579
ORBITAL_INCLINATION = 86.82
ORBITAL_SEMIMAJOR_AXIS = 8808.85
PERIAPSIS_ALTITUDE = 322.45
PERIAPSIS_ARGUMENT_ANGLE = 314.07
PERIAPSIS_TIME = 2010-08-16T12:50:21.000Z
SPACECRAFT_ORIENTATION = (0.0,1.0,0.0)
^MEX_ORIENTATION_DESC = "MEX_ORIENTATION_DESC.TXT"
SPACECRAFT_POINTING_MODE = ACROSSTRACK
^MEX_POINTING_DESC = "MEX_POINTING_DESC.TXT"
RIGHT_ASCENSION = -1e+32
DECLINATION = -1e+32
OFFSET_ANGLE = 1.346
SPACECRAFT_SOLAR_DISTANCE = 2.36037e+08
TARGET_NAME = MARS
/* CAMERA DATA ELEMENTS */
DETECTOR_TEMPERATURE = 17.1471
FOCAL_PLANE_TEMPERATURE = 7.7677
INST_CMPRS_NAME = "DISCRETE COSINE TRANSFORMATION (DCT)"
INST_CMPRS_RATIO = 12.5885
INST_CMPRS_QUALITY = 0
INST_CMPRS_QUANTZ_TBL_ID = 0
INSTRUMENT_TEMPERATURE = 11.0301
LENS_TEMPERATURE = 7.9716
MACROPIXEL_SIZE = 2
MISSING_FRAMES = 0
PIXEL_SUBSAMPLING_FLAG = N
SIGNAL_CHAIN_ID = 3
/* RADIOMETRIC DATA ELEMENTS */
BANDWIDTH = 174.0
CENTER_FILTER_WAVELENGTH = 675.0
RADIANCE_OFFSET = 0.530217
RADIANCE_SCALING_FACTOR = 0.0238318
REFLECTANCE_SCALING_FACTOR = 0.000714166
MEX:REFLECTANCE_OFFSET = 0.015889
/* IMAGE OBJECT DEFINITIONS */
OBJECT = IMAGE
  INTERCHANGE_FORMAT = BINARY
  LINES = 26306
  LINE_SAMPLES = 4731
  SAMPLE_TYPE = UNSIGNED_INTEGER
  SAMPLE_BITS = 8
  BANDS = 1
  BAND_STORAGE_TYPE = BAND_SEQUENTIAL
  MAXIMUM = 255
  MEAN = 100.417
  MINIMUM = 1
  STANDARD_DEVIATION = 23.6653
END_OBJECT = IMAGE
/* MAP OBJECT DEFINITIONS */
OBJECT = IMAGE_MAP_PROJECTION
  ^DATA_SET_MAP_PROJECTION_CATALOG= "DSMAP.CAT"
  A_AXIS_RADIUS = 3396.0
  B_AXIS_RADIUS = 3396.0
  C_AXIS_RADIUS = 3396.0
  CENTER_LATITUDE = 0.0
  CENTER_LONGITUDE = 281.0
  COORDINATE_SYSTEM_NAME = PLANETOGRAPHIC
  COORDINATE_SYSTEM_TYPE = "BODY-FIXED ROTATING"
  EASTERNMOST_LONGITUDE = 282.203
  FIRST_STANDARD_PARALLEL = "N/A"
  LINE_FIRST_PIXEL = 1
  LINE_LAST_PIXEL = 26306
  LINE_PROJECTION_OFFSET = -33375.25
  MAP_PROJECTION_ROTATION = 0.0
  MAP_PROJECTION_TYPE = SINUSOIDAL
  MAP_RESOLUTION = 2370.85521546667
  MAP_SCALE = 0.025
  MAXIMUM_LATITUDE = -14.0441
  MINIMUM_LATITUDE = -25.1714
  POSITIVE_LONGITUDE_DIRECTION = EAST
  REFERENCE_LATITUDE = "N/A"
  REFERENCE_LONGITUDE = "N/A"
  SAMPLE_FIRST_PIXEL = 1
  SAMPLE_LAST_PIXEL = 4731
  SAMPLE_PROJECTION_OFFSET = 2092.75
  SECOND_STANDARD_PARALLEL = "N/A"
  WESTERNMOST_LONGITUDE = 280.145
END_OBJECT = IMAGE_MAP_PROJECTION
/* The JPEG2000 image data file associated with this label. */
OBJECT = COMPRESSED_FILE
  FILE_NAME = "H8473_0000_P13.JP2"
  RECORD_TYPE = UNDEFINED
  FILE_RECORDS = UNK
  ENCODING_TYPE = "JP2"
  INTERCHANGE_FORMAT = BINARY
  UNCOMPRESSED_FILE_NAME = "H8473_0000_P13.IMG"
  REQUIRED_STORAGE_BYTES = "124477341"
  ^DESCRIPTION = "JP2INFO.TXT"
END_OBJECT = COMPRESSED_FILE
END
