PDS_VERSION_ID = PDS3
/* FILE DATA ELEMENTS */
RECORD_TYPE = STREAM
/* POINTERS TO DATA OBJECTS */
^COMPRESSED_FILE = "H8474_0000_P13.JP2"
/* IDENTIFICATION DATA ELEMENTS */
DATA_SET_ID = "MEX-M-HRSC-5-REFDR-MAPPROJECTED-V3.0"
DATA_SET_NAME = "MARS EXPRESS HRSC MAP PROJECTED REFDR V3.0"
DETECTOR_ID = MEX_HRSC_P1
EVENT_TYPE = "MARS-REGIONAL-MAPPING-Im-Fl"
INSTRUMENT_HOST_ID = MEX
INSTRUMENT_HOST_NAME = "MARS EXPRESS"
INSTRUMENT_ID = HRSC
INSTRUMENT_NAME = "HIGH RESOLUTION STEREO CAMERA"
MISSION_NAME = "MARS EXPRESS"
MISSION_PHASE_NAME = ME_Phase_21
PROCESSING_LEVEL_ID = 3
PRODUCT_CREATION_TIME = 2016-10-25T14:43:05.000Z
PRODUCT_ID = "H8474_0000_P13.JP2"
RELEASE_ID = 0091
REVISION_ID = 0000
/* QUALITY DATA ELEMENTS */
DATA_QUALITY_ID = 1
DATA_QUALITY_DESC = "Data calculated based on original SPICE kernels"
/* TIME DATA ELEMENTS */
SPACECRAFT_CLOCK_START_COUNT = "1/0230068306.09059"
SPACECRAFT_CLOCK_STOP_COUNT = "1/0230068496.49864"
START_TIME = 2010-08-16T19:52:39.139Z
STOP_TIME = 2010-08-16T19:54:44.405Z
/* ORBITAL DATA ELEMENTS */
ASCENDING_NODE_LONGITUDE = 55.44
MAXIMUM_RESOLUTION = 56.4
FOOTPRINT_POINT_LATITUDE = (-36.6583,-36.6595,-36.6604,-36.661, -36.6613,-36.6614,-36.6148,-36.3923, -36.2416,-36.0934,-35.9441,-35.7202, -35.4962,-35.3483,-35.2002,-34.9791, -34.8313,-34.6836,-34.5363,-34.389, -34.2417,-34.095,-33.9477,-33.801, -33.6541,-33.5064,-33.3602,-33.2148, -33.0688,-32.778,-32.5613,-32.4154, -32.2697,-32.1241,-31.8749,-31.7011, -31.5241,-31.266,-31.0939,-30.9211, -30.7482,-30.5761,-30.4037,-30.2313, -30.0593,-29.8877,-29.7158,-29.5444, -29.3735,-29.1182,-28.9474,-28.83, -28.8266,-28.8229,-28.8209,-28.818, -28.8144,-28.9857,-29.2425,-29.4142, -29.6719,-29.8436,-30.0154,-30.1876, -30.3599,-30.5329,-30.7053,-30.8786, -31.1388,-31.3123,-31.4854,-31.6561, -31.8292,-32.0842,-32.4465,-32.5923, -32.8125,-32.9595,-33.106,-33.2521, -33.3992,-33.5467,-33.693,-33.8399, -34.0594,-34.2091,-34.3561,-34.5054, -34.7285,-34.877,-35.0247,-35.2465, -35.3956,-35.6183,-35.767,-35.9894, -36.1382,-36.2876,-36.4362,-36.6583)
FOOTPRINT_POINT_LONGITUDE = (179.993,179.776,179.557,179.336, 179.114,178.889,178.58,178.588,178.596, 178.601,178.608,178.617,178.627,178.632 ,178.637,178.643,178.648,178.652, 178.657,178.661,178.665,178.668,178.673 ,178.676,178.68,178.685,178.688,178.69, 178.693,178.698,178.7,178.703,178.706, 178.709,178.714,178.717,178.725,178.727 ,178.729,178.732,178.735,178.737, 178.739,178.742,178.744,178.746,178.749 ,178.751,178.752,178.753,178.755, 179.099,179.322,179.602,179.806,180.038 ,180.33,180.326,180.32,180.315,180.309, 180.304,180.3,180.296,180.291,180.286, 180.282,180.277,180.27,180.265,180.261, 180.256,180.251,180.244,180.234,180.229 ,180.223,180.219,180.214,180.21,180.206 ,180.201,180.197,180.192,180.186, 180.181,180.176,180.171,180.164,180.159 ,180.155,180.147,180.142,180.135,180.13 ,180.122,180.117,180.112,180.107, 179.993)
ORBIT_NUMBER = 8474
ORBITAL_ECCENTRICITY = 0.579
ORBITAL_INCLINATION = 86.83
ORBITAL_SEMIMAJOR_AXIS = 8805.03
PERIAPSIS_ALTITUDE = 322.76
PERIAPSIS_ARGUMENT_ANGLE = 313.9
PERIAPSIS_TIME = 2010-08-16T19:49:57.000Z
SPACECRAFT_ORIENTATION = (0.0,1.0,0.0)
^MEX_ORIENTATION_DESC = "MEX_ORIENTATION_DESC.TXT"
SPACECRAFT_POINTING_MODE = ACROSSTRACK
^MEX_POINTING_DESC = "MEX_POINTING_DESC.TXT"
RIGHT_ASCENSION = -1e+32
DECLINATION = -1e+32
OFFSET_ANGLE = 0.67
SPACECRAFT_SOLAR_DISTANCE = 2.35986e+08
TARGET_NAME = MARS
/* CAMERA DATA ELEMENTS */
DETECTOR_TEMPERATURE = 17.351
FOCAL_PLANE_TEMPERATURE = 7.5638
INST_CMPRS_NAME = "DISCRETE COSINE TRANSFORMATION (DCT)"
INST_CMPRS_RATIO = 4.06877
INST_CMPRS_QUALITY = 0
INST_CMPRS_QUANTZ_TBL_ID = 0
INSTRUMENT_TEMPERATURE = 10.4184
LENS_TEMPERATURE = 7.9716
MACROPIXEL_SIZE = 4
MISSING_FRAMES = 0
PIXEL_SUBSAMPLING_FLAG = N
SIGNAL_CHAIN_ID = 3
/* RADIOMETRIC DATA ELEMENTS */
BANDWIDTH = 174.0
CENTER_FILTER_WAVELENGTH = 675.0
RADIANCE_OFFSET = 0.173662
RADIANCE_SCALING_FACTOR = 0.0180472
REFLECTANCE_SCALING_FACTOR = 0.000540591
MEX:REFLECTANCE_OFFSET = 0.00520192
/* IMAGE OBJECT DEFINITIONS */
OBJECT = IMAGE
  INTERCHANGE_FORMAT = BINARY
  LINES = 9359
  LINE_SAMPLES = 1815
  SAMPLE_TYPE = UNSIGNED_INTEGER
  SAMPLE_BITS = 8
  BANDS = 1
  BAND_STORAGE_TYPE = BAND_SEQUENTIAL
  MAXIMUM = 255
  MEAN = 100.381
  MINIMUM = 1
  STANDARD_DEVIATION = 25.7328
END_OBJECT = IMAGE
/* MAP OBJECT DEFINITIONS */
OBJECT = IMAGE_MAP_PROJECTION
  ^DATA_SET_MAP_PROJECTION_CATALOG= "DSMAP.CAT"
  A_AXIS_RADIUS = 3396.0
  B_AXIS_RADIUS = 3396.0
  C_AXIS_RADIUS = 3396.0
  CENTER_LATITUDE = 0.0
  CENTER_LONGITUDE = 179.0
  COORDINATE_SYSTEM_NAME = PLANETOGRAPHIC
  COORDINATE_SYSTEM_TYPE = "BODY-FIXED ROTATING"
  EASTERNMOST_LONGITUDE = 180.33
  FIRST_STANDARD_PARALLEL = "N/A"
  LINE_FIRST_PIXEL = 1
  LINE_LAST_PIXEL = 9359
  LINE_PROJECTION_OFFSET = -34159.375
  MAP_PROJECTION_ROTATION = 0.0
  MAP_PROJECTION_TYPE = SINUSOIDAL
  MAP_RESOLUTION = 1185.42760773333
  MAP_SCALE = 0.05
  MAXIMUM_LATITUDE = -28.8144
  MINIMUM_LATITUDE = -36.6614
  POSITIVE_LONGITUDE_DIRECTION = EAST
  REFERENCE_LATITUDE = "N/A"
  REFERENCE_LONGITUDE = "N/A"
  SAMPLE_FIRST_PIXEL = 1
  SAMPLE_LAST_PIXEL = 1815
  SAMPLE_PROJECTION_OFFSET = 457.625
  SECOND_STANDARD_PARALLEL = "N/A"
  WESTERNMOST_LONGITUDE = 178.58
END_OBJECT = IMAGE_MAP_PROJECTION
/* The JPEG2000 image data file associated with this label. */
OBJECT = COMPRESSED_FILE
  FILE_NAME = "H8474_0000_P13.JP2"
  RECORD_TYPE = UNDEFINED
  FILE_RECORDS = UNK
  ENCODING_TYPE = "JP2"
  INTERCHANGE_FORMAT = BINARY
  UNCOMPRESSED_FILE_NAME = "H8474_0000_P13.IMG"
  REQUIRED_STORAGE_BYTES = "17006550"
  ^DESCRIPTION = "JP2INFO.TXT"
END_OBJECT = COMPRESSED_FILE
END
