PDS_VERSION_ID = PDS3
/* FILE DATA ELEMENTS */
RECORD_TYPE = STREAM
/* POINTERS TO DATA OBJECTS */
^COMPRESSED_FILE = "H8478_0000_GR3.JP2"
/* IDENTIFICATION DATA ELEMENTS */
DATA_SET_ID = "MEX-M-HRSC-5-REFDR-MAPPROJECTED-V3.0"
DATA_SET_NAME = "MARS EXPRESS HRSC MAP PROJECTED REFDR V3.0"
DETECTOR_ID = MEX_HRSC_GREEN
EVENT_TYPE = "MARS-REGIONAL-MAPPING-Im-Fl"
INSTRUMENT_HOST_ID = MEX
INSTRUMENT_HOST_NAME = "MARS EXPRESS"
INSTRUMENT_ID = HRSC
INSTRUMENT_NAME = "HIGH RESOLUTION STEREO CAMERA"
MISSION_NAME = "MARS EXPRESS"
MISSION_PHASE_NAME = ME_Phase_21
PROCESSING_LEVEL_ID = 3
PRODUCT_CREATION_TIME = 2016-10-25T14:43:05.000Z
PRODUCT_ID = "H8478_0000_GR3.JP2"
RELEASE_ID = 0091
REVISION_ID = 0000
/* QUALITY DATA ELEMENTS */
DATA_QUALITY_ID = 1
DATA_QUALITY_DESC = "Data calculated based on original SPICE kernels"
/* TIME DATA ELEMENTS */
SPACECRAFT_CLOCK_START_COUNT = "1/0230169089.07299"
SPACECRAFT_CLOCK_STOP_COUNT = "1/0230169297.47303"
START_TIME = 2010-08-17T23:52:08.676Z
STOP_TIME = 2010-08-17T23:54:22.872Z
/* ORBITAL DATA ELEMENTS */
ASCENDING_NODE_LONGITUDE = 55.37
MAXIMUM_RESOLUTION = 114.3
FOOTPRINT_POINT_LATITUDE = (-32.8456,-32.8432,-32.8411,-32.8387, -32.8363,-32.8332,-32.7576,-32.4664, -32.1759,-31.9581,-31.668,-31.379, -31.2178,-31.0445,-30.7856,-30.6133, -30.441,-30.2688,-30.0967,-29.9249, -29.753,-29.5813,-29.4097,-29.2381, -29.0672,-28.896,-28.725,-28.5541, -28.2977,-28.1267,-27.9562,-27.7013, -27.5311,-27.3608,-27.1911,-26.9367, -26.7674,-26.5981,-26.4289,-26.2599, -26.091,-25.8334,-25.6603,-25.4875, -25.3147,-25.1421,-24.9697,-24.7942, -24.6174,-24.4409,-24.395,-24.3962, -24.3972,-24.3974,-24.3976,-24.3975, -24.3989,-24.5756,-24.7525,-24.9294, -25.102,-25.2748,-25.4482,-25.7077, -25.8811,-26.0536,-26.2226,-26.3919, -26.5612,-26.7307,-26.9004,-27.1556, -27.3258,-27.496,-27.6663,-27.8368, -28.0074,-28.178,-28.3488,-28.5197, -28.6909,-28.8622,-29.0336,-29.2051, -29.3767,-29.5485,-29.7205,-29.9786, -30.1519,-30.4094,-30.5821,-30.7548, -31.0138,-31.1865,-31.5001,-31.7178, -31.9358,-32.2268,-32.518,-32.8456)
FOOTPRINT_POINT_LONGITUDE = (131.809,131.494,131.276,131.057, 130.866,130.648,130.403,130.406,130.409 ,130.411,130.414,130.414,130.415, 130.418,130.419,130.42,130.421,130.422, 130.423,130.424,130.424,130.425,130.426 ,130.426,130.426,130.426,130.426, 130.426,130.427,130.428,130.428,130.426 ,130.426,130.427,130.426,130.425, 130.424,130.423,130.422,130.421,130.42, 130.419,130.417,130.416,130.415,130.413 ,130.412,130.411,130.409,130.408, 130.615,130.825,131.11,131.275,131.471, 131.756,132.006,132.004,132.002,131.999 ,131.997,131.994,131.992,131.988, 131.986,131.983,131.98,131.978,131.975, 131.973,131.97,131.967,131.965,131.962, 131.96,131.957,131.954,131.952,131.949, 131.946,131.943,131.94,131.938,131.935, 131.932,131.929,131.926,131.922,131.921 ,131.914,131.912,131.909,131.904,131.9, 131.894,131.89,131.886,131.881,131.875, 131.809)
ORBIT_NUMBER = 8478
ORBITAL_ECCENTRICITY = 0.579
ORBITAL_INCLINATION = 86.82
ORBITAL_SEMIMAJOR_AXIS = 8808.66
PERIAPSIS_ALTITUDE = 322.51
PERIAPSIS_ARGUMENT_ANGLE = 313.21
PERIAPSIS_TIME = 2010-08-17T23:48:31.000Z
SPACECRAFT_ORIENTATION = (0.0,1.0,0.0)
^MEX_ORIENTATION_DESC = "MEX_ORIENTATION_DESC.TXT"
SPACECRAFT_POINTING_MODE = NADIR
^MEX_POINTING_DESC = "MEX_POINTING_DESC.TXT"
RIGHT_ASCENSION = -1e+32
DECLINATION = -1e+32
OFFSET_ANGLE = -1e+32
SPACECRAFT_SOLAR_DISTANCE = 2.35783e+08
TARGET_NAME = MARS
/* CAMERA DATA ELEMENTS */
DETECTOR_TEMPERATURE = 18.3705
FOCAL_PLANE_TEMPERATURE = 8.5833
INST_CMPRS_NAME = "DISCRETE COSINE TRANSFORMATION (DCT)"
INST_CMPRS_RATIO = 3.40355
INST_CMPRS_QUALITY = 0
INST_CMPRS_QUANTZ_TBL_ID = 0
INSTRUMENT_TEMPERATURE = 11.0301
LENS_TEMPERATURE = 9.8067
MACROPIXEL_SIZE = 8
MISSING_FRAMES = 0
PIXEL_SUBSAMPLING_FLAG = N
SIGNAL_CHAIN_ID = 2
/* RADIOMETRIC DATA ELEMENTS */
BANDWIDTH = 88.0
CENTER_FILTER_WAVELENGTH = 538.0
RADIANCE_OFFSET = 0.122051
RADIANCE_SCALING_FACTOR = 0.00577776
REFLECTANCE_SCALING_FACTOR = 0.000276549
MEX:REFLECTANCE_OFFSET = 0.00584189
/* IMAGE OBJECT DEFINITIONS */
OBJECT = IMAGE
  INTERCHANGE_FORMAT = BINARY
  LINES = 5012
  LINE_SAMPLES = 909
  SAMPLE_TYPE = UNSIGNED_INTEGER
  SAMPLE_BITS = 8
  BANDS = 1
  BAND_STORAGE_TYPE = BAND_SEQUENTIAL
  MAXIMUM = 255
  MEAN = 127.862
  MINIMUM = 2
  STANDARD_DEVIATION = 21.9278
END_OBJECT = IMAGE
/* MAP OBJECT DEFINITIONS */
OBJECT = IMAGE_MAP_PROJECTION
  ^DATA_SET_MAP_PROJECTION_CATALOG= "DSMAP.CAT"
  A_AXIS_RADIUS = 3396.0
  B_AXIS_RADIUS = 3396.0
  C_AXIS_RADIUS = 3396.0
  CENTER_LATITUDE = 0.0
  CENTER_LONGITUDE = 131.0
  COORDINATE_SYSTEM_NAME = PLANETOGRAPHIC
  COORDINATE_SYSTEM_TYPE = "BODY-FIXED ROTATING"
  EASTERNMOST_LONGITUDE = 132.006
  FIRST_STANDARD_PARALLEL = "N/A"
  LINE_FIRST_PIXEL = 1
  LINE_LAST_PIXEL = 5012
  LINE_PROJECTION_OFFSET = -14464.4375
  MAP_PROJECTION_ROTATION = 0.0
  MAP_PROJECTION_TYPE = SINUSOIDAL
  MAP_RESOLUTION = 592.713803866667
  MAP_SCALE = 0.1
  MAXIMUM_LATITUDE = -24.395
  MINIMUM_LATITUDE = -32.8456
  POSITIVE_LONGITUDE_DIRECTION = EAST
  REFERENCE_LATITUDE = "N/A"
  REFERENCE_LONGITUDE = "N/A"
  SAMPLE_FIRST_PIXEL = 1
  SAMPLE_LAST_PIXEL = 909
  SAMPLE_PROJECTION_OFFSET = 347.6875
  SECOND_STANDARD_PARALLEL = "N/A"
  WESTERNMOST_LONGITUDE = 130.403
END_OBJECT = IMAGE_MAP_PROJECTION
/* The JPEG2000 image data file associated with this label. */
OBJECT = COMPRESSED_FILE
  FILE_NAME = "H8478_0000_GR3.JP2"
  RECORD_TYPE = UNDEFINED
  FILE_RECORDS = UNK
  ENCODING_TYPE = "JP2"
  INTERCHANGE_FORMAT = BINARY
  UNCOMPRESSED_FILE_NAME = "H8478_0000_GR3.IMG"
  REQUIRED_STORAGE_BYTES = "4574088"
  ^DESCRIPTION = "JP2INFO.TXT"
END_OBJECT = COMPRESSED_FILE
END
