PDS_VERSION_ID = PDS3
/* FILE DATA ELEMENTS */
RECORD_TYPE = STREAM
/* POINTERS TO DATA OBJECTS */
^COMPRESSED_FILE = "H8478_0000_IR3.JP2"
/* IDENTIFICATION DATA ELEMENTS */
DATA_SET_ID = "MEX-M-HRSC-5-REFDR-MAPPROJECTED-V3.0"
DATA_SET_NAME = "MARS EXPRESS HRSC MAP PROJECTED REFDR V3.0"
DETECTOR_ID = MEX_HRSC_IR
EVENT_TYPE = "MARS-REGIONAL-MAPPING-Im-Fl"
INSTRUMENT_HOST_ID = MEX
INSTRUMENT_HOST_NAME = "MARS EXPRESS"
INSTRUMENT_ID = HRSC
INSTRUMENT_NAME = "HIGH RESOLUTION STEREO CAMERA"
MISSION_NAME = "MARS EXPRESS"
MISSION_PHASE_NAME = ME_Phase_21
PROCESSING_LEVEL_ID = 3
PRODUCT_CREATION_TIME = 2016-10-25T14:43:05.000Z
PRODUCT_ID = "H8478_0000_IR3.JP2"
RELEASE_ID = 0091
REVISION_ID = 0000
/* QUALITY DATA ELEMENTS */
DATA_QUALITY_ID = 1
DATA_QUALITY_DESC = "Data calculated based on original SPICE kernels"
/* TIME DATA ELEMENTS */
SPACECRAFT_CLOCK_START_COUNT = "1/0230169089.07299"
SPACECRAFT_CLOCK_STOP_COUNT = "1/0230169297.47303"
START_TIME = 2010-08-17T23:52:31.110Z
STOP_TIME = 2010-08-17T23:54:50.593Z
/* ORBITAL DATA ELEMENTS */
ASCENDING_NODE_LONGITUDE = 55.37
MAXIMUM_RESOLUTION = 122.5
FOOTPRINT_POINT_LATITUDE = (-32.8073,-32.8059,-32.8037,-32.8016, -32.7976,-32.8075,-32.485,-32.3167, -32.1494,-31.8983,-31.6467,-31.4802, -31.3172,-31.1495,-30.9792,-30.8134, -30.6475,-30.4814,-30.315,-30.1487, -29.9833,-29.8175,-29.5691,-29.4034, -29.2377,-28.9928,-28.8282,-28.6639, -28.4994,-28.3346,-28.1685,-28.0036, -27.6825,-27.5157,-27.3457,-27.1796, -27.0127,-26.8472,-26.6811,-26.4293, -26.2591,-26.0892,-25.9195,-25.7501, -25.5809,-25.409,-25.2358,-25.0628, -24.8895,-24.7169,-24.385,-24.3859, -24.3873,-24.3867,-24.3864,-24.3882, -24.651,-24.8237,-25.0828,-25.2559, -25.4294,-25.6027,-25.8565,-26.0261, -26.1963,-26.3665,-26.5366,-26.7026, -26.8691,-27.1209,-27.2891,-27.4571, -27.6237,-27.7868,-27.9506,-28.1958, -28.3593,-28.5231,-28.6881,-28.9349, -29.0999,-29.2645,-29.4296,-29.6783, -29.8445,-30.0095,-30.3436,-30.5925, -30.7599,-30.9263,-31.1749,-31.3421, -31.5924,-31.7598,-31.9278,-32.096, -32.2647,-32.433,-32.601,-32.8073)
FOOTPRINT_POINT_LONGITUDE = (131.747,131.536,131.268,131.043, 130.663,130.381,130.385,130.386,130.387 ,130.389,130.391,130.392,130.391, 130.392,130.395,130.395,130.396,130.396 ,130.397,130.398,130.398,130.398, 130.399,130.399,130.4,130.399,130.399, 130.399,130.399,130.399,130.399,130.399 ,130.396,130.396,130.397,130.395, 130.395,130.393,130.392,130.39,130.389, 130.388,130.386,130.385,130.383,130.382 ,130.38,130.378,130.377,130.375,130.371 ,130.652,131.108,131.422,131.847, 132.047,132.042,132.039,132.035,132.032 ,132.029,132.027,132.023,132.02,132.017 ,132.014,132.011,132.008,132.005, 132.001,131.999,131.996,131.993,131.99, 131.988,131.983,131.98,131.977,131.974, 131.97,131.967,131.963,131.96,131.956, 131.953,131.95,131.944,131.939,131.936, 131.933,131.927,131.924,131.918,131.915 ,131.912,131.908,131.905,131.902, 131.898,131.747)
ORBIT_NUMBER = 8478
ORBITAL_ECCENTRICITY = 0.579
ORBITAL_INCLINATION = 86.82
ORBITAL_SEMIMAJOR_AXIS = 8808.66
PERIAPSIS_ALTITUDE = 322.51
PERIAPSIS_ARGUMENT_ANGLE = 313.21
PERIAPSIS_TIME = 2010-08-17T23:48:31.000Z
SPACECRAFT_ORIENTATION = (0.0,1.0,0.0)
^MEX_ORIENTATION_DESC = "MEX_ORIENTATION_DESC.TXT"
SPACECRAFT_POINTING_MODE = NADIR
^MEX_POINTING_DESC = "MEX_POINTING_DESC.TXT"
RIGHT_ASCENSION = -1e+32
DECLINATION = -1e+32
OFFSET_ANGLE = -1e+32
SPACECRAFT_SOLAR_DISTANCE = 2.35783e+08
TARGET_NAME = MARS
/* CAMERA DATA ELEMENTS */
DETECTOR_TEMPERATURE = 17.5549
FOCAL_PLANE_TEMPERATURE = 8.5833
INST_CMPRS_NAME = "DISCRETE COSINE TRANSFORMATION (DCT)"
INST_CMPRS_RATIO = 4.34322
INST_CMPRS_QUALITY = 0
INST_CMPRS_QUANTZ_TBL_ID = 0
INSTRUMENT_TEMPERATURE = 11.0301
LENS_TEMPERATURE = 9.8067
MACROPIXEL_SIZE = 8
MISSING_FRAMES = 0
PIXEL_SUBSAMPLING_FLAG = N
SIGNAL_CHAIN_ID = 2
/* RADIOMETRIC DATA ELEMENTS */
BANDWIDTH = 81.0
CENTER_FILTER_WAVELENGTH = 955.5
RADIANCE_OFFSET = 0.0371503
RADIANCE_SCALING_FACTOR = 0.00474942
REFLECTANCE_SCALING_FACTOR = 0.000569628
MEX:REFLECTANCE_OFFSET = 0.00445568
/* IMAGE OBJECT DEFINITIONS */
OBJECT = IMAGE
  INTERCHANGE_FORMAT = BINARY
  LINES = 5012
  LINE_SAMPLES = 909
  SAMPLE_TYPE = UNSIGNED_INTEGER
  SAMPLE_BITS = 8
  BANDS = 1
  BAND_STORAGE_TYPE = BAND_SEQUENTIAL
  MAXIMUM = 255
  MEAN = 105.836
  MINIMUM = 1
  STANDARD_DEVIATION = 20.1955
END_OBJECT = IMAGE
/* MAP OBJECT DEFINITIONS */
OBJECT = IMAGE_MAP_PROJECTION
  ^DATA_SET_MAP_PROJECTION_CATALOG= "DSMAP.CAT"
  A_AXIS_RADIUS = 3396.0
  B_AXIS_RADIUS = 3396.0
  C_AXIS_RADIUS = 3396.0
  CENTER_LATITUDE = 0.0
  CENTER_LONGITUDE = 131.0
  COORDINATE_SYSTEM_NAME = PLANETOGRAPHIC
  COORDINATE_SYSTEM_TYPE = "BODY-FIXED ROTATING"
  EASTERNMOST_LONGITUDE = 132.047
  FIRST_STANDARD_PARALLEL = "N/A"
  LINE_FIRST_PIXEL = 1
  LINE_LAST_PIXEL = 5012
  LINE_PROJECTION_OFFSET = -14464.4375
  MAP_PROJECTION_ROTATION = 0.0
  MAP_PROJECTION_TYPE = SINUSOIDAL
  MAP_RESOLUTION = 592.713803866667
  MAP_SCALE = 0.1
  MAXIMUM_LATITUDE = -24.385
  MINIMUM_LATITUDE = -32.8075
  POSITIVE_LONGITUDE_DIRECTION = EAST
  REFERENCE_LATITUDE = "N/A"
  REFERENCE_LONGITUDE = "N/A"
  SAMPLE_FIRST_PIXEL = 1
  SAMPLE_LAST_PIXEL = 909
  SAMPLE_PROJECTION_OFFSET = 347.6875
  SECOND_STANDARD_PARALLEL = "N/A"
  WESTERNMOST_LONGITUDE = 130.371
END_OBJECT = IMAGE_MAP_PROJECTION
/* The JPEG2000 image data file associated with this label. */
OBJECT = COMPRESSED_FILE
  FILE_NAME = "H8478_0000_IR3.JP2"
  RECORD_TYPE = UNDEFINED
  FILE_RECORDS = UNK
  ENCODING_TYPE = "JP2"
  INTERCHANGE_FORMAT = BINARY
  UNCOMPRESSED_FILE_NAME = "H8478_0000_IR3.IMG"
  REQUIRED_STORAGE_BYTES = "4574088"
  ^DESCRIPTION = "JP2INFO.TXT"
END_OBJECT = COMPRESSED_FILE
END
