PDS_VERSION_ID = PDS3
/* FILE DATA ELEMENTS */
RECORD_TYPE = STREAM
/* POINTERS TO DATA OBJECTS */
^COMPRESSED_FILE = "H8484_0000_RE3.JP2"
/* IDENTIFICATION DATA ELEMENTS */
DATA_SET_ID = "MEX-M-HRSC-5-REFDR-MAPPROJECTED-V3.0"
DATA_SET_NAME = "MARS EXPRESS HRSC MAP PROJECTED REFDR V3.0"
DETECTOR_ID = MEX_HRSC_RED
EVENT_TYPE = "MARS-REGIONAL-MAPPING-Vo-Te-Im"
INSTRUMENT_HOST_ID = MEX
INSTRUMENT_HOST_NAME = "MARS EXPRESS"
INSTRUMENT_ID = HRSC
INSTRUMENT_NAME = "HIGH RESOLUTION STEREO CAMERA"
MISSION_NAME = "MARS EXPRESS"
MISSION_PHASE_NAME = ME_Phase_21
PROCESSING_LEVEL_ID = 3
PRODUCT_CREATION_TIME = 2016-10-25T14:43:05.000Z
PRODUCT_ID = "H8484_0000_RE3.JP2"
RELEASE_ID = 0091
REVISION_ID = 0000
/* QUALITY DATA ELEMENTS */
DATA_QUALITY_ID = 1
DATA_QUALITY_DESC = "Data calculated based on original SPICE kernels"
/* TIME DATA ELEMENTS */
SPACECRAFT_CLOCK_START_COUNT = "1/0230320292.08222"
SPACECRAFT_CLOCK_STOP_COUNT = "1/0230320629.55760"
START_TIME = 2010-08-19T17:51:41.088Z
STOP_TIME = 2010-08-19T17:55:13.800Z
/* ORBITAL DATA ELEMENTS */
ASCENDING_NODE_LONGITUDE = 55.26
MAXIMUM_RESOLUTION = 134
FOOTPRINT_POINT_LATITUDE = (-25.301,-25.2868,-25.2718,-25.2559, -25.2391,-25.2064,-24.9568,-24.5833, -24.3344,-24.0855,-23.7036,-23.4485, -23.0661,-22.8085,-22.5475,-22.1562, -21.8956,-21.6303,-21.3635,-21.0972, -20.8313,-20.5594,-20.2872,-20.0153, -19.7409,-19.4628,-19.1853,-18.9083, -18.6249,-18.342,-17.918,-17.636, -17.3541,-17.073,-16.6513,-16.2305, -15.8101,-15.53,-15.2508,-14.8327, -14.4152,-13.9984,-13.7208,-13.4436, -13.0279,-12.7507,-12.4748,-12.1977, -11.9205,-11.6444,-11.6496,-11.6631, -11.6722,-11.6858,-11.6945,-11.7119, -11.7219,-11.7359,-12.0118,-12.2886, -12.5654,-12.8429,-13.2581,-13.6742, -13.9513,-14.3669,-14.7829,-15.1993, -15.6181,-15.8977,-16.1787,-16.5999, -17.0223,-17.4454,-17.8692,-18.2937, -18.5767,-18.8605,-19.1415,-19.419, -19.6972,-19.9749,-20.3832,-20.6555, -20.928,-21.3278,-21.5948,-21.9946, -22.3864,-22.778,-23.0391,-23.2942, -23.6777,-23.9333,-24.3129,-24.5623, -24.8119,-25.0618,-25.3118,-25.301)
FOOTPRINT_POINT_LONGITUDE = (236.709,236.476,236.24,236.0,235.758, 235.333,235.335,235.338,235.339,235.34, 235.341,235.342,235.342,235.342,235.342 ,235.342,235.341,235.34,235.339,235.338 ,235.337,235.336,235.334,235.332,235.33 ,235.327,235.325,235.322,235.319, 235.316,235.311,235.308,235.304,235.301 ,235.295,235.289,235.281,235.276, 235.272,235.264,235.256,235.247,235.241 ,235.235,235.225,235.218,235.211, 235.202,235.194,235.185,235.356,235.604 ,235.774,236.037,236.222,236.607,236.86 ,237.159,237.156,237.152,237.149, 237.146,237.141,237.135,237.132,237.126 ,237.12,237.114,237.107,237.103,237.099 ,237.093,237.086,237.08,237.073,237.066 ,237.061,237.056,237.052,237.047, 237.042,237.037,237.029,237.024,237.019 ,237.012,237.006,236.999,236.991, 236.983,236.977,236.972,236.964,236.958 ,236.95,236.944,236.938,236.932,236.926 ,236.709)
ORBIT_NUMBER = 8484
ORBITAL_ECCENTRICITY = 0.579
ORBITAL_INCLINATION = 86.83
ORBITAL_SEMIMAJOR_AXIS = 8804.93
PERIAPSIS_ALTITUDE = 321.42
PERIAPSIS_ARGUMENT_ANGLE = 312.16
PERIAPSIS_TIME = 2010-08-19T17:46:25.000Z
SPACECRAFT_ORIENTATION = (0.0,1.0,0.0)
^MEX_ORIENTATION_DESC = "MEX_ORIENTATION_DESC.TXT"
SPACECRAFT_POINTING_MODE = ACROSSTRACK
^MEX_POINTING_DESC = "MEX_POINTING_DESC.TXT"
RIGHT_ASCENSION = -1e+32
DECLINATION = -1e+32
OFFSET_ANGLE = 1.2
SPACECRAFT_SOLAR_DISTANCE = 2.35476e+08
TARGET_NAME = MARS
/* CAMERA DATA ELEMENTS */
DETECTOR_TEMPERATURE = 18.5744
FOCAL_PLANE_TEMPERATURE = 8.7872
INST_CMPRS_NAME = "DISCRETE COSINE TRANSFORMATION (DCT)"
INST_CMPRS_RATIO = 8.29095
INST_CMPRS_QUALITY = 0
INST_CMPRS_QUANTZ_TBL_ID = 0
INSTRUMENT_TEMPERATURE = 11.6418
LENS_TEMPERATURE = 8.9911
MACROPIXEL_SIZE = 8
MISSING_FRAMES = 0
PIXEL_SUBSAMPLING_FLAG = N
SIGNAL_CHAIN_ID = 2
/* RADIOMETRIC DATA ELEMENTS */
BANDWIDTH = 48.0
CENTER_FILTER_WAVELENGTH = 748.0
RADIANCE_OFFSET = 0.315013
RADIANCE_SCALING_FACTOR = 0.00891596
REFLECTANCE_SCALING_FACTOR = 0.0011282
MEX:REFLECTANCE_OFFSET = 0.0398608
/* IMAGE OBJECT DEFINITIONS */
OBJECT = IMAGE
  INTERCHANGE_FORMAT = BINARY
  LINES = 8083
  LINE_SAMPLES = 1302
  SAMPLE_TYPE = UNSIGNED_INTEGER
  SAMPLE_BITS = 8
  BANDS = 1
  BAND_STORAGE_TYPE = BAND_SEQUENTIAL
  MAXIMUM = 255
  MEAN = 135.802
  MINIMUM = 1
  STANDARD_DEVIATION = 37.0545
END_OBJECT = IMAGE
/* MAP OBJECT DEFINITIONS */
OBJECT = IMAGE_MAP_PROJECTION
  ^DATA_SET_MAP_PROJECTION_CATALOG= "DSMAP.CAT"
  A_AXIS_RADIUS = 3396.0
  B_AXIS_RADIUS = 3396.0
  C_AXIS_RADIUS = 3396.0
  CENTER_LATITUDE = 0.0
  CENTER_LONGITUDE = 236.0
  COORDINATE_SYSTEM_NAME = PLANETOGRAPHIC
  COORDINATE_SYSTEM_TYPE = "BODY-FIXED ROTATING"
  EASTERNMOST_LONGITUDE = 237.159
  FIRST_STANDARD_PARALLEL = "N/A"
  LINE_FIRST_PIXEL = 1
  LINE_LAST_PIXEL = 8083
  LINE_PROJECTION_OFFSET = -6885.5625
  MAP_PROJECTION_ROTATION = 0.0
  MAP_PROJECTION_TYPE = SINUSOIDAL
  MAP_RESOLUTION = 592.713803866667
  MAP_SCALE = 0.1
  MAXIMUM_LATITUDE = -11.6444
  MINIMUM_LATITUDE = -25.3118
  POSITIVE_LONGITUDE_DIRECTION = EAST
  REFERENCE_LATITUDE = "N/A"
  REFERENCE_LONGITUDE = "N/A"
  SAMPLE_FIRST_PIXEL = 1
  SAMPLE_LAST_PIXEL = 1302
  SAMPLE_PROJECTION_OFFSET = 589.0625
  SECOND_STANDARD_PARALLEL = "N/A"
  WESTERNMOST_LONGITUDE = 235.185
END_OBJECT = IMAGE_MAP_PROJECTION
/* The JPEG2000 image data file associated with this label. */
OBJECT = COMPRESSED_FILE
  FILE_NAME = "H8484_0000_RE3.JP2"
  RECORD_TYPE = UNDEFINED
  FILE_RECORDS = UNK
  ENCODING_TYPE = "JP2"
  INTERCHANGE_FORMAT = BINARY
  UNCOMPRESSED_FILE_NAME = "H8484_0000_RE3.IMG"
  REQUIRED_STORAGE_BYTES = "10543596"
  ^DESCRIPTION = "JP2INFO.TXT"
END_OBJECT = COMPRESSED_FILE
END
