PDS_VERSION_ID = PDS3
/* FILE DATA ELEMENTS */
RECORD_TYPE = STREAM
/* POINTERS TO DATA OBJECTS */
^COMPRESSED_FILE = "H8491_0000_P23.JP2"
/* IDENTIFICATION DATA ELEMENTS */
DATA_SET_ID = "MEX-M-HRSC-5-REFDR-MAPPROJECTED-V3.0"
DATA_SET_NAME = "MARS EXPRESS HRSC MAP PROJECTED REFDR V3.0"
DETECTOR_ID = MEX_HRSC_P2
EVENT_TYPE = "MARS-REGIONAL-MAPPING-Vo-Te-Im"
INSTRUMENT_HOST_ID = MEX
INSTRUMENT_HOST_NAME = "MARS EXPRESS"
INSTRUMENT_ID = HRSC
INSTRUMENT_NAME = "HIGH RESOLUTION STEREO CAMERA"
MISSION_NAME = "MARS EXPRESS"
MISSION_PHASE_NAME = ME_Phase_21
PROCESSING_LEVEL_ID = 3
PRODUCT_CREATION_TIME = 2016-10-25T14:43:05.000Z
PRODUCT_ID = "H8491_0000_P23.JP2"
RELEASE_ID = 0091
REVISION_ID = 0000
/* QUALITY DATA ELEMENTS */
DATA_QUALITY_ID = 1
DATA_QUALITY_DESC = "Data calculated based on original SPICE kernels"
/* TIME DATA ELEMENTS */
SPACECRAFT_CLOCK_START_COUNT = "1/0230496478.09150"
SPACECRAFT_CLOCK_STOP_COUNT = "1/0230496662.56695"
START_TIME = 2010-08-21T18:48:12.131Z
STOP_TIME = 2010-08-21T18:49:51.545Z
/* ORBITAL DATA ELEMENTS */
ASCENDING_NODE_LONGITUDE = 55.12
MAXIMUM_RESOLUTION = 60.6
FOOTPRINT_POINT_LATITUDE = (-31.533,-31.5175,-31.5012,-31.484, -31.4659,-31.4468,-31.4232,-31.2952, -31.1674,-31.0394,-30.9116,-30.7198, -30.5921,-30.4643,-30.3367,-30.2089, -30.0811,-29.9535,-29.826,-29.6348, -29.5073,-29.3161,-29.1886,-28.9976, -28.8702,-28.743,-28.4886,-28.2344, -27.9799,-27.7258,-27.5355,-27.2183, -27.0887,-26.9585,-26.8283,-26.6983, -26.5684,-26.3735,-26.1789,-26.0492, -25.9179,-25.7847,-25.6519,-25.4528, -25.3192,-25.1863,-25.0536,-24.9835, -25.0009,-25.0168,-25.0261,-25.035, -25.0465,-25.064,-25.0765,-25.2096, -25.3426,-25.4758,-25.609,-25.742, -25.8755,-26.0089,-26.1408,-26.2709, -26.4661,-26.5962,-26.7265,-26.8567, -26.9872,-27.1825,-27.3128,-27.5671, -27.7579,-27.9488,-28.0761,-28.2671, -28.3946,-28.5219,-28.6494,-28.8406, -28.9682,-29.0958,-29.2873,-29.4151, -29.5427,-29.6705,-29.7982,-29.9261, -30.1179,-30.246,-30.4378,-30.5657, -30.6938,-30.822,-30.9498,-31.078, -31.2702,-31.3982,-31.5264,-31.533)
FOOTPRINT_POINT_LONGITUDE = (240.297,240.069,239.837,239.602, 239.362,239.119,238.905,238.908,238.912 ,238.915,238.919,238.924,238.927, 238.931,238.934,238.937,238.94,238.943, 238.946,238.95,238.953,238.957,238.96, 238.964,238.966,238.969,238.974,238.978 ,238.982,238.986,238.989,238.993, 238.995,238.997,238.998,239.0,239.002, 239.004,239.006,239.008,239.009,239.01, 239.012,239.014,239.014,239.015,239.016 ,239.179,239.437,239.675,239.905, 240.045,240.23,240.475,240.689,240.686, 240.682,240.679,240.675,240.672,240.668 ,240.665,240.661,240.657,240.652, 240.648,240.645,240.641,240.637,240.632 ,240.628,240.62,240.615,240.609,240.605 ,240.6,240.596,240.592,240.588,240.582, 240.578,240.574,240.568,240.564,240.559 ,240.555,240.551,240.547,240.54,240.536 ,240.53,240.525,240.521,240.516,240.512 ,240.507,240.5,240.496,240.491,240.297)
ORBIT_NUMBER = 8491
ORBITAL_ECCENTRICITY = 0.579
ORBITAL_INCLINATION = 86.83
ORBITAL_SEMIMAJOR_AXIS = 8803.19
PERIAPSIS_ALTITUDE = 321.26
PERIAPSIS_ARGUMENT_ANGLE = 310.96
PERIAPSIS_TIME = 2010-08-21T18:44:07.000Z
SPACECRAFT_ORIENTATION = (0.0,1.0,0.0)
^MEX_ORIENTATION_DESC = "MEX_ORIENTATION_DESC.TXT"
SPACECRAFT_POINTING_MODE = ACROSSTRACK
^MEX_POINTING_DESC = "MEX_POINTING_DESC.TXT"
RIGHT_ASCENSION = -1e+32
DECLINATION = -1e+32
OFFSET_ANGLE = 1.4
SPACECRAFT_SOLAR_DISTANCE = 2.35115e+08
TARGET_NAME = MARS
/* CAMERA DATA ELEMENTS */
DETECTOR_TEMPERATURE = 18.5744
FOCAL_PLANE_TEMPERATURE = 8.3794
INST_CMPRS_NAME = "DISCRETE COSINE TRANSFORMATION (DCT)"
INST_CMPRS_RATIO = 13.0738
INST_CMPRS_QUALITY = 0
INST_CMPRS_QUANTZ_TBL_ID = 0
INSTRUMENT_TEMPERATURE = 10.4184
LENS_TEMPERATURE = 9.195
MACROPIXEL_SIZE = 4
MISSING_FRAMES = 0
PIXEL_SUBSAMPLING_FLAG = N
SIGNAL_CHAIN_ID = 3
/* RADIOMETRIC DATA ELEMENTS */
BANDWIDTH = 177.0
CENTER_FILTER_WAVELENGTH = 676.5
RADIANCE_OFFSET = 1.04664
RADIANCE_SCALING_FACTOR = 0.0217716
REFLECTANCE_SCALING_FACTOR = 0.000638127
MEX:REFLECTANCE_OFFSET = 0.0306772
/* IMAGE OBJECT DEFINITIONS */
OBJECT = IMAGE
  INTERCHANGE_FORMAT = BINARY
  LINES = 7696
  LINE_SAMPLES = 2037
  SAMPLE_TYPE = UNSIGNED_INTEGER
  SAMPLE_BITS = 8
  BANDS = 1
  BAND_STORAGE_TYPE = BAND_SEQUENTIAL
  MAXIMUM = 255
  MEAN = 104.286
  MINIMUM = 1
  STANDARD_DEVIATION = 14.5572
END_OBJECT = IMAGE
/* MAP OBJECT DEFINITIONS */
OBJECT = IMAGE_MAP_PROJECTION
  ^DATA_SET_MAP_PROJECTION_CATALOG= "DSMAP.CAT"
  A_AXIS_RADIUS = 3396.0
  B_AXIS_RADIUS = 3396.0
  C_AXIS_RADIUS = 3396.0
  CENTER_LATITUDE = 0.0
  CENTER_LONGITUDE = 240.0
  COORDINATE_SYSTEM_NAME = PLANETOGRAPHIC
  COORDINATE_SYSTEM_TYPE = "BODY-FIXED ROTATING"
  EASTERNMOST_LONGITUDE = 240.689
  FIRST_STANDARD_PARALLEL = "N/A"
  LINE_FIRST_PIXEL = 1
  LINE_LAST_PIXEL = 7696
  LINE_PROJECTION_OFFSET = -29618.125
  MAP_PROJECTION_ROTATION = 0.0
  MAP_PROJECTION_TYPE = SINUSOIDAL
  MAP_RESOLUTION = 1185.42760773333
  MAP_SCALE = 0.05
  MAXIMUM_LATITUDE = -24.9835
  MINIMUM_LATITUDE = -31.533
  POSITIVE_LONGITUDE_DIRECTION = EAST
  REFERENCE_LATITUDE = "N/A"
  REFERENCE_LONGITUDE = "N/A"
  SAMPLE_FIRST_PIXEL = 1
  SAMPLE_LAST_PIXEL = 2037
  SAMPLE_PROJECTION_OFFSET = 1266.125
  SECOND_STANDARD_PARALLEL = "N/A"
  WESTERNMOST_LONGITUDE = 238.905
END_OBJECT = IMAGE_MAP_PROJECTION
/* The JPEG2000 image data file associated with this label. */
OBJECT = COMPRESSED_FILE
  FILE_NAME = "H8491_0000_P23.JP2"
  RECORD_TYPE = UNDEFINED
  FILE_RECORDS = UNK
  ENCODING_TYPE = "JP2"
  INTERCHANGE_FORMAT = BINARY
  UNCOMPRESSED_FILE_NAME = "H8491_0000_P23.IMG"
  REQUIRED_STORAGE_BYTES = "15697122"
  ^DESCRIPTION = "JP2INFO.TXT"
END_OBJECT = COMPRESSED_FILE
END
