PDS_VERSION_ID = PDS3
/* FILE DATA ELEMENTS */
RECORD_TYPE = STREAM
/* POINTERS TO DATA OBJECTS */
^COMPRESSED_FILE = "H8498_0000_ND3.JP2"
/* IDENTIFICATION DATA ELEMENTS */
DATA_SET_ID = "MEX-M-HRSC-5-REFDR-MAPPROJECTED-V3.0"
DATA_SET_NAME = "MARS EXPRESS HRSC MAP PROJECTED REFDR V3.0"
DETECTOR_ID = MEX_HRSC_NADIR
EVENT_TYPE = "MARS-REGIONAL-MAPPING-Vo-Te"
INSTRUMENT_HOST_ID = MEX
INSTRUMENT_HOST_NAME = "MARS EXPRESS"
INSTRUMENT_ID = HRSC
INSTRUMENT_NAME = "HIGH RESOLUTION STEREO CAMERA"
MISSION_NAME = "MARS EXPRESS"
MISSION_PHASE_NAME = ME_Phase_21
PROCESSING_LEVEL_ID = 3
PRODUCT_CREATION_TIME = 2016-10-25T14:43:05.000Z
PRODUCT_ID = "H8498_0000_ND3.JP2"
RELEASE_ID = 0091
REVISION_ID = 0000
/* QUALITY DATA ELEMENTS */
DATA_QUALITY_ID = 1
DATA_QUALITY_DESC = "Data calculated based on original SPICE kernels"
/* TIME DATA ELEMENTS */
SPACECRAFT_CLOCK_START_COUNT = "1/0230672609.07310"
SPACECRAFT_CLOCK_STOP_COUNT = "1/0230672984.53826"
START_TIME = 2010-08-23T19:44:01.062Z
STOP_TIME = 2010-08-23T19:48:56.058Z
/* ORBITAL DATA ELEMENTS */
ASCENDING_NODE_LONGITUDE = 54.99
MAXIMUM_RESOLUTION = 13.2
FOOTPRINT_POINT_LATITUDE = (-41.5999,-41.5876,-41.5731,-41.2324, -40.5796,-40.2449,-39.9085,-39.5722, -39.2357,-38.7312,-38.3955,-38.06, -37.7249,-37.3902,-37.0557,-36.7215, -36.3875,-36.054,-35.7207,-35.3878, -35.0552,-34.723,-34.3912,-34.0169, -33.6219,-33.2274,-32.8336,-32.4403, -32.0475,-31.6552,-31.2635,-30.8726, -30.4823,-30.0926,-29.7036,-29.3153, -28.9277,-28.531,-27.9363,-27.5344, -27.1293,-26.7251,-26.3114,-25.8985, -25.2698,-24.849,-24.4207,-23.9917, -23.5562,-23.1192,-22.885,-22.888, -23.1097,-23.5476,-23.9845,-24.4144, -24.844,-25.2657,-25.8961,-26.3097, -26.7243,-27.1298,-27.5356,-27.9387, -28.3357,-28.7335,-29.3208,-29.7098, -30.0996,-30.49,-30.881,-31.2726, -31.665,-32.0579,-32.4514,-32.8456, -33.2403,-33.6355,-34.0314,-34.4087, -34.7411,-35.074,-35.4072,-35.7408, -36.0747,-36.4089,-36.7435,-37.0783, -37.4135,-37.749,-38.0848,-38.4208, -38.7572,-39.0939,-39.4308,-39.7679, -40.1052,-40.6101,-41.2643,-41.5999)
FOOTPRINT_POINT_LONGITUDE = (244.814,244.334,243.847,243.475,243.51 ,243.531,243.554,243.573,243.585, 243.598,243.612,243.624,243.636,243.65, 243.662,243.674,243.684,243.695,243.705 ,243.715,243.724,243.732,243.741,243.75 ,243.759,243.769,243.778,243.787, 243.793,243.796,243.8,243.805,243.809, 243.813,243.817,243.82,243.823,243.824, 243.827,243.827,243.828,243.828,243.827 ,243.827,243.824,243.822,243.819, 243.816,243.812,243.808,244.178,244.862 ,245.574,245.566,245.557,245.549,245.54 ,245.531,245.518,245.509,245.5,245.491, 245.482,245.473,245.464,245.454,245.44, 245.43,245.42,245.41,245.4,245.389, 245.378,245.367,245.356,245.345,245.333 ,245.321,245.309,245.297,245.286, 245.276,245.265,245.253,245.242,245.23, 245.218,245.206,245.194,245.182,245.169 ,245.156,245.143,245.129,245.115, 245.101,245.087,245.065,245.036, 244.814)
ORBIT_NUMBER = 8498
ORBITAL_ECCENTRICITY = 0.579
ORBITAL_INCLINATION = 86.83
ORBITAL_SEMIMAJOR_AXIS = 8801.31
PERIAPSIS_ALTITUDE = 321.17
PERIAPSIS_ARGUMENT_ANGLE = 309.78
PERIAPSIS_TIME = 2010-08-23T19:41:52.000Z
SPACECRAFT_ORIENTATION = (0.0,1.0,0.0)
^MEX_ORIENTATION_DESC = "MEX_ORIENTATION_DESC.TXT"
SPACECRAFT_POINTING_MODE = ACROSSTRACK
^MEX_POINTING_DESC = "MEX_POINTING_DESC.TXT"
RIGHT_ASCENSION = -1e+32
DECLINATION = -1e+32
OFFSET_ANGLE = 0.6
SPACECRAFT_SOLAR_DISTANCE = 2.34751e+08
TARGET_NAME = MARS
/* CAMERA DATA ELEMENTS */
DETECTOR_TEMPERATURE = 17.7588
FOCAL_PLANE_TEMPERATURE = 7.7677
INST_CMPRS_NAME = "DISCRETE COSINE TRANSFORMATION (DCT)"
INST_CMPRS_RATIO = 6.85693
INST_CMPRS_QUALITY = 0
INST_CMPRS_QUANTZ_TBL_ID = 0
INSTRUMENT_TEMPERATURE = 10.8262
LENS_TEMPERATURE = 7.9716
MACROPIXEL_SIZE = 1
MISSING_FRAMES = 0
PIXEL_SUBSAMPLING_FLAG = N
SIGNAL_CHAIN_ID = 0
/* RADIOMETRIC DATA ELEMENTS */
BANDWIDTH = 177.0
CENTER_FILTER_WAVELENGTH = 677.5
RADIANCE_OFFSET = 0.38681
RADIANCE_SCALING_FACTOR = 0.0240808
REFLECTANCE_SCALING_FACTOR = 0.00070497
MEX:REFLECTANCE_OFFSET = 0.0113239
/* IMAGE OBJECT DEFINITIONS */
OBJECT = IMAGE
  INTERCHANGE_FORMAT = BINARY
  LINES = 88778
  LINE_SAMPLES = 8340
  SAMPLE_TYPE = UNSIGNED_INTEGER
  SAMPLE_BITS = 8
  BANDS = 1
  BAND_STORAGE_TYPE = BAND_SEQUENTIAL
  MAXIMUM = 255
  MEAN = 97.3784
  MINIMUM = 1
  STANDARD_DEVIATION = 29.3101
END_OBJECT = IMAGE
/* MAP OBJECT DEFINITIONS */
OBJECT = IMAGE_MAP_PROJECTION
  ^DATA_SET_MAP_PROJECTION_CATALOG= "DSMAP.CAT"
  A_AXIS_RADIUS = 3396.0
  B_AXIS_RADIUS = 3396.0
  C_AXIS_RADIUS = 3396.0
  CENTER_LATITUDE = 0.0
  CENTER_LONGITUDE = 245.0
  COORDINATE_SYSTEM_NAME = PLANETOGRAPHIC
  COORDINATE_SYSTEM_TYPE = "BODY-FIXED ROTATING"
  EASTERNMOST_LONGITUDE = 245.574
  FIRST_STANDARD_PARALLEL = "N/A"
  LINE_FIRST_PIXEL = 1
  LINE_LAST_PIXEL = 88778
  LINE_PROJECTION_OFFSET = -108500.0
  MAP_PROJECTION_ROTATION = 0.0
  MAP_PROJECTION_TYPE = SINUSOIDAL
  MAP_RESOLUTION = 4741.71043093333
  MAP_SCALE = 0.0125
  MAXIMUM_LATITUDE = -22.885
  MINIMUM_LATITUDE = -41.5999
  POSITIVE_LONGITUDE_DIRECTION = EAST
  REFERENCE_LATITUDE = "N/A"
  REFERENCE_LONGITUDE = "N/A"
  SAMPLE_FIRST_PIXEL = 1
  SAMPLE_LAST_PIXEL = 8340
  SAMPLE_PROJECTION_OFFSET = 5763.0
  SECOND_STANDARD_PARALLEL = "N/A"
  WESTERNMOST_LONGITUDE = 243.475
END_OBJECT = IMAGE_MAP_PROJECTION
/* The JPEG2000 image data file associated with this label. */
OBJECT = COMPRESSED_FILE
  FILE_NAME = "H8498_0000_ND3.JP2"
  RECORD_TYPE = UNDEFINED
  FILE_RECORDS = UNK
  ENCODING_TYPE = "JP2"
  INTERCHANGE_FORMAT = BINARY
  UNCOMPRESSED_FILE_NAME = "H8498_0000_ND3.IMG"
  REQUIRED_STORAGE_BYTES = "740441880"
  ^DESCRIPTION = "JP2INFO.TXT"
END_OBJECT = COMPRESSED_FILE
END
