PDS_VERSION_ID = PDS3
/* FILE DATA ELEMENTS */
RECORD_TYPE = STREAM
/* POINTERS TO DATA OBJECTS */
^COMPRESSED_FILE = "H8500_0000_BL3.JP2"
/* IDENTIFICATION DATA ELEMENTS */
DATA_SET_ID = "MEX-M-HRSC-5-REFDR-MAPPROJECTED-V3.0"
DATA_SET_NAME = "MARS EXPRESS HRSC MAP PROJECTED REFDR V3.0"
DETECTOR_ID = MEX_HRSC_BLUE
EVENT_TYPE = "MARS-REGIONAL-MAPPING-Te-Im"
INSTRUMENT_HOST_ID = MEX
INSTRUMENT_HOST_NAME = "MARS EXPRESS"
INSTRUMENT_ID = HRSC
INSTRUMENT_NAME = "HIGH RESOLUTION STEREO CAMERA"
MISSION_NAME = "MARS EXPRESS"
MISSION_PHASE_NAME = ME_Phase_21
PROCESSING_LEVEL_ID = 3
PRODUCT_CREATION_TIME = 2016-10-25T14:43:05.000Z
PRODUCT_ID = "H8500_0000_BL3.JP2"
RELEASE_ID = 0091
REVISION_ID = 0000
/* QUALITY DATA ELEMENTS */
DATA_QUALITY_ID = 1
DATA_QUALITY_DESC = "Data calculated based on original SPICE kernels"
/* TIME DATA ELEMENTS */
SPACECRAFT_CLOCK_START_COUNT = "1/0230723065.07299"
SPACECRAFT_CLOCK_STOP_COUNT = "1/0230723344.47850"
START_TIME = 2010-08-24T09:44:54.108Z
STOP_TIME = 2010-08-24T09:48:09.010Z
/* ORBITAL DATA ELEMENTS */
ASCENDING_NODE_LONGITUDE = 54.95
MAXIMUM_RESOLUTION = 57.4
FOOTPRINT_POINT_LATITUDE = (-35.7476,-35.7416,-35.734,-35.7284, -35.4051,-35.1963,-34.9878,-34.7793, -34.571,-34.1548,-33.9159,-33.668, -33.4203,-33.0492,-32.8026,-32.5555, -32.3076,-32.0611,-31.6912,-31.445, -31.1988,-30.9531,-30.7076,-30.4624, -30.2177,-29.9728,-29.7278,-29.484, -29.1182,-28.8746,-28.6272,-28.3773, -28.1279,-27.8797,-27.6302,-27.2476, -26.8668,-26.6122,-26.3526,-26.0921, -25.8321,-25.5725,-25.3069,-24.9089, -24.6441,-24.3736,-23.9682,-23.6982, -23.4217,-23.3819,-23.3827,-23.3827, -23.3815,-23.6589,-23.931,-24.2013, -24.4721,-24.7409,-25.0063,-25.2734, -25.6704,-26.0607,-26.3214,-26.5819, -26.8358,-27.0909,-27.3467,-27.7291, -27.9785,-28.2281,-28.478,-28.8506, -29.0945,-29.3387,-29.5833,-29.8281, -30.0731,-30.3184,-30.564,-30.81, -31.1783,-31.4246,-31.6712,-31.918, -32.1649,-32.5362,-32.7851,-33.0321, -33.28,-33.528,-33.7762,-34.1457, -34.3541,-34.5627,-34.8759,-35.0847, -35.2938,-35.5026,-35.7121,-35.7476)
FOOTPRINT_POINT_LONGITUDE = (40.9918,40.5695,40.1465,39.8778, 39.7536,39.7573,39.7612,39.7648,39.7683 ,39.7751,39.7784,39.7819,39.7853, 39.7903,39.7945,39.7972,39.7976,39.8001 ,39.8027,39.8042,39.8054,39.8068,39.808 ,39.8092,39.8107,39.8113,39.8109, 39.8123,39.8131,39.8133,39.8109,39.8103 ,39.81,39.8115,39.8095,39.8079,39.8083, 39.8064,39.8045,39.802,39.7998,39.7974, 39.7949,39.7908,39.7879,39.7847,39.7802 ,39.7769,39.7721,40.2277,40.5692, 41.0247,41.3986,41.5136,41.5089,41.5058 ,41.5024,41.4986,41.4946,41.4886, 41.4825,41.4765,41.4723,41.4689,41.4661 ,41.4619,41.4569,41.4486,41.4445, 41.4405,41.4364,41.4301,41.426,41.4219, 41.4174,41.4129,41.4083,41.4037,41.3989 ,41.3938,41.3876,41.3829,41.3778, 41.3726,41.3675,41.359,41.3514,41.3471, 41.3416,41.3363,41.3308,41.3223,41.3173 ,41.3123,41.3045,41.2995,41.2943, 41.2895,41.2838,40.9918)
ORBIT_NUMBER = 8500
ORBITAL_ECCENTRICITY = 0.579
ORBITAL_INCLINATION = 86.82
ORBITAL_SEMIMAJOR_AXIS = 8801.84
PERIAPSIS_ALTITUDE = 322.01
PERIAPSIS_ARGUMENT_ANGLE = 309.47
PERIAPSIS_TIME = 2010-08-24T09:41:15.000Z
SPACECRAFT_ORIENTATION = (0.0,1.0,0.0)
^MEX_ORIENTATION_DESC = "MEX_ORIENTATION_DESC.TXT"
SPACECRAFT_POINTING_MODE = ACROSSTRACK
^MEX_POINTING_DESC = "MEX_POINTING_DESC.TXT"
RIGHT_ASCENSION = -1e+32
DECLINATION = -1e+32
OFFSET_ANGLE = 0.1
SPACECRAFT_SOLAR_DISTANCE = 2.34647e+08
TARGET_NAME = MARS
/* CAMERA DATA ELEMENTS */
DETECTOR_TEMPERATURE = 18.3705
FOCAL_PLANE_TEMPERATURE = 8.3794
INST_CMPRS_NAME = "DISCRETE COSINE TRANSFORMATION (DCT)"
INST_CMPRS_RATIO = 6.74474
INST_CMPRS_QUALITY = 0
INST_CMPRS_QUANTZ_TBL_ID = 0
INSTRUMENT_TEMPERATURE = 11.234
LENS_TEMPERATURE = 10.0106
MACROPIXEL_SIZE = 4
MISSING_FRAMES = 0
PIXEL_SUBSAMPLING_FLAG = N
SIGNAL_CHAIN_ID = 2
/* RADIOMETRIC DATA ELEMENTS */
BANDWIDTH = 76.0
CENTER_FILTER_WAVELENGTH = 444.0
RADIANCE_OFFSET = 0.172369
RADIANCE_SCALING_FACTOR = 0.00213689
REFLECTANCE_SCALING_FACTOR = 0.000120884
MEX:REFLECTANCE_OFFSET = 0.00975086
/* IMAGE OBJECT DEFINITIONS */
OBJECT = IMAGE
  INTERCHANGE_FORMAT = BINARY
  LINES = 14665
  LINE_SAMPLES = 2022
  SAMPLE_TYPE = UNSIGNED_INTEGER
  SAMPLE_BITS = 8
  BANDS = 1
  BAND_STORAGE_TYPE = BAND_SEQUENTIAL
  MAXIMUM = 255
  MEAN = 129.731
  MINIMUM = 1
  STANDARD_DEVIATION = 25.3362
END_OBJECT = IMAGE
/* MAP OBJECT DEFINITIONS */
OBJECT = IMAGE_MAP_PROJECTION
  ^DATA_SET_MAP_PROJECTION_CATALOG= "DSMAP.CAT"
  A_AXIS_RADIUS = 3396.0
  B_AXIS_RADIUS = 3396.0
  C_AXIS_RADIUS = 3396.0
  CENTER_LATITUDE = 0.0
  CENTER_LONGITUDE = 41.0
  COORDINATE_SYSTEM_NAME = PLANETOGRAPHIC
  COORDINATE_SYSTEM_TYPE = "BODY-FIXED ROTATING"
  EASTERNMOST_LONGITUDE = 41.5136
  FIRST_STANDARD_PARALLEL = "N/A"
  LINE_FIRST_PIXEL = 1
  LINE_LAST_PIXEL = 14665
  LINE_PROJECTION_OFFSET = -27710.625
  MAP_PROJECTION_ROTATION = 0.0
  MAP_PROJECTION_TYPE = SINUSOIDAL
  MAP_RESOLUTION = 1185.42760773333
  MAP_SCALE = 0.05
  MAXIMUM_LATITUDE = -23.3815
  MINIMUM_LATITUDE = -35.7476
  POSITIVE_LONGITUDE_DIRECTION = EAST
  REFERENCE_LATITUDE = "N/A"
  REFERENCE_LONGITUDE = "N/A"
  SAMPLE_FIRST_PIXEL = 1
  SAMPLE_LAST_PIXEL = 2022
  SAMPLE_PROJECTION_OFFSET = 1409.125
  SECOND_STANDARD_PARALLEL = "N/A"
  WESTERNMOST_LONGITUDE = 39.7536
END_OBJECT = IMAGE_MAP_PROJECTION
/* The JPEG2000 image data file associated with this label. */
OBJECT = COMPRESSED_FILE
  FILE_NAME = "H8500_0000_BL3.JP2"
  RECORD_TYPE = UNDEFINED
  FILE_RECORDS = UNK
  ENCODING_TYPE = "JP2"
  INTERCHANGE_FORMAT = BINARY
  UNCOMPRESSED_FILE_NAME = "H8500_0000_BL3.IMG"
  REQUIRED_STORAGE_BYTES = "29672850"
  ^DESCRIPTION = "JP2INFO.TXT"
END_OBJECT = COMPRESSED_FILE
END
