PDS_VERSION_ID = PDS3
/* FILE DATA ELEMENTS */
RECORD_TYPE = STREAM
/* POINTERS TO DATA OBJECTS */
^COMPRESSED_FILE = "H8500_0000_IR3.JP2"
/* IDENTIFICATION DATA ELEMENTS */
DATA_SET_ID = "MEX-M-HRSC-5-REFDR-MAPPROJECTED-V3.0"
DATA_SET_NAME = "MARS EXPRESS HRSC MAP PROJECTED REFDR V3.0"
DETECTOR_ID = MEX_HRSC_IR
EVENT_TYPE = "MARS-REGIONAL-MAPPING-Te-Im"
INSTRUMENT_HOST_ID = MEX
INSTRUMENT_HOST_NAME = "MARS EXPRESS"
INSTRUMENT_ID = HRSC
INSTRUMENT_NAME = "HIGH RESOLUTION STEREO CAMERA"
MISSION_NAME = "MARS EXPRESS"
MISSION_PHASE_NAME = ME_Phase_21
PROCESSING_LEVEL_ID = 3
PRODUCT_CREATION_TIME = 2016-10-25T14:43:05.000Z
PRODUCT_ID = "H8500_0000_IR3.JP2"
RELEASE_ID = 0091
REVISION_ID = 0000
/* QUALITY DATA ELEMENTS */
DATA_QUALITY_ID = 1
DATA_QUALITY_DESC = "Data calculated based on original SPICE kernels"
/* TIME DATA ELEMENTS */
SPACECRAFT_CLOCK_START_COUNT = "1/0230723065.07299"
SPACECRAFT_CLOCK_STOP_COUNT = "1/0230723344.47850"
START_TIME = 2010-08-24T09:45:27.795Z
STOP_TIME = 2010-08-24T09:48:56.462Z
/* ORBITAL DATA ELEMENTS */
ASCENDING_NODE_LONGITUDE = 54.95
MAXIMUM_RESOLUTION = 62.3
FOOTPRINT_POINT_LATITUDE = (-35.7016,-35.6979,-35.693,-35.715, -35.3579,-35.1202,-34.8832,-34.6465, -34.4098,-34.0559,-33.8204,-33.4671, -33.2326,-32.9955,-32.7595,-32.5267, -32.18,-31.9482,-31.7162,-31.4847, -31.2539,-31.02,-30.7831,-30.5464, -30.3091,-30.0729,-29.8339,-29.5909, -29.3499,-29.1087,-28.8636,-28.6225, -28.3782,-28.132,-27.8777,-27.5077, -27.2588,-27.0012,-26.7463,-26.495, -26.2386,-25.9814,-25.596,-25.3344, -25.0725,-24.8112,-24.5458,-24.2802, -24.0136,-23.7424,-23.4725,-23.368, -23.3659,-23.3635,-23.4966,-23.7662, -24.038,-24.3035,-24.5721,-24.8379, -25.0995,-25.3566,-25.6188,-25.8772, -26.1352,-26.5203,-26.7796,-27.0344, -27.2879,-27.5319,-27.7799,-28.0309, -28.402,-28.648,-28.8944,-29.2611, -29.5025,-29.8648,-30.1063,-30.4609, -30.6975,-31.0524,-31.2902,-31.5223, -31.8711,-32.2204,-32.6808,-32.9168, -33.2698,-33.5058,-33.7417,-33.9775, -34.2138,-34.4503,-34.6871,-34.9236, -35.1618,-35.3997,-35.6378,-35.7016)
FOOTPRINT_POINT_LONGITUDE = (40.9848,40.5139,40.0423,39.713,39.7193 ,39.7233,39.7269,39.7303,39.7337, 39.7382,39.741,39.7452,39.7474,39.751, 39.7541,39.7555,39.7563,39.7572,39.7583 ,39.7591,39.7596,39.7604,39.7609, 39.7614,39.7622,39.7625,39.7612,39.762, 39.7617,39.7617,39.761,39.7579,39.7565, 39.7561,39.7568,39.7523,39.7504,39.7501 ,39.7484,39.745,39.7427,39.7394,39.7345 ,39.7311,39.7276,39.7239,39.7197, 39.7155,39.7116,39.7074,39.7027,40.1937 ,40.5814,41.2157,41.5886,41.5833, 41.5786,41.5735,41.5692,41.5643,41.5591 ,41.5521,41.5472,41.5425,41.5373, 41.5297,41.5267,41.5219,41.5167,41.5097 ,41.5039,41.499,41.492,41.487,41.482, 41.4749,41.4699,41.462,41.4569,41.449, 41.4436,41.4351,41.4313,41.426,41.4179, 41.4095,41.3956,41.3905,41.3821,41.3766 ,41.3708,41.3647,41.3586,41.3524, 41.3461,41.3395,41.3333,41.3268,41.3202 ,40.9848)
ORBIT_NUMBER = 8500
ORBITAL_ECCENTRICITY = 0.579
ORBITAL_INCLINATION = 86.82
ORBITAL_SEMIMAJOR_AXIS = 8801.84
PERIAPSIS_ALTITUDE = 322.01
PERIAPSIS_ARGUMENT_ANGLE = 309.47
PERIAPSIS_TIME = 2010-08-24T09:41:15.000Z
SPACECRAFT_ORIENTATION = (0.0,1.0,0.0)
^MEX_ORIENTATION_DESC = "MEX_ORIENTATION_DESC.TXT"
SPACECRAFT_POINTING_MODE = ACROSSTRACK
^MEX_POINTING_DESC = "MEX_POINTING_DESC.TXT"
RIGHT_ASCENSION = -1e+32
DECLINATION = -1e+32
OFFSET_ANGLE = 0.1
SPACECRAFT_SOLAR_DISTANCE = 2.34647e+08
TARGET_NAME = MARS
/* CAMERA DATA ELEMENTS */
DETECTOR_TEMPERATURE = 17.351
FOCAL_PLANE_TEMPERATURE = 8.3794
INST_CMPRS_NAME = "DISCRETE COSINE TRANSFORMATION (DCT)"
INST_CMPRS_RATIO = 7.71875
INST_CMPRS_QUALITY = 0
INST_CMPRS_QUANTZ_TBL_ID = 0
INSTRUMENT_TEMPERATURE = 11.234
LENS_TEMPERATURE = 10.0106
MACROPIXEL_SIZE = 4
MISSING_FRAMES = 0
PIXEL_SUBSAMPLING_FLAG = N
SIGNAL_CHAIN_ID = 2
/* RADIOMETRIC DATA ELEMENTS */
BANDWIDTH = 81.0
CENTER_FILTER_WAVELENGTH = 955.5
RADIANCE_OFFSET = 0.198527
RADIANCE_SCALING_FACTOR = 0.00393367
REFLECTANCE_SCALING_FACTOR = 0.000467253
MEX:REFLECTANCE_OFFSET = 0.0235817
/* IMAGE OBJECT DEFINITIONS */
OBJECT = IMAGE
  INTERCHANGE_FORMAT = BINARY
  LINES = 14665
  LINE_SAMPLES = 2022
  SAMPLE_TYPE = UNSIGNED_INTEGER
  SAMPLE_BITS = 8
  BANDS = 1
  BAND_STORAGE_TYPE = BAND_SEQUENTIAL
  MAXIMUM = 255
  MEAN = 111.19
  MINIMUM = 1
  STANDARD_DEVIATION = 24.8249
END_OBJECT = IMAGE
/* MAP OBJECT DEFINITIONS */
OBJECT = IMAGE_MAP_PROJECTION
  ^DATA_SET_MAP_PROJECTION_CATALOG= "DSMAP.CAT"
  A_AXIS_RADIUS = 3396.0
  B_AXIS_RADIUS = 3396.0
  C_AXIS_RADIUS = 3396.0
  CENTER_LATITUDE = 0.0
  CENTER_LONGITUDE = 41.0
  COORDINATE_SYSTEM_NAME = PLANETOGRAPHIC
  COORDINATE_SYSTEM_TYPE = "BODY-FIXED ROTATING"
  EASTERNMOST_LONGITUDE = 41.5886
  FIRST_STANDARD_PARALLEL = "N/A"
  LINE_FIRST_PIXEL = 1
  LINE_LAST_PIXEL = 14665
  LINE_PROJECTION_OFFSET = -27710.625
  MAP_PROJECTION_ROTATION = 0.0
  MAP_PROJECTION_TYPE = SINUSOIDAL
  MAP_RESOLUTION = 1185.42760773333
  MAP_SCALE = 0.05
  MAXIMUM_LATITUDE = -23.3635
  MINIMUM_LATITUDE = -35.715
  POSITIVE_LONGITUDE_DIRECTION = EAST
  REFERENCE_LATITUDE = "N/A"
  REFERENCE_LONGITUDE = "N/A"
  SAMPLE_FIRST_PIXEL = 1
  SAMPLE_LAST_PIXEL = 2022
  SAMPLE_PROJECTION_OFFSET = 1409.125
  SECOND_STANDARD_PARALLEL = "N/A"
  WESTERNMOST_LONGITUDE = 39.7027
END_OBJECT = IMAGE_MAP_PROJECTION
/* The JPEG2000 image data file associated with this label. */
OBJECT = COMPRESSED_FILE
  FILE_NAME = "H8500_0000_IR3.JP2"
  RECORD_TYPE = UNDEFINED
  FILE_RECORDS = UNK
  ENCODING_TYPE = "JP2"
  INTERCHANGE_FORMAT = BINARY
  UNCOMPRESSED_FILE_NAME = "H8500_0000_IR3.IMG"
  REQUIRED_STORAGE_BYTES = "29672850"
  ^DESCRIPTION = "JP2INFO.TXT"
END_OBJECT = COMPRESSED_FILE
END
