PDS_VERSION_ID = PDS3
/* FILE DATA ELEMENTS */
RECORD_TYPE = STREAM
/* POINTERS TO DATA OBJECTS */
^COMPRESSED_FILE = "H8500_0000_P13.JP2"
/* IDENTIFICATION DATA ELEMENTS */
DATA_SET_ID = "MEX-M-HRSC-5-REFDR-MAPPROJECTED-V3.0"
DATA_SET_NAME = "MARS EXPRESS HRSC MAP PROJECTED REFDR V3.0"
DETECTOR_ID = MEX_HRSC_P1
EVENT_TYPE = "MARS-REGIONAL-MAPPING-Te-Im"
INSTRUMENT_HOST_ID = MEX
INSTRUMENT_HOST_NAME = "MARS EXPRESS"
INSTRUMENT_ID = HRSC
INSTRUMENT_NAME = "HIGH RESOLUTION STEREO CAMERA"
MISSION_NAME = "MARS EXPRESS"
MISSION_PHASE_NAME = ME_Phase_21
PROCESSING_LEVEL_ID = 3
PRODUCT_CREATION_TIME = 2016-10-25T14:43:05.000Z
PRODUCT_ID = "H8500_0000_P13.JP2"
RELEASE_ID = 0091
REVISION_ID = 0000
/* QUALITY DATA ELEMENTS */
DATA_QUALITY_ID = 1
DATA_QUALITY_DESC = "Data calculated based on original SPICE kernels"
/* TIME DATA ELEMENTS */
SPACECRAFT_CLOCK_START_COUNT = "1/0230723065.07299"
SPACECRAFT_CLOCK_STOP_COUNT = "1/0230723344.47850"
START_TIME = 2010-08-24T09:45:21.611Z
STOP_TIME = 2010-08-24T09:48:47.605Z
/* ORBITAL DATA ELEMENTS */
ASCENDING_NODE_LONGITUDE = 54.95
MAXIMUM_RESOLUTION = 30.4
FOOTPRINT_POINT_LATITUDE = (-35.7193,-35.7169,-35.7114,-35.7076, -35.4862,-35.2464,-34.8871,-34.6481, -34.4093,-34.0516,-33.8138,-33.457, -33.2197,-32.9807,-32.7438,-32.5074, -32.1561,-31.9215,-31.6868,-31.4526, -31.219,-30.985,-30.7514,-30.5131, -30.2732,-30.0342,-29.7977,-29.5558, -29.3118,-28.9461,-28.7059,-28.4604, -28.2121,-27.9616,-27.5904,-27.2119, -26.8295,-26.5747,-26.3188,-25.935, -25.6742,-25.4136,-25.1532,-24.8887, -24.6237,-24.3593,-24.0903,-23.8203, -23.376,-23.3765,-23.3732,-23.3716, -23.3705,-23.5063,-23.7753,-24.0461, -24.4494,-24.7153,-25.1131,-25.3708, -25.6321,-25.8946,-26.151,-26.408, -26.6686,-27.0509,-27.4265,-27.6784, -28.0498,-28.2988,-28.672,-28.9156, -29.16,-29.4045,-29.6489,-29.8874, -30.2463,-30.4857,-30.7251,-30.958, -31.1955,-31.4305,-31.7831,-32.0183, -32.254,-32.4896,-32.7207,-32.9602, -33.1975,-33.4355,-33.6739,-33.9121, -34.1507,-34.3895,-34.6285,-34.8676, -35.2278,-35.4679,-35.7082,-35.7193)
FOOTPRINT_POINT_LONGITUDE = (40.8759,40.6177,40.116,39.8261,39.7193 ,39.7233,39.7291,39.7327,39.7361,39.741 ,39.7438,39.7481,39.7507,39.7545, 39.7568,39.7589,39.7599,39.761,39.7622, 39.7631,39.7637,39.7645,39.7652,39.7657 ,39.7666,39.767,39.7658,39.7668,39.7666 ,39.7664,39.764,39.7623,39.7614,39.7619 ,39.7587,39.756,39.7559,39.7528,39.7499 ,39.7457,39.7426,39.7393,39.736,39.7326 ,39.7287,39.7247,39.7208,39.7168, 39.7807,40.1064,40.5225,40.9739,41.2627 ,41.5735,41.5684,41.564,41.5572,41.5526 ,41.5449,41.5387,41.5338,41.5292, 41.5242,41.5195,41.516,41.5095,41.5005, 41.4949,41.4875,41.4829,41.4757,41.471, 41.4664,41.4616,41.4565,41.4514,41.4439 ,41.4387,41.4334,41.4277,41.424,41.4189 ,41.4109,41.4054,41.3998,41.394,41.3858 ,41.3814,41.3757,41.3701,41.3645, 41.3585,41.3525,41.3464,41.3402,41.3337 ,41.3244,41.3179,41.3112,40.8759)
ORBIT_NUMBER = 8500
ORBITAL_ECCENTRICITY = 0.579
ORBITAL_INCLINATION = 86.82
ORBITAL_SEMIMAJOR_AXIS = 8801.84
PERIAPSIS_ALTITUDE = 322.01
PERIAPSIS_ARGUMENT_ANGLE = 309.47
PERIAPSIS_TIME = 2010-08-24T09:41:15.000Z
SPACECRAFT_ORIENTATION = (0.0,1.0,0.0)
^MEX_ORIENTATION_DESC = "MEX_ORIENTATION_DESC.TXT"
SPACECRAFT_POINTING_MODE = ACROSSTRACK
^MEX_POINTING_DESC = "MEX_POINTING_DESC.TXT"
RIGHT_ASCENSION = -1e+32
DECLINATION = -1e+32
OFFSET_ANGLE = 0.1
SPACECRAFT_SOLAR_DISTANCE = 2.34647e+08
TARGET_NAME = MARS
/* CAMERA DATA ELEMENTS */
DETECTOR_TEMPERATURE = 17.351
FOCAL_PLANE_TEMPERATURE = 8.3794
INST_CMPRS_NAME = "DISCRETE COSINE TRANSFORMATION (DCT)"
INST_CMPRS_RATIO = 8.19272
INST_CMPRS_QUALITY = 0
INST_CMPRS_QUANTZ_TBL_ID = 0
INSTRUMENT_TEMPERATURE = 11.234
LENS_TEMPERATURE = 10.0106
MACROPIXEL_SIZE = 2
MISSING_FRAMES = 0
PIXEL_SUBSAMPLING_FLAG = N
SIGNAL_CHAIN_ID = 3
/* RADIOMETRIC DATA ELEMENTS */
BANDWIDTH = 174.0
CENTER_FILTER_WAVELENGTH = 675.0
RADIANCE_OFFSET = 0.991568
RADIANCE_SCALING_FACTOR = 0.0160904
REFLECTANCE_SCALING_FACTOR = 0.000476518
MEX:REFLECTANCE_OFFSET = 0.0293654
/* IMAGE OBJECT DEFINITIONS */
OBJECT = IMAGE
  INTERCHANGE_FORMAT = BINARY
  LINES = 29330
  LINE_SAMPLES = 4044
  SAMPLE_TYPE = UNSIGNED_INTEGER
  SAMPLE_BITS = 8
  BANDS = 1
  BAND_STORAGE_TYPE = BAND_SEQUENTIAL
  MAXIMUM = 255
  MEAN = 115.661
  MINIMUM = 1
  STANDARD_DEVIATION = 23.8642
END_OBJECT = IMAGE
/* MAP OBJECT DEFINITIONS */
OBJECT = IMAGE_MAP_PROJECTION
  ^DATA_SET_MAP_PROJECTION_CATALOG= "DSMAP.CAT"
  A_AXIS_RADIUS = 3396.0
  B_AXIS_RADIUS = 3396.0
  C_AXIS_RADIUS = 3396.0
  CENTER_LATITUDE = 0.0
  CENTER_LONGITUDE = 41.0
  COORDINATE_SYSTEM_NAME = PLANETOGRAPHIC
  COORDINATE_SYSTEM_TYPE = "BODY-FIXED ROTATING"
  EASTERNMOST_LONGITUDE = 41.5735
  FIRST_STANDARD_PARALLEL = "N/A"
  LINE_FIRST_PIXEL = 1
  LINE_LAST_PIXEL = 29330
  LINE_PROJECTION_OFFSET = -55420.75
  MAP_PROJECTION_ROTATION = 0.0
  MAP_PROJECTION_TYPE = SINUSOIDAL
  MAP_RESOLUTION = 2370.85521546667
  MAP_SCALE = 0.025
  MAXIMUM_LATITUDE = -23.3705
  MINIMUM_LATITUDE = -35.7193
  POSITIVE_LONGITUDE_DIRECTION = EAST
  REFERENCE_LATITUDE = "N/A"
  REFERENCE_LONGITUDE = "N/A"
  SAMPLE_FIRST_PIXEL = 1
  SAMPLE_LAST_PIXEL = 4044
  SAMPLE_PROJECTION_OFFSET = 2818.75
  SECOND_STANDARD_PARALLEL = "N/A"
  WESTERNMOST_LONGITUDE = 39.7168
END_OBJECT = IMAGE_MAP_PROJECTION
/* The JPEG2000 image data file associated with this label. */
OBJECT = COMPRESSED_FILE
  FILE_NAME = "H8500_0000_P13.JP2"
  RECORD_TYPE = UNDEFINED
  FILE_RECORDS = UNK
  ENCODING_TYPE = "JP2"
  INTERCHANGE_FORMAT = BINARY
  UNCOMPRESSED_FILE_NAME = "H8500_0000_P13.IMG"
  REQUIRED_STORAGE_BYTES = "118634784"
  ^DESCRIPTION = "JP2INFO.TXT"
END_OBJECT = COMPRESSED_FILE
END
