PDS_VERSION_ID = PDS3
/* FILE DATA ELEMENTS */
RECORD_TYPE = STREAM
/* POINTERS TO DATA OBJECTS */
^COMPRESSED_FILE = "H8500_0000_S23.JP2"
/* IDENTIFICATION DATA ELEMENTS */
DATA_SET_ID = "MEX-M-HRSC-5-REFDR-MAPPROJECTED-V3.0"
DATA_SET_NAME = "MARS EXPRESS HRSC MAP PROJECTED REFDR V3.0"
DETECTOR_ID = MEX_HRSC_S2
EVENT_TYPE = "MARS-REGIONAL-MAPPING-Te-Im"
INSTRUMENT_HOST_ID = MEX
INSTRUMENT_HOST_NAME = "MARS EXPRESS"
INSTRUMENT_ID = HRSC
INSTRUMENT_NAME = "HIGH RESOLUTION STEREO CAMERA"
MISSION_NAME = "MARS EXPRESS"
MISSION_PHASE_NAME = ME_Phase_21
PROCESSING_LEVEL_ID = 3
PRODUCT_CREATION_TIME = 2016-10-25T14:43:05.000Z
PRODUCT_ID = "H8500_0000_S23.JP2"
RELEASE_ID = 0091
REVISION_ID = 0000
/* QUALITY DATA ELEMENTS */
DATA_QUALITY_ID = 1
DATA_QUALITY_DESC = "Data calculated based on original SPICE kernels"
/* TIME DATA ELEMENTS */
SPACECRAFT_CLOCK_START_COUNT = "1/0230723065.07299"
SPACECRAFT_CLOCK_STOP_COUNT = "1/0230723344.47850"
START_TIME = 2010-08-24T09:44:27.709Z
STOP_TIME = 2010-08-24T09:47:34.346Z
/* ORBITAL DATA ELEMENTS */
ASCENDING_NODE_LONGITUDE = 54.95
MAXIMUM_RESOLUTION = 29.8
FOOTPRINT_POINT_LATITUDE = (-35.796,-35.7839,-35.769,-35.4088, -35.0851,-34.8691,-34.6534,-34.4377, -34.1146,-33.8986,-33.6831,-33.468, -33.2522,-33.0403,-32.8269,-32.6112, -32.3922,-32.02,-31.763,-31.5056, -31.2477,-30.9911,-30.6064,-30.352, -30.0955,-29.8364,-29.455,-29.2002, -28.9453,-28.6835,-28.4273,-28.1736, -27.9229,-27.6644,-27.2817,-27.0315, -26.7774,-26.5157,-26.2535,-25.8603, -25.5989,-25.3311,-25.0634,-24.796, -24.5284,-24.2553,-23.9826,-23.7104, -23.4349,-23.3994,-23.4039,-23.4043, -23.4032,-23.4048,-23.6807,-24.0938, -24.3639,-24.7677,-25.1734,-25.4446, -25.7098,-25.9712,-26.2337,-26.4949, -26.7506,-27.0056,-27.2612,-27.5242, -27.7813,-28.0361,-28.2906,-28.6741, -29.0567,-29.312,-29.6964,-29.9528, -30.2088,-30.4656,-30.7231,-30.9817, -31.2334,-31.6188,-31.8759,-32.134, -32.3829,-32.6032,-32.8228,-33.0359, -33.2513,-33.4667,-33.7899,-34.0059, -34.3299,-34.5462,-34.7627,-34.9797, -35.1951,-35.5187,-35.736,-35.796)
FOOTPRINT_POINT_LONGITUDE = (40.913,40.3506,39.8299,39.761,39.7675, 39.7716,39.7755,39.7794,39.7851,39.7884 ,39.7917,39.7951,39.798,39.8023,39.8058 ,39.8083,39.8094,39.8128,39.8152, 39.8173,39.819,39.8209,39.8234,39.8256, 39.8268,39.8269,39.8292,39.8302,39.8311 ,39.8291,39.8291,39.8297,39.8312, 39.8297,39.8288,39.8297,39.829,39.8276, 39.826,39.8233,39.8214,39.8194,39.8172, 39.815,39.8124,39.8097,39.8072,39.8046, 39.8007,40.1919,40.6639,41.0057,41.2337 ,41.4831,41.4794,41.4738,41.4715, 41.4666,41.4602,41.4558,41.4523,41.4487 ,41.4448,41.4413,41.4394,41.4358,41.432 ,41.426,41.4217,41.418,41.4144,41.4085, 41.4027,41.3988,41.3924,41.3881,41.3839 ,41.3793,41.3746,41.3694,41.3663, 41.3592,41.3543,41.3491,41.3442,41.3385 ,41.333,41.3294,41.3251,41.3207,41.3141 ,41.3094,41.3024,41.2975,41.2925, 41.2873,41.2825,41.2752,41.2697,40.913)
ORBIT_NUMBER = 8500
ORBITAL_ECCENTRICITY = 0.579
ORBITAL_INCLINATION = 86.82
ORBITAL_SEMIMAJOR_AXIS = 8801.84
PERIAPSIS_ALTITUDE = 322.01
PERIAPSIS_ARGUMENT_ANGLE = 309.47
PERIAPSIS_TIME = 2010-08-24T09:41:15.000Z
SPACECRAFT_ORIENTATION = (0.0,1.0,0.0)
^MEX_ORIENTATION_DESC = "MEX_ORIENTATION_DESC.TXT"
SPACECRAFT_POINTING_MODE = ACROSSTRACK
^MEX_POINTING_DESC = "MEX_POINTING_DESC.TXT"
RIGHT_ASCENSION = -1e+32
DECLINATION = -1e+32
OFFSET_ANGLE = 0.1
SPACECRAFT_SOLAR_DISTANCE = 2.34647e+08
TARGET_NAME = MARS
/* CAMERA DATA ELEMENTS */
DETECTOR_TEMPERATURE = 18.7783
FOCAL_PLANE_TEMPERATURE = 8.3794
INST_CMPRS_NAME = "DISCRETE COSINE TRANSFORMATION (DCT)"
INST_CMPRS_RATIO = 8.65469
INST_CMPRS_QUALITY = 0
INST_CMPRS_QUANTZ_TBL_ID = 0
INSTRUMENT_TEMPERATURE = 11.234
LENS_TEMPERATURE = 10.0106
MACROPIXEL_SIZE = 2
MISSING_FRAMES = 0
PIXEL_SUBSAMPLING_FLAG = N
SIGNAL_CHAIN_ID = 1
/* RADIOMETRIC DATA ELEMENTS */
BANDWIDTH = 178.0
CENTER_FILTER_WAVELENGTH = 679.0
RADIANCE_OFFSET = 0.976356
RADIANCE_SCALING_FACTOR = 0.0169107
REFLECTANCE_SCALING_FACTOR = 0.000493083
MEX:REFLECTANCE_OFFSET = 0.0284686
/* IMAGE OBJECT DEFINITIONS */
OBJECT = IMAGE
  INTERCHANGE_FORMAT = BINARY
  LINES = 29330
  LINE_SAMPLES = 4044
  SAMPLE_TYPE = UNSIGNED_INTEGER
  SAMPLE_BITS = 8
  BANDS = 1
  BAND_STORAGE_TYPE = BAND_SEQUENTIAL
  MAXIMUM = 255
  MEAN = 111.88
  MINIMUM = 1
  STANDARD_DEVIATION = 22.8493
END_OBJECT = IMAGE
/* MAP OBJECT DEFINITIONS */
OBJECT = IMAGE_MAP_PROJECTION
  ^DATA_SET_MAP_PROJECTION_CATALOG= "DSMAP.CAT"
  A_AXIS_RADIUS = 3396.0
  B_AXIS_RADIUS = 3396.0
  C_AXIS_RADIUS = 3396.0
  CENTER_LATITUDE = 0.0
  CENTER_LONGITUDE = 41.0
  COORDINATE_SYSTEM_NAME = PLANETOGRAPHIC
  COORDINATE_SYSTEM_TYPE = "BODY-FIXED ROTATING"
  EASTERNMOST_LONGITUDE = 41.4831
  FIRST_STANDARD_PARALLEL = "N/A"
  LINE_FIRST_PIXEL = 1
  LINE_LAST_PIXEL = 29330
  LINE_PROJECTION_OFFSET = -55420.75
  MAP_PROJECTION_ROTATION = 0.0
  MAP_PROJECTION_TYPE = SINUSOIDAL
  MAP_RESOLUTION = 2370.85521546667
  MAP_SCALE = 0.025
  MAXIMUM_LATITUDE = -23.3994
  MINIMUM_LATITUDE = -35.796
  POSITIVE_LONGITUDE_DIRECTION = EAST
  REFERENCE_LATITUDE = "N/A"
  REFERENCE_LONGITUDE = "N/A"
  SAMPLE_FIRST_PIXEL = 1
  SAMPLE_LAST_PIXEL = 4044
  SAMPLE_PROJECTION_OFFSET = 2818.75
  SECOND_STANDARD_PARALLEL = "N/A"
  WESTERNMOST_LONGITUDE = 39.761
END_OBJECT = IMAGE_MAP_PROJECTION
/* The JPEG2000 image data file associated with this label. */
OBJECT = COMPRESSED_FILE
  FILE_NAME = "H8500_0000_S23.JP2"
  RECORD_TYPE = UNDEFINED
  FILE_RECORDS = UNK
  ENCODING_TYPE = "JP2"
  INTERCHANGE_FORMAT = BINARY
  UNCOMPRESSED_FILE_NAME = "H8500_0000_S23.IMG"
  REQUIRED_STORAGE_BYTES = "118634784"
  ^DESCRIPTION = "JP2INFO.TXT"
END_OBJECT = COMPRESSED_FILE
END
