PDS_VERSION_ID = PDS3
/* FILE DATA ELEMENTS */
RECORD_TYPE = STREAM
/* POINTERS TO DATA OBJECTS */
^COMPRESSED_FILE = "H8505_0000_P13.JP2"
/* IDENTIFICATION DATA ELEMENTS */
DATA_SET_ID = "MEX-M-HRSC-5-REFDR-MAPPROJECTED-V3.0"
DATA_SET_NAME = "MARS EXPRESS HRSC MAP PROJECTED REFDR V3.0"
DETECTOR_ID = MEX_HRSC_P1
EVENT_TYPE = "MARS-REGIONAL-MAPPING-Vo-Te"
INSTRUMENT_HOST_ID = MEX
INSTRUMENT_HOST_NAME = "MARS EXPRESS"
INSTRUMENT_ID = HRSC
INSTRUMENT_NAME = "HIGH RESOLUTION STEREO CAMERA"
MISSION_NAME = "MARS EXPRESS"
MISSION_PHASE_NAME = ME_Phase_21
PROCESSING_LEVEL_ID = 3
PRODUCT_CREATION_TIME = 2016-10-25T23:07:55.000Z
PRODUCT_ID = "H8505_0000_P13.JP2"
RELEASE_ID = 0092
REVISION_ID = 0000
/* QUALITY DATA ELEMENTS */
DATA_QUALITY_ID = 1
DATA_QUALITY_DESC = "Data calculated based on original SPICE kernels"
/* TIME DATA ELEMENTS */
SPACECRAFT_CLOCK_START_COUNT = "1/0230849209.07303"
SPACECRAFT_CLOCK_STOP_COUNT = "1/0230849577.24308"
START_TIME = 2010-08-25T20:48:13.431Z
STOP_TIME = 2010-08-25T20:50:17.991Z
/* ORBITAL DATA ELEMENTS */
ASCENDING_NODE_LONGITUDE = 54.85
MAXIMUM_RESOLUTION = 44.1
FOOTPRINT_POINT_LATITUDE = (-20.5419,-20.5429,-20.5438,-20.5447, -20.5456,-20.5467,-20.5476,-20.5482, -20.5491,-20.5497,-20.4705,-20.2225, -19.9716,-19.5953,-19.3409,-19.1501, -18.8947,-18.6366,-18.3791,-18.2484, -17.9876,-17.7913,-17.6591,-17.527, -17.3952,-17.1956,-17.062,-16.9284, -16.7952,-16.6604,-16.5251,-16.3901, -16.1867,-16.0499,-15.9131,-15.7768, -15.5695,-15.4313,-15.2934,-15.154, -15.0143,-14.8748,-14.7349,-14.5933, -14.4522,-14.3113,-14.1691,-14.0264, -13.8838,-13.8795,-13.8779,-13.8738, -13.872,-13.8686,-13.8667,-13.8645, -13.8628,-13.8618,-13.8593,-13.8569, -13.8548,-13.9976,-14.1405,-14.2831, -14.4243,-14.5658,-14.7062,-14.8467, -14.9859,-15.1229,-15.2623,-15.4005, -15.5395,-15.6776,-15.8166,-15.9538, -16.0901,-16.227,-16.4293,-16.6325, -16.7679,-16.902,-17.1026,-17.2367, -17.3693,-17.5013,-17.6334,-17.766, -17.9627,-18.1591,-18.2901,-18.5498, -18.7442,-19.0036,-19.2593,-19.5794, -19.7687,-20.0213,-20.3964,-20.5419)
FOOTPRINT_POINT_LONGITUDE = (250.203,250.046,249.89,249.733,249.557 ,249.303,249.107,248.951,248.678, 248.502,248.384,248.378,248.37,248.359, 248.352,248.346,248.338,248.33,248.322, 248.317,248.309,248.302,248.298,248.293 ,248.288,248.282,248.277,248.272, 248.267,248.262,248.257,248.252,248.245 ,248.24,248.234,248.229,248.221,248.216 ,248.21,248.204,248.199,248.193,248.187 ,248.182,248.176,248.17,248.164,248.158 ,248.152,248.332,248.49,248.672,248.83, 249.034,249.215,249.487,249.645,249.896 ,250.077,250.259,250.495,250.493,250.49 ,250.488,250.486,250.483,250.48,250.478 ,250.475,250.471,250.469,250.466, 250.464,250.462,250.46,250.458,250.456, 250.453,250.45,250.446,250.444,250.442, 250.439,250.437,250.435,250.433,250.43, 250.428,250.425,250.422,250.42,250.416, 250.414,250.41,250.407,250.402,250.4, 250.396,250.391,250.203)
ORBIT_NUMBER = 8505
ORBITAL_ECCENTRICITY = 0.579
ORBITAL_INCLINATION = 86.82
ORBITAL_SEMIMAJOR_AXIS = 8799.3
PERIAPSIS_ALTITUDE = 321.14
PERIAPSIS_ARGUMENT_ANGLE = 308.59
PERIAPSIS_TIME = 2010-08-25T20:39:36.000Z
SPACECRAFT_ORIENTATION = (0.0,1.0,0.0)
^MEX_ORIENTATION_DESC = "MEX_ORIENTATION_DESC.TXT"
SPACECRAFT_POINTING_MODE = ACROSSTRACK
^MEX_POINTING_DESC = "MEX_POINTING_DESC.TXT"
RIGHT_ASCENSION = -1e+32
DECLINATION = -1e+32
OFFSET_ANGLE = -0.1
SPACECRAFT_SOLAR_DISTANCE = 2.34385e+08
TARGET_NAME = MARS
/* CAMERA DATA ELEMENTS */
DETECTOR_TEMPERATURE = 17.1471
FOCAL_PLANE_TEMPERATURE = 7.7677
INST_CMPRS_NAME = "DISCRETE COSINE TRANSFORMATION (DCT)"
INST_CMPRS_RATIO = 7.33444
INST_CMPRS_QUALITY = 0
INST_CMPRS_QUANTZ_TBL_ID = 0
INSTRUMENT_TEMPERATURE = 11.0301
LENS_TEMPERATURE = 8.1755
MACROPIXEL_SIZE = 2
MISSING_FRAMES = 0
PIXEL_SUBSAMPLING_FLAG = N
SIGNAL_CHAIN_ID = 3
/* RADIOMETRIC DATA ELEMENTS */
BANDWIDTH = 174.0
CENTER_FILTER_WAVELENGTH = 675.0
RADIANCE_OFFSET = 1.44513
RADIANCE_SCALING_FACTOR = 0.0328696
REFLECTANCE_SCALING_FACTOR = 0.000971261
MEX:REFLECTANCE_OFFSET = 0.042702
/* IMAGE OBJECT DEFINITIONS */
OBJECT = IMAGE
  INTERCHANGE_FORMAT = BINARY
  LINES = 10927
  LINE_SAMPLES = 2815
  SAMPLE_TYPE = UNSIGNED_INTEGER
  SAMPLE_BITS = 8
  BANDS = 1
  BAND_STORAGE_TYPE = BAND_SEQUENTIAL
  MAXIMUM = 255
  MEAN = 124.291
  MINIMUM = 1
  STANDARD_DEVIATION = 20.4806
END_OBJECT = IMAGE
/* MAP OBJECT DEFINITIONS */
OBJECT = IMAGE_MAP_PROJECTION
  ^DATA_SET_MAP_PROJECTION_CATALOG= "DSMAP.CAT"
  A_AXIS_RADIUS = 3396.0
  B_AXIS_RADIUS = 3396.0
  C_AXIS_RADIUS = 3396.0
  CENTER_LATITUDE = 0.0
  CENTER_LONGITUDE = 249.0
  COORDINATE_SYSTEM_NAME = PLANETOGRAPHIC
  COORDINATE_SYSTEM_TYPE = "BODY-FIXED ROTATING"
  EASTERNMOST_LONGITUDE = 250.495
  FIRST_STANDARD_PARALLEL = "N/A"
  LINE_FIRST_PIXEL = 1
  LINE_LAST_PIXEL = 10927
  LINE_PROJECTION_OFFSET = -13445.75
  MAP_PROJECTION_ROTATION = 0.0
  MAP_PROJECTION_TYPE = SINUSOIDAL
  MAP_RESOLUTION = 1185.42760773333
  MAP_SCALE = 0.05
  MAXIMUM_LATITUDE = -13.8548
  MINIMUM_LATITUDE = -20.5497
  POSITIVE_LONGITUDE_DIRECTION = EAST
  REFERENCE_LATITUDE = "N/A"
  REFERENCE_LONGITUDE = "N/A"
  SAMPLE_FIRST_PIXEL = 1
  SAMPLE_LAST_PIXEL = 2815
  SAMPLE_PROJECTION_OFFSET = 1074.75
  SECOND_STANDARD_PARALLEL = "N/A"
  WESTERNMOST_LONGITUDE = 248.152
END_OBJECT = IMAGE_MAP_PROJECTION
/* The JPEG2000 image data file associated with this label. */
OBJECT = COMPRESSED_FILE
  FILE_NAME = "H8505_0000_P13.JP2"
  RECORD_TYPE = UNDEFINED
  FILE_RECORDS = UNK
  ENCODING_TYPE = "JP2"
  INTERCHANGE_FORMAT = BINARY
  UNCOMPRESSED_FILE_NAME = "H8505_0000_P13.IMG"
  REQUIRED_STORAGE_BYTES = "30782025"
  ^DESCRIPTION = "JP2INFO.TXT"
END_OBJECT = COMPRESSED_FILE
END
