PDS_VERSION_ID = PDS3
/* FILE DATA ELEMENTS */
RECORD_TYPE = STREAM
/* POINTERS TO DATA OBJECTS */
^COMPRESSED_FILE = "H8511_0000_GR3.JP2"
/* IDENTIFICATION DATA ELEMENTS */
DATA_SET_ID = "MEX-M-HRSC-5-REFDR-MAPPROJECTED-V3.0"
DATA_SET_NAME = "MARS EXPRESS HRSC MAP PROJECTED REFDR V3.0"
DETECTOR_ID = MEX_HRSC_GREEN
EVENT_TYPE = "MARS-REGIONAL-MAPPING-Im-Fl"
INSTRUMENT_HOST_ID = MEX
INSTRUMENT_HOST_NAME = "MARS EXPRESS"
INSTRUMENT_ID = HRSC
INSTRUMENT_NAME = "HIGH RESOLUTION STEREO CAMERA"
MISSION_NAME = "MARS EXPRESS"
MISSION_PHASE_NAME = ME_Phase_21
PROCESSING_LEVEL_ID = 3
PRODUCT_CREATION_TIME = 2016-10-25T23:07:55.000Z
PRODUCT_ID = "H8511_0000_GR3.JP2"
RELEASE_ID = 0092
REVISION_ID = 0000
/* QUALITY DATA ELEMENTS */
DATA_QUALITY_ID = 1
DATA_QUALITY_DESC = "Data calculated based on original SPICE kernels"
/* TIME DATA ELEMENTS */
SPACECRAFT_CLOCK_START_COUNT = "1/0231000141.07281"
SPACECRAFT_CLOCK_STOP_COUNT = "1/0231000438.14171"
START_TIME = 2010-08-27T14:43:24.793Z
STOP_TIME = 2010-08-27T14:43:32.763Z
/* ORBITAL DATA ELEMENTS */
ASCENDING_NODE_LONGITUDE = 54.74
MAXIMUM_RESOLUTION = 67.4
FOOTPRINT_POINT_LATITUDE = (-30.0423,-30.0422,-30.0422,-30.0421, -30.0421,-30.042,-30.0419,-30.0418, -30.0416,-30.0415,-30.0414,-30.0412, -30.0411,-30.041,-30.0408,-30.0407, -30.0405,-30.0403,-30.0402,-30.04, -30.0398,-30.0396,-30.0392,-30.0388, -30.0383,-30.0379,-30.0374,-30.0369, -30.0366,-30.0363,-30.0359,-30.0353, -30.0346,-30.0343,-30.034,-30.0336, -30.0333,-30.0329,-30.0326,-30.0322, -30.0318,-30.0312,-30.0308,-30.0101, -29.969,-29.8203,-29.7228,-29.5579, -29.5513,-29.5516,-29.5521,-29.5525, -29.5528,-29.5531,-29.5534,-29.5537, -29.5541,-29.5544,-29.5548,-29.5551, -29.5554,-29.5557,-29.5561,-29.5564, -29.5566,-29.5572,-29.5574,-29.5577, -29.5579,-29.5581,-29.5582,-29.5584, -29.5588,-29.559,-29.5592,-29.5594, -29.5596,-29.5598,-29.56,-29.5601, -29.5603,-29.5604,-29.5606,-29.5607, -29.5608,-29.561,-29.5611,-29.5611, -29.5612,-29.5612,-29.5612,-29.5612, -29.5613,-29.5614,-29.5686,-29.7338, -29.8314,-29.9805,-30.0217,-30.0423)
FOOTPRINT_POINT_LONGITUDE = (356.327,356.295,356.264,356.233, 356.201,356.17,356.139,356.107,356.045, 356.014,355.982,355.935,355.904,355.873 ,355.842,355.81,355.779,355.748,355.716 ,355.685,355.654,355.622,355.56,355.497 ,355.435,355.388,355.325,355.263, 355.232,355.2,355.153,355.091,355.028, 354.997,354.966,354.934,354.903,354.872 ,354.84,354.809,354.778,354.731,354.699 ,354.672,354.672,354.672,354.672, 354.672,354.718,354.75,354.798,354.829, 354.861,354.893,354.925,354.957,354.988 ,355.02,355.068,355.099,355.131,355.163 ,355.21,355.242,355.274,355.321,355.353 ,355.385,355.417,355.448,355.496, 355.528,355.575,355.607,355.639,355.67, 355.702,355.75,355.797,355.829,355.877, 355.908,355.956,355.988,356.02,356.067, 356.099,356.13,356.162,356.194,356.226, 356.257,356.305,356.337,356.374,356.371 ,356.369,356.366,356.365,356.327)
ORBIT_NUMBER = 8511
ORBITAL_ECCENTRICITY = 0.579
ORBITAL_INCLINATION = 86.83
ORBITAL_SEMIMAJOR_AXIS = 8795.87
PERIAPSIS_ALTITUDE = 321.77
PERIAPSIS_ARGUMENT_ANGLE = 307.57
PERIAPSIS_TIME = 2010-08-27T14:37:35.000Z
SPACECRAFT_ORIENTATION = (0.0,1.0,0.0)
^MEX_ORIENTATION_DESC = "MEX_ORIENTATION_DESC.TXT"
SPACECRAFT_POINTING_MODE = NADIR
^MEX_POINTING_DESC = "MEX_POINTING_DESC.TXT"
RIGHT_ASCENSION = -1e+32
DECLINATION = -1e+32
OFFSET_ANGLE = -1e+32
SPACECRAFT_SOLAR_DISTANCE = 2.34069e+08
TARGET_NAME = MARS
/* CAMERA DATA ELEMENTS */
DETECTOR_TEMPERATURE = 17.7588
FOCAL_PLANE_TEMPERATURE = 7.5638
INST_CMPRS_NAME = "DISCRETE COSINE TRANSFORMATION (DCT)"
INST_CMPRS_RATIO = 42.3265
INST_CMPRS_QUALITY = 0
INST_CMPRS_QUANTZ_TBL_ID = 0
INSTRUMENT_TEMPERATURE = 10.8262
LENS_TEMPERATURE = 7.9716
MACROPIXEL_SIZE = 4
MISSING_FRAMES = 50
PIXEL_SUBSAMPLING_FLAG = N
SIGNAL_CHAIN_ID = 2
/* RADIOMETRIC DATA ELEMENTS */
BANDWIDTH = 88.0
CENTER_FILTER_WAVELENGTH = 538.0
RADIANCE_OFFSET = 0.314294
RADIANCE_SCALING_FACTOR = 0.00505984
REFLECTANCE_SCALING_FACTOR = 0.000238677
MEX:REFLECTANCE_OFFSET = 0.0148255
/* IMAGE OBJECT DEFINITIONS */
OBJECT = IMAGE
  INTERCHANGE_FORMAT = BINARY
  LINES = 2240
  LINE_SAMPLES = 1806
  SAMPLE_TYPE = UNSIGNED_INTEGER
  SAMPLE_BITS = 8
  BANDS = 1
  BAND_STORAGE_TYPE = BAND_SEQUENTIAL
  MAXIMUM = 254
  MEAN = 148.113
  MINIMUM = 1
  STANDARD_DEVIATION = 9.38994
END_OBJECT = IMAGE
/* MAP OBJECT DEFINITIONS */
OBJECT = IMAGE_MAP_PROJECTION
  ^DATA_SET_MAP_PROJECTION_CATALOG= "DSMAP.CAT"
  A_AXIS_RADIUS = 3396.0
  B_AXIS_RADIUS = 3396.0
  C_AXIS_RADIUS = 3396.0
  CENTER_LATITUDE = 0.0
  CENTER_LONGITUDE = 356.0
  COORDINATE_SYSTEM_NAME = PLANETOGRAPHIC
  COORDINATE_SYSTEM_TYPE = "BODY-FIXED ROTATING"
  EASTERNMOST_LONGITUDE = 356.374
  FIRST_STANDARD_PARALLEL = "N/A"
  LINE_FIRST_PIXEL = 1
  LINE_LAST_PIXEL = 2240
  LINE_PROJECTION_OFFSET = -34726.625
  MAP_PROJECTION_ROTATION = 0.0
  MAP_PROJECTION_TYPE = SINUSOIDAL
  MAP_RESOLUTION = 1185.42760773333
  MAP_SCALE = 0.05
  MAXIMUM_LATITUDE = -29.5513
  MINIMUM_LATITUDE = -30.0423
  POSITIVE_LONGITUDE_DIRECTION = EAST
  REFERENCE_LATITUDE = "N/A"
  REFERENCE_LONGITUDE = "N/A"
  SAMPLE_FIRST_PIXEL = 1
  SAMPLE_LAST_PIXEL = 1806
  SAMPLE_PROJECTION_OFFSET = 1403.125
  SECOND_STANDARD_PARALLEL = "N/A"
  WESTERNMOST_LONGITUDE = 354.672
END_OBJECT = IMAGE_MAP_PROJECTION
/* The JPEG2000 image data file associated with this label. */
OBJECT = COMPRESSED_FILE
  FILE_NAME = "H8511_0000_GR3.JP2"
  RECORD_TYPE = UNDEFINED
  FILE_RECORDS = UNK
  ENCODING_TYPE = "JP2"
  INTERCHANGE_FORMAT = BINARY
  UNCOMPRESSED_FILE_NAME = "H8511_0000_GR3.IMG"
  REQUIRED_STORAGE_BYTES = "4065306"
  ^DESCRIPTION = "JP2INFO.TXT"
END_OBJECT = COMPRESSED_FILE
END
