PDS_VERSION_ID = PDS3
/* FILE DATA ELEMENTS */
RECORD_TYPE = STREAM
/* POINTERS TO DATA OBJECTS */
^COMPRESSED_FILE = "H8513_0000_P23.JP2"
/* IDENTIFICATION DATA ELEMENTS */
DATA_SET_ID = "MEX-M-HRSC-5-REFDR-MAPPROJECTED-V3.0"
DATA_SET_NAME = "MARS EXPRESS HRSC MAP PROJECTED REFDR V3.0"
DETECTOR_ID = MEX_HRSC_P2
EVENT_TYPE = "MARS-REGIONAL-MAPPING-Te-Im-Fl"
INSTRUMENT_HOST_ID = MEX
INSTRUMENT_HOST_NAME = "MARS EXPRESS"
INSTRUMENT_ID = HRSC
INSTRUMENT_NAME = "HIGH RESOLUTION STEREO CAMERA"
MISSION_NAME = "MARS EXPRESS"
MISSION_PHASE_NAME = ME_Phase_21
PROCESSING_LEVEL_ID = 3
PRODUCT_CREATION_TIME = 2016-10-25T23:07:55.000Z
PRODUCT_ID = "H8513_0000_P23.JP2"
RELEASE_ID = 0092
REVISION_ID = 0000
/* QUALITY DATA ELEMENTS */
DATA_QUALITY_ID = 1
DATA_QUALITY_DESC = "Data calculated based on original SPICE kernels"
/* TIME DATA ELEMENTS */
SPACECRAFT_CLOCK_START_COUNT = "1/0231050416.08240"
SPACECRAFT_CLOCK_STOP_COUNT = "1/0231050716.56547"
START_TIME = 2010-08-28T04:40:29.477Z
STOP_TIME = 2010-08-28T04:43:56.212Z
/* ORBITAL DATA ELEMENTS */
ASCENDING_NODE_LONGITUDE = 54.69
MAXIMUM_RESOLUTION = 29.3
FOOTPRINT_POINT_LATITUDE = (-37.4264,-37.427,-37.4269,-37.4248, -37.399,-37.0588,-36.832,-36.6056, -36.3799,-36.1537,-35.815,-35.5879, -35.3615,-35.1069,-34.7028,-34.4333, -34.1645,-33.8966,-33.6281,-33.3591, -33.0911,-32.8221,-32.5536,-32.2849, -32.017,-31.7453,-31.4803,-31.2125, -30.9454,-30.5449,-30.2782,-30.0117, -29.7467,-29.474,-29.0697,-28.7978, -28.3776,-28.0969,-27.817,-27.397, -27.112,-26.8263,-26.5461,-26.2565, -25.9648,-25.6738,-25.2305,-24.9335, -24.6369,-24.3332,-24.032,-23.9803, -23.9766,-23.9705,-23.9642,-23.9599, -24.2639,-24.5676,-24.865,-25.311, -25.606,-25.8975,-26.1893,-26.4812, -26.7667,-27.0528,-27.4807,-27.7568, -28.0424,-28.3211,-28.6004,-28.8734, -29.2834,-29.5568,-29.8281,-30.2294, -30.63,-30.8973,-31.1667,-31.4344, -31.836,-32.1039,-32.3725,-32.6411, -32.9094,-33.1781,-33.4468,-33.9844, -34.3887,-34.6583,-35.0627,-35.4372, -35.7753,-36.0013,-36.341,-36.5675, -36.7941,-37.0209,-37.2484,-37.4264)
FOOTPRINT_POINT_LONGITUDE = (151.796,151.554,151.313,150.833, 150.391,150.397,150.401,150.404,150.408 ,150.411,150.415,150.418,150.42,150.423 ,150.427,150.429,150.431,150.433, 150.435,150.437,150.438,150.439,150.44, 150.44,150.441,150.44,150.44,150.44, 150.44,150.439,150.438,150.437,150.437, 150.435,150.434,150.433,150.428,150.425 ,150.423,150.419,150.416,150.413,150.41 ,150.407,150.403,150.399,150.392, 150.388,150.383,150.377,150.373,150.595 ,151.043,151.563,151.912,152.164, 152.161,152.157,152.154,152.15,152.147, 152.144,152.141,152.137,152.134,152.13, 152.126,152.125,152.118,152.115,152.111 ,152.108,152.102,152.099,152.095, 152.089,152.084,152.08,152.075,152.071, 152.065,152.061,152.057,152.053,152.049 ,152.045,152.04,152.032,152.025,152.021 ,152.014,152.007,152.002,151.998, 151.991,151.987,151.983,151.978,151.973 ,151.796)
ORBIT_NUMBER = 8513
ORBITAL_ECCENTRICITY = 0.579
ORBITAL_INCLINATION = 86.82
ORBITAL_SEMIMAJOR_AXIS = 8797.06
PERIAPSIS_ALTITUDE = 322.33
PERIAPSIS_ARGUMENT_ANGLE = 307.27
PERIAPSIS_TIME = 2010-08-28T04:36:58.000Z
SPACECRAFT_ORIENTATION = (0.0,1.0,0.0)
^MEX_ORIENTATION_DESC = "MEX_ORIENTATION_DESC.TXT"
SPACECRAFT_POINTING_MODE = ACROSSTRACK
^MEX_POINTING_DESC = "MEX_POINTING_DESC.TXT"
RIGHT_ASCENSION = -1e+32
DECLINATION = -1e+32
OFFSET_ANGLE = -0.3
SPACECRAFT_SOLAR_DISTANCE = 2.33963e+08
TARGET_NAME = MARS
/* CAMERA DATA ELEMENTS */
DETECTOR_TEMPERATURE = 18.5744
FOCAL_PLANE_TEMPERATURE = 8.1755
INST_CMPRS_NAME = "DISCRETE COSINE TRANSFORMATION (DCT)"
INST_CMPRS_RATIO = 5.63098
INST_CMPRS_QUALITY = 0
INST_CMPRS_QUANTZ_TBL_ID = 0
INSTRUMENT_TEMPERATURE = 11.234
LENS_TEMPERATURE = 8.5833
MACROPIXEL_SIZE = 2
MISSING_FRAMES = 0
PIXEL_SUBSAMPLING_FLAG = N
SIGNAL_CHAIN_ID = 3
/* RADIOMETRIC DATA ELEMENTS */
BANDWIDTH = 177.0
CENTER_FILTER_WAVELENGTH = 676.5
RADIANCE_OFFSET = 0.301899
RADIANCE_SCALING_FACTOR = 0.0184165
REFLECTANCE_SCALING_FACTOR = 0.000534509
MEX:REFLECTANCE_OFFSET = 0.00876214
/* IMAGE OBJECT DEFINITIONS */
OBJECT = IMAGE
  INTERCHANGE_FORMAT = BINARY
  LINES = 31870
  LINE_SAMPLES = 4218
  SAMPLE_TYPE = UNSIGNED_INTEGER
  SAMPLE_BITS = 8
  BANDS = 1
  BAND_STORAGE_TYPE = BAND_SEQUENTIAL
  MAXIMUM = 255
  MEAN = 104.597
  MINIMUM = 1
  STANDARD_DEVIATION = 22.842
END_OBJECT = IMAGE
/* MAP OBJECT DEFINITIONS */
OBJECT = IMAGE_MAP_PROJECTION
  ^DATA_SET_MAP_PROJECTION_CATALOG= "DSMAP.CAT"
  A_AXIS_RADIUS = 3396.0
  B_AXIS_RADIUS = 3396.0
  C_AXIS_RADIUS = 3396.0
  CENTER_LATITUDE = 0.0
  CENTER_LONGITUDE = 151.0
  COORDINATE_SYSTEM_NAME = PLANETOGRAPHIC
  COORDINATE_SYSTEM_TYPE = "BODY-FIXED ROTATING"
  EASTERNMOST_LONGITUDE = 152.164
  FIRST_STANDARD_PARALLEL = "N/A"
  LINE_FIRST_PIXEL = 1
  LINE_LAST_PIXEL = 31870
  LINE_PROJECTION_OFFSET = -56804.75
  MAP_PROJECTION_ROTATION = 0.0
  MAP_PROJECTION_TYPE = SINUSOIDAL
  MAP_RESOLUTION = 2370.85521546667
  MAP_SCALE = 0.025
  MAXIMUM_LATITUDE = -23.9599
  MINIMUM_LATITUDE = -37.427
  POSITIVE_LONGITUDE_DIRECTION = EAST
  REFERENCE_LATITUDE = "N/A"
  REFERENCE_LONGITUDE = "N/A"
  SAMPLE_FIRST_PIXEL = 1
  SAMPLE_LAST_PIXEL = 4218
  SAMPLE_PROJECTION_OFFSET = 1502.75
  SECOND_STANDARD_PARALLEL = "N/A"
  WESTERNMOST_LONGITUDE = 150.373
END_OBJECT = IMAGE_MAP_PROJECTION
/* The JPEG2000 image data file associated with this label. */
OBJECT = COMPRESSED_FILE
  FILE_NAME = "H8513_0000_P23.JP2"
  RECORD_TYPE = UNDEFINED
  FILE_RECORDS = UNK
  ENCODING_TYPE = "JP2"
  INTERCHANGE_FORMAT = BINARY
  UNCOMPRESSED_FILE_NAME = "H8513_0000_P23.IMG"
  REQUIRED_STORAGE_BYTES = "134452968"
  ^DESCRIPTION = "JP2INFO.TXT"
END_OBJECT = COMPRESSED_FILE
END
