PDS_VERSION_ID = PDS3
/* FILE DATA ELEMENTS */
RECORD_TYPE = STREAM
/* POINTERS TO DATA OBJECTS */
^COMPRESSED_FILE = "H8514_0000_BL3.JP2"
/* IDENTIFICATION DATA ELEMENTS */
DATA_SET_ID = "MEX-M-HRSC-5-REFDR-MAPPROJECTED-V3.0"
DATA_SET_NAME = "MARS EXPRESS HRSC MAP PROJECTED REFDR V3.0"
DETECTOR_ID = MEX_HRSC_BLUE
EVENT_TYPE = "MARS-REGIONAL-MAPPING-Te-Im-Fl"
INSTRUMENT_HOST_ID = MEX
INSTRUMENT_HOST_NAME = "MARS EXPRESS"
INSTRUMENT_ID = HRSC
INSTRUMENT_NAME = "HIGH RESOLUTION STEREO CAMERA"
MISSION_NAME = "MARS EXPRESS"
MISSION_PHASE_NAME = ME_Phase_21
PROCESSING_LEVEL_ID = 3
PRODUCT_CREATION_TIME = 2016-10-25T23:07:55.000Z
PRODUCT_ID = "H8514_0000_BL3.JP2"
RELEASE_ID = 0092
REVISION_ID = 0000
/* QUALITY DATA ELEMENTS */
DATA_QUALITY_ID = 1
DATA_QUALITY_DESC = "Data calculated based on original SPICE kernels"
/* TIME DATA ELEMENTS */
SPACECRAFT_CLOCK_START_COUNT = "1/0231075636.08263"
SPACECRAFT_CLOCK_STOP_COUNT = "1/0231075949.61595"
START_TIME = 2010-08-28T11:41:06.663Z
STOP_TIME = 2010-08-28T11:44:44.684Z
/* ORBITAL DATA ELEMENTS */
ASCENDING_NODE_LONGITUDE = 54.68
MAXIMUM_RESOLUTION = 61
FOOTPRINT_POINT_LATITUDE = (-34.8027,-34.7975,-34.7938,-34.7867, -34.5214,-34.2689,-34.0163,-33.7641, -33.5123,-33.2607,-33.0093,-32.7584, -32.5066,-32.2556,-32.0051,-31.63, -31.3799,-31.0046,-30.6226,-30.3668, -30.1115,-29.8565,-29.5966,-29.3354, -29.0743,-28.8139,-28.5486,-28.2806, -28.0137,-27.6122,-27.3416,-27.07, -26.7984,-26.5209,-26.2437,-25.9671, -25.6859,-25.4033,-25.1213,-24.8355, -24.5482,-24.2611,-23.9695,-23.6772, -23.2358,-22.9378,-22.6404,-22.1854, -21.8826,-21.5752,-21.2694,-21.2083, -21.2079,-21.2067,-21.2052,-21.2026, -21.2015,-21.5099,-21.9711,-22.2746, -22.7279,-23.0261,-23.4714,-23.9094, -24.2029,-24.4906,-24.7788,-25.0664, -25.3491,-25.6334,-25.917,-26.1942, -26.4717,-26.887,-27.159,-27.4314, -27.8385,-28.1033,-28.3702,-28.6373, -29.0339,-29.4265,-29.6884,-30.0745, -30.3292,-30.585,-30.9676,-31.2167, -31.5937,-31.9702,-32.2215,-32.5984, -32.8501,-33.1017,-33.3536,-33.7318, -33.9843,-34.2364,-34.4892,-34.8027)
FOOTPRINT_POINT_LONGITUDE = (49.2712,48.7102,48.4298,47.9871,47.767 ,47.7705,47.7732,47.776,47.7789,47.7816 ,47.7839,47.7865,47.7871,47.7883, 47.7897,47.7919,47.7925,47.792,47.7919, 47.7918,47.7917,47.7917,47.7915,47.7909 ,47.7896,47.7888,47.7875,47.7839, 47.7811,47.7796,47.7799,47.7775,47.7747 ,47.7719,47.7688,47.7657,47.7625, 47.7587,47.7547,47.7505,47.7467,47.7423 ,47.7375,47.7332,47.7252,47.7195, 47.7137,47.7027,47.6956,47.6891,47.6853 ,47.9691,48.399,48.7215,48.9727,49.3315 ,49.6065,49.6024,49.5958,49.5916, 49.5853,49.5813,49.5769,49.5735,49.5692 ,49.565,49.5608,49.5563,49.5518,49.5451 ,49.5399,49.5357,49.5314,49.5248, 49.5203,49.5157,49.5096,49.5081,49.5037 ,49.4993,49.4887,49.4808,49.476,49.4695 ,49.4668,49.4627,49.4571,49.454,49.444, 49.4357,49.4302,49.4228,49.4173,49.4125 ,49.4077,49.4002,49.395,49.391,49.3861, 49.2712)
ORBIT_NUMBER = 8514
ORBITAL_ECCENTRICITY = 0.579
ORBITAL_INCLINATION = 86.83
ORBITAL_SEMIMAJOR_AXIS = 8797.49
PERIAPSIS_ALTITUDE = 321.63
PERIAPSIS_ARGUMENT_ANGLE = 307.09
PERIAPSIS_TIME = 2010-08-28T11:36:37.000Z
SPACECRAFT_ORIENTATION = (0.0,1.0,0.0)
^MEX_ORIENTATION_DESC = "MEX_ORIENTATION_DESC.TXT"
SPACECRAFT_POINTING_MODE = NADIR
^MEX_POINTING_DESC = "MEX_POINTING_DESC.TXT"
RIGHT_ASCENSION = -1e+32
DECLINATION = -1e+32
OFFSET_ANGLE = -1e+32
SPACECRAFT_SOLAR_DISTANCE = 2.3391e+08
TARGET_NAME = MARS
/* CAMERA DATA ELEMENTS */
DETECTOR_TEMPERATURE = 18.1666
FOCAL_PLANE_TEMPERATURE = 8.1755
INST_CMPRS_NAME = "DISCRETE COSINE TRANSFORMATION (DCT)"
INST_CMPRS_RATIO = 7.22363
INST_CMPRS_QUALITY = 0
INST_CMPRS_QUANTZ_TBL_ID = 0
INSTRUMENT_TEMPERATURE = 11.234
LENS_TEMPERATURE = 8.5833
MACROPIXEL_SIZE = 4
MISSING_FRAMES = 0
PIXEL_SUBSAMPLING_FLAG = N
SIGNAL_CHAIN_ID = 2
/* RADIOMETRIC DATA ELEMENTS */
BANDWIDTH = 76.0
CENTER_FILTER_WAVELENGTH = 444.0
RADIANCE_OFFSET = 0.183489
RADIANCE_SCALING_FACTOR = 0.00228953
REFLECTANCE_SCALING_FACTOR = 0.000128706
MEX:REFLECTANCE_OFFSET = 0.0103148
/* IMAGE OBJECT DEFINITIONS */
OBJECT = IMAGE
  INTERCHANGE_FORMAT = BINARY
  LINES = 16140
  LINE_SAMPLES = 2242
  SAMPLE_TYPE = UNSIGNED_INTEGER
  SAMPLE_BITS = 8
  BANDS = 1
  BAND_STORAGE_TYPE = BAND_SEQUENTIAL
  MAXIMUM = 255
  MEAN = 135.499
  MINIMUM = 1
  STANDARD_DEVIATION = 22.827
END_OBJECT = IMAGE
/* MAP OBJECT DEFINITIONS */
OBJECT = IMAGE_MAP_PROJECTION
  ^DATA_SET_MAP_PROJECTION_CATALOG= "DSMAP.CAT"
  A_AXIS_RADIUS = 3396.0
  B_AXIS_RADIUS = 3396.0
  C_AXIS_RADIUS = 3396.0
  CENTER_LATITUDE = 0.0
  CENTER_LONGITUDE = 49.0
  COORDINATE_SYSTEM_NAME = PLANETOGRAPHIC
  COORDINATE_SYSTEM_TYPE = "BODY-FIXED ROTATING"
  EASTERNMOST_LONGITUDE = 49.6065
  FIRST_STANDARD_PARALLEL = "N/A"
  LINE_FIRST_PIXEL = 1
  LINE_LAST_PIXEL = 16140
  LINE_PROJECTION_OFFSET = -25127.875
  MAP_PROJECTION_ROTATION = 0.0
  MAP_PROJECTION_TYPE = SINUSOIDAL
  MAP_RESOLUTION = 1185.42760773333
  MAP_SCALE = 0.05
  MAXIMUM_LATITUDE = -21.2015
  MINIMUM_LATITUDE = -34.8027
  POSITIVE_LONGITUDE_DIRECTION = EAST
  REFERENCE_LATITUDE = "N/A"
  REFERENCE_LONGITUDE = "N/A"
  SAMPLE_FIRST_PIXEL = 1
  SAMPLE_LAST_PIXEL = 2242
  SAMPLE_PROJECTION_OFFSET = 1518.125
  SECOND_STANDARD_PARALLEL = "N/A"
  WESTERNMOST_LONGITUDE = 47.6853
END_OBJECT = IMAGE_MAP_PROJECTION
/* The JPEG2000 image data file associated with this label. */
OBJECT = COMPRESSED_FILE
  FILE_NAME = "H8514_0000_BL3.JP2"
  RECORD_TYPE = UNDEFINED
  FILE_RECORDS = UNK
  ENCODING_TYPE = "JP2"
  INTERCHANGE_FORMAT = BINARY
  UNCOMPRESSED_FILE_NAME = "H8514_0000_BL3.IMG"
  REQUIRED_STORAGE_BYTES = "36208300"
  ^DESCRIPTION = "JP2INFO.TXT"
END_OBJECT = COMPRESSED_FILE
END
