PDS_VERSION_ID = PDS3
/* FILE DATA ELEMENTS */
RECORD_TYPE = STREAM
/* POINTERS TO DATA OBJECTS */
^COMPRESSED_FILE = "H8515_0000_P13.JP2"
/* IDENTIFICATION DATA ELEMENTS */
DATA_SET_ID = "MEX-M-HRSC-5-REFDR-MAPPROJECTED-V3.0"
DATA_SET_NAME = "MARS EXPRESS HRSC MAP PROJECTED REFDR V3.0"
DETECTOR_ID = MEX_HRSC_P1
EVENT_TYPE = "MARS-REGIONAL-MAPPING-Te-Im"
INSTRUMENT_HOST_ID = MEX
INSTRUMENT_HOST_NAME = "MARS EXPRESS"
INSTRUMENT_ID = HRSC
INSTRUMENT_NAME = "HIGH RESOLUTION STEREO CAMERA"
MISSION_NAME = "MARS EXPRESS"
MISSION_PHASE_NAME = ME_Phase_21
PROCESSING_LEVEL_ID = 3
PRODUCT_CREATION_TIME = 2016-10-25T23:07:55.000Z
PRODUCT_ID = "H8515_0000_P13.JP2"
RELEASE_ID = 0092
REVISION_ID = 0000
/* QUALITY DATA ELEMENTS */
DATA_QUALITY_ID = 1
DATA_QUALITY_DESC = "Data calculated based on original SPICE kernels"
/* TIME DATA ELEMENTS */
SPACECRAFT_CLOCK_START_COUNT = "1/0231100748.08248"
SPACECRAFT_CLOCK_STOP_COUNT = "1/0231101001.41910"
START_TIME = 2010-08-28T18:40:03.833Z
STOP_TIME = 2010-08-28T18:43:05.967Z
/* ORBITAL DATA ELEMENTS */
ASCENDING_NODE_LONGITUDE = 54.66
MAXIMUM_RESOLUTION = 29.7
FOOTPRINT_POINT_LATITUDE = (-39.5064,-39.5075,-39.5082,-39.5085, -39.5084,-39.5079,-39.3403,-39.0612, -38.6647,-38.4433,-38.2222,-38.003, -37.7822,-37.5612,-37.3407,-37.0101, -36.789,-36.4578,-36.2391,-35.9114, -35.6928,-35.4748,-35.2577,-34.9329, -34.7163,-34.4993,-34.2829,-33.9597, -33.7442,-33.5296,-33.3112,-33.091, -32.7611,-32.4315,-32.2084,-31.9838, -31.7599,-31.4244,-31.1982,-30.9696, -30.6272,-30.3996,-30.1679,-29.9355, -29.7033,-29.4716,-29.1172,-28.8808, -28.6448,-28.4802,-28.4796,-28.4707, -28.4661,-28.4616,-28.4565,-28.8114, -29.0482,-29.2855,-29.521,-29.7534, -30.1029,-30.3361,-30.564,-30.9069, -31.1356,-31.3623,-31.5854,-31.9202, -32.1447,-32.3706,-32.5936,-32.9273, -33.1445,-33.367,-33.5847,-33.8003, -34.0164,-34.3406,-34.5568,-34.774, -34.9915,-35.2096,-35.5376,-35.7564, -35.9748,-36.1939,-36.4134,-36.6338, -36.8551,-37.0748,-37.2958,-37.5153, -37.7374,-38.0683,-38.2902,-38.5113, -38.7329,-38.9325,-39.3076,-39.5064)
FOOTPRINT_POINT_LONGITUDE = (305.746,305.497,305.245,304.991, 304.734,304.474,304.182,304.194,304.211 ,304.22,304.229,304.234,304.243,304.252 ,304.26,304.272,304.282,304.296,304.302 ,304.312,304.319,304.325,304.33,304.337 ,304.342,304.347,304.352,304.358, 304.363,304.366,304.37,304.374,304.379, 304.385,304.388,304.391,304.394,304.398 ,304.4,304.403,304.406,304.408,304.41, 304.411,304.412,304.414,304.415,304.416 ,304.417,304.582,304.819,305.292, 305.597,305.881,306.163,306.264,306.256 ,306.249,306.242,306.234,306.223, 306.216,306.208,306.197,306.189,306.182 ,306.174,306.163,306.155,306.147, 306.139,306.127,306.119,306.111,306.103 ,306.095,306.087,306.075,306.066, 306.058,306.049,306.041,306.027,306.018 ,306.009,306.0,305.991,305.982,305.972, 305.962,305.952,305.943,305.933,305.918 ,305.908,305.898,305.887,305.878, 305.859,305.746)
ORBIT_NUMBER = 8515
ORBITAL_ECCENTRICITY = 0.579
ORBITAL_INCLINATION = 86.83
ORBITAL_SEMIMAJOR_AXIS = 8793.8
PERIAPSIS_ALTITUDE = 321.8
PERIAPSIS_ARGUMENT_ANGLE = 306.93
PERIAPSIS_TIME = 2010-08-28T18:36:18.000Z
SPACECRAFT_ORIENTATION = (0.0,1.0,0.0)
^MEX_ORIENTATION_DESC = "MEX_ORIENTATION_DESC.TXT"
SPACECRAFT_POINTING_MODE = ACROSSTRACK
^MEX_POINTING_DESC = "MEX_POINTING_DESC.TXT"
RIGHT_ASCENSION = -1e+32
DECLINATION = -1e+32
OFFSET_ANGLE = 0.85
SPACECRAFT_SOLAR_DISTANCE = 2.33857e+08
TARGET_NAME = MARS
/* CAMERA DATA ELEMENTS */
DETECTOR_TEMPERATURE = 17.351
FOCAL_PLANE_TEMPERATURE = 7.9716
INST_CMPRS_NAME = "DISCRETE COSINE TRANSFORMATION (DCT)"
INST_CMPRS_RATIO = 15.2192
INST_CMPRS_QUALITY = 0
INST_CMPRS_QUANTZ_TBL_ID = 0
INSTRUMENT_TEMPERATURE = 10.8262
LENS_TEMPERATURE = 6.7482
MACROPIXEL_SIZE = 2
MISSING_FRAMES = 0
PIXEL_SUBSAMPLING_FLAG = N
SIGNAL_CHAIN_ID = 3
/* RADIOMETRIC DATA ELEMENTS */
BANDWIDTH = 174.0
CENTER_FILTER_WAVELENGTH = 675.0
RADIANCE_OFFSET = 0.478688
RADIANCE_SCALING_FACTOR = 0.0150177
REFLECTANCE_SCALING_FACTOR = 0.000441759
MEX:REFLECTANCE_OFFSET = 0.0140811
/* IMAGE OBJECT DEFINITIONS */
OBJECT = IMAGE
  INTERCHANGE_FORMAT = BINARY
  LINES = 26316
  LINE_SAMPLES = 4202
  SAMPLE_TYPE = UNSIGNED_INTEGER
  SAMPLE_BITS = 8
  BANDS = 1
  BAND_STORAGE_TYPE = BAND_SEQUENTIAL
  MAXIMUM = 255
  MEAN = 116.187
  MINIMUM = 1
  STANDARD_DEVIATION = 24.2177
END_OBJECT = IMAGE
/* MAP OBJECT DEFINITIONS */
OBJECT = IMAGE_MAP_PROJECTION
  ^DATA_SET_MAP_PROJECTION_CATALOG= "DSMAP.CAT"
  A_AXIS_RADIUS = 3396.0
  B_AXIS_RADIUS = 3396.0
  C_AXIS_RADIUS = 3396.0
  CENTER_LATITUDE = 0.0
  CENTER_LONGITUDE = 305.0
  COORDINATE_SYSTEM_NAME = PLANETOGRAPHIC
  COORDINATE_SYSTEM_TYPE = "BODY-FIXED ROTATING"
  EASTERNMOST_LONGITUDE = 306.264
  FIRST_STANDARD_PARALLEL = "N/A"
  LINE_FIRST_PIXEL = 1
  LINE_LAST_PIXEL = 26316
  LINE_PROJECTION_OFFSET = -67453.25
  MAP_PROJECTION_ROTATION = 0.0
  MAP_PROJECTION_TYPE = SINUSOIDAL
  MAP_RESOLUTION = 2370.85521546667
  MAP_SCALE = 0.025
  MAXIMUM_LATITUDE = -28.4565
  MINIMUM_LATITUDE = -39.5085
  POSITIVE_LONGITUDE_DIRECTION = EAST
  REFERENCE_LATITUDE = "N/A"
  REFERENCE_LONGITUDE = "N/A"
  SAMPLE_FIRST_PIXEL = 1
  SAMPLE_LAST_PIXEL = 4202
  SAMPLE_PROJECTION_OFFSET = 1632.75
  SECOND_STANDARD_PARALLEL = "N/A"
  WESTERNMOST_LONGITUDE = 304.182
END_OBJECT = IMAGE_MAP_PROJECTION
/* The JPEG2000 image data file associated with this label. */
OBJECT = COMPRESSED_FILE
  FILE_NAME = "H8515_0000_P13.JP2"
  RECORD_TYPE = UNDEFINED
  FILE_RECORDS = UNK
  ENCODING_TYPE = "JP2"
  INTERCHANGE_FORMAT = BINARY
  UNCOMPRESSED_FILE_NAME = "H8515_0000_P13.IMG"
  REQUIRED_STORAGE_BYTES = "110605044"
  ^DESCRIPTION = "JP2INFO.TXT"
END_OBJECT = COMPRESSED_FILE
END
