PDS_VERSION_ID = PDS3
/* FILE DATA ELEMENTS */
RECORD_TYPE = STREAM
/* POINTERS TO DATA OBJECTS */
^COMPRESSED_FILE = "H8516_0000_BL3.JP2"
/* IDENTIFICATION DATA ELEMENTS */
DATA_SET_ID = "MEX-M-HRSC-5-REFDR-MAPPROJECTED-V3.0"
DATA_SET_NAME = "MARS EXPRESS HRSC MAP PROJECTED REFDR V3.0"
DETECTOR_ID = MEX_HRSC_BLUE
EVENT_TYPE = "MARS-REGIONAL-MAPPING-Te-Im"
INSTRUMENT_HOST_ID = MEX
INSTRUMENT_HOST_NAME = "MARS EXPRESS"
INSTRUMENT_ID = HRSC
INSTRUMENT_NAME = "HIGH RESOLUTION STEREO CAMERA"
MISSION_NAME = "MARS EXPRESS"
MISSION_PHASE_NAME = ME_Phase_21
PROCESSING_LEVEL_ID = 3
PRODUCT_CREATION_TIME = 2016-10-25T23:07:55.000Z
PRODUCT_ID = "H8516_0000_BL3.JP2"
RELEASE_ID = 0092
REVISION_ID = 0000
/* QUALITY DATA ELEMENTS */
DATA_QUALITY_ID = 1
DATA_QUALITY_DESC = "Data calculated based on original SPICE kernels"
/* TIME DATA ELEMENTS */
SPACECRAFT_CLOCK_START_COUNT = "1/0231125963.08407"
SPACECRAFT_CLOCK_STOP_COUNT = "1/0231126203.31174"
START_TIME = 2010-08-29T01:39:52.545Z
STOP_TIME = 2010-08-29T01:42:29.859Z
/* ORBITAL DATA ELEMENTS */
ASCENDING_NODE_LONGITUDE = 54.64
MAXIMUM_RESOLUTION = 58.3
FOOTPRINT_POINT_LATITUDE = (-37.1153,-37.1096,-37.1021,-37.0974, -37.0912,-36.8318,-36.6636,-36.3757, -36.1765,-35.9777,-35.6799,-35.481, -35.2824,-35.084,-34.8851,-34.6867, -34.4887,-34.291,-33.9946,-33.7969, -33.5993,-33.3034,-33.1061,-32.9092, -32.7123,-32.5158,-32.3193,-32.123, -31.9269,-31.731,-31.5348,-31.3395, -31.0412,-30.8408,-30.6406,-30.4404, -30.1401,-29.9353,-29.7306,-29.5254, -29.3207,-29.1168,-28.9088,-28.6991, -28.4901,-28.282,-27.9654,-27.7519, -27.5388,-27.3261,-27.1151,-27.1175, -27.12,-27.1234,-27.1243,-27.1247, -27.446,-27.7663,-27.98,-28.2958, -28.5049,-28.7141,-28.9238,-29.1325, -29.3372,-29.6449,-29.8503,-30.0556, -30.258,-30.4576,-30.6584,-30.86, -31.0607,-31.2616,-31.4579,-31.6536, -31.8497,-32.046,-32.2426,-32.5378, -32.7348,-32.932,-33.1292,-33.4256, -33.7222,-33.92,-34.1183,-34.4157, -34.614,-34.8125,-35.1106,-35.409, -35.6082,-35.8077,-36.1071,-36.3061, -36.5063,-36.694,-36.8615,-37.1153)
FOOTPRINT_POINT_LONGITUDE = (204.554,204.116,203.677,203.443, 203.164,203.038,203.04,203.045,203.048, 203.053,203.059,203.062,203.065,203.068 ,203.07,203.072,203.075,203.078,203.082 ,203.084,203.086,203.089,203.09,203.091 ,203.093,203.094,203.096,203.097, 203.098,203.099,203.099,203.101,203.101 ,203.102,203.103,203.103,203.102, 203.102,203.102,203.101,203.1,203.1, 203.1,203.098,203.097,203.097,203.093, 203.091,203.089,203.088,203.086,203.315 ,203.595,203.924,204.235,204.71,204.84, 204.835,204.831,204.825,204.821,204.817 ,204.813,204.809,204.805,204.799, 204.794,204.79,204.787,204.784,204.78, 204.774,204.77,204.766,204.761,204.758, 204.754,204.75,204.745,204.739,204.734, 204.73,204.725,204.718,204.711,204.706, 204.701,204.694,204.689,204.684,204.676 ,204.668,204.663,204.657,204.648, 204.644,204.637,204.632,204.627, 204.554)
ORBIT_NUMBER = 8516
ORBITAL_ECCENTRICITY = 0.579
ORBITAL_INCLINATION = 86.84
ORBITAL_SEMIMAJOR_AXIS = 8793.07
PERIAPSIS_ALTITUDE = 321.37
PERIAPSIS_ARGUMENT_ANGLE = 306.73
PERIAPSIS_TIME = 2010-08-29T01:35:53.000Z
SPACECRAFT_ORIENTATION = (0.0,1.0,0.0)
^MEX_ORIENTATION_DESC = "MEX_ORIENTATION_DESC.TXT"
SPACECRAFT_POINTING_MODE = ACROSSTRACK
^MEX_POINTING_DESC = "MEX_POINTING_DESC.TXT"
RIGHT_ASCENSION = -1e+32
DECLINATION = -1e+32
OFFSET_ANGLE = 0.1
SPACECRAFT_SOLAR_DISTANCE = 2.33804e+08
TARGET_NAME = MARS
/* CAMERA DATA ELEMENTS */
DETECTOR_TEMPERATURE = 17.9627
FOCAL_PLANE_TEMPERATURE = 7.7677
INST_CMPRS_NAME = "DISCRETE COSINE TRANSFORMATION (DCT)"
INST_CMPRS_RATIO = 5.17366
INST_CMPRS_QUALITY = 0
INST_CMPRS_QUANTZ_TBL_ID = 0
INSTRUMENT_TEMPERATURE = 11.0301
LENS_TEMPERATURE = 8.1755
MACROPIXEL_SIZE = 4
MISSING_FRAMES = 0
PIXEL_SUBSAMPLING_FLAG = N
SIGNAL_CHAIN_ID = 2
/* RADIOMETRIC DATA ELEMENTS */
BANDWIDTH = 76.0
CENTER_FILTER_WAVELENGTH = 444.0
RADIANCE_OFFSET = 0.0722836
RADIANCE_SCALING_FACTOR = 0.00266021
REFLECTANCE_SCALING_FACTOR = 0.000149408
MEX:REFLECTANCE_OFFSET = 0.00405973
/* IMAGE OBJECT DEFINITIONS */
OBJECT = IMAGE
  INTERCHANGE_FORMAT = BINARY
  LINES = 11850
  LINE_SAMPLES = 1957
  SAMPLE_TYPE = UNSIGNED_INTEGER
  SAMPLE_BITS = 8
  BANDS = 1
  BAND_STORAGE_TYPE = BAND_SEQUENTIAL
  MAXIMUM = 255
  MEAN = 130.401
  MINIMUM = 1
  STANDARD_DEVIATION = 23.2899
END_OBJECT = IMAGE
/* MAP OBJECT DEFINITIONS */
OBJECT = IMAGE_MAP_PROJECTION
  ^DATA_SET_MAP_PROJECTION_CATALOG= "DSMAP.CAT"
  A_AXIS_RADIUS = 3396.0
  B_AXIS_RADIUS = 3396.0
  C_AXIS_RADIUS = 3396.0
  CENTER_LATITUDE = 0.0
  CENTER_LONGITUDE = 204.0
  COORDINATE_SYSTEM_NAME = PLANETOGRAPHIC
  COORDINATE_SYSTEM_TYPE = "BODY-FIXED ROTATING"
  EASTERNMOST_LONGITUDE = 204.84
  FIRST_STANDARD_PARALLEL = "N/A"
  LINE_FIRST_PIXEL = 1
  LINE_LAST_PIXEL = 11850
  LINE_PROJECTION_OFFSET = -32148.125
  MAP_PROJECTION_ROTATION = 0.0
  MAP_PROJECTION_TYPE = SINUSOIDAL
  MAP_RESOLUTION = 1185.42760773333
  MAP_SCALE = 0.05
  MAXIMUM_LATITUDE = -27.1151
  MINIMUM_LATITUDE = -37.1153
  POSITIVE_LONGITUDE_DIRECTION = EAST
  REFERENCE_LATITUDE = "N/A"
  REFERENCE_LONGITUDE = "N/A"
  SAMPLE_FIRST_PIXEL = 1
  SAMPLE_LAST_PIXEL = 1957
  SAMPLE_PROJECTION_OFFSET = 1026.125
  SECOND_STANDARD_PARALLEL = "N/A"
  WESTERNMOST_LONGITUDE = 203.038
END_OBJECT = IMAGE_MAP_PROJECTION
/* The JPEG2000 image data file associated with this label. */
OBJECT = COMPRESSED_FILE
  FILE_NAME = "H8516_0000_BL3.JP2"
  RECORD_TYPE = UNDEFINED
  FILE_RECORDS = UNK
  ENCODING_TYPE = "JP2"
  INTERCHANGE_FORMAT = BINARY
  UNCOMPRESSED_FILE_NAME = "H8516_0000_BL3.IMG"
  REQUIRED_STORAGE_BYTES = "23210020"
  ^DESCRIPTION = "JP2INFO.TXT"
END_OBJECT = COMPRESSED_FILE
END
