PDS_VERSION_ID = PDS3
/* FILE DATA ELEMENTS */
RECORD_TYPE = STREAM
/* POINTERS TO DATA OBJECTS */
^COMPRESSED_FILE = "H8525_0000_S13.JP2"
/* IDENTIFICATION DATA ELEMENTS */
DATA_SET_ID = "MEX-M-HRSC-5-REFDR-MAPPROJECTED-V3.0"
DATA_SET_NAME = "MARS EXPRESS HRSC MAP PROJECTED REFDR V3.0"
DETECTOR_ID = MEX_HRSC_S1
EVENT_TYPE = "MARS-REGIONAL-MAPPING-Te-Im-Fl"
INSTRUMENT_HOST_ID = MEX
INSTRUMENT_HOST_NAME = "MARS EXPRESS"
INSTRUMENT_ID = HRSC
INSTRUMENT_NAME = "HIGH RESOLUTION STEREO CAMERA"
MISSION_NAME = "MARS EXPRESS"
MISSION_PHASE_NAME = ME_Phase_21
PROCESSING_LEVEL_ID = 3
PRODUCT_CREATION_TIME = 2016-10-25T23:07:55.000Z
PRODUCT_ID = "H8525_0000_S13.JP2"
RELEASE_ID = 0092
REVISION_ID = 0000
/* QUALITY DATA ELEMENTS */
DATA_QUALITY_ID = 1
DATA_QUALITY_DESC = "Data calculated based on original SPICE kernels"
/* TIME DATA ELEMENTS */
SPACECRAFT_CLOCK_START_COUNT = "1/0231352608.08249"
SPACECRAFT_CLOCK_STOP_COUNT = "1/0231352822.49528"
START_TIME = 2010-08-31T16:38:02.097Z
STOP_TIME = 2010-08-31T16:40:23.381Z
/* ORBITAL DATA ELEMENTS */
ASCENDING_NODE_LONGITUDE = 54.47
MAXIMUM_RESOLUTION = 34.3
FOOTPRINT_POINT_LATITUDE = (-36.3982,-36.3965,-36.3939,-36.3899, -36.3866,-36.3829,-36.4144,-36.1089, -35.8044,-35.5738,-35.4183,-35.2606, -35.1033,-34.9483,-34.7955,-34.6408, -34.4826,-34.3238,-34.1664,-34.0106, -33.8535,-33.6121,-33.4481,-33.2856, -33.1268,-32.9664,-32.7257,-32.4804, -32.3166,-32.0711,-31.9153,-31.7538, -31.5835,-31.4117,-31.1631,-30.9974, -30.7443,-30.5753,-30.4067,-30.2384, -29.9816,-29.8102,-29.639,-29.4682, -29.2975,-29.1271,-28.9576,-28.7884, -28.5343,-28.2806,-28.2657,-28.2666, -28.2668,-28.2666,-28.2666,-28.2665, -28.2665,-28.4358,-28.6057,-28.8605, -29.0315,-29.2873,-29.4583,-29.6291, -29.7997,-30.057,-30.2288,-30.4853, -30.6525,-30.8218,-31.0742,-31.2377, -31.4885,-31.6557,-31.8227,-31.9863, -32.15,-32.396,-32.5601,-32.8046, -32.9647,-33.1239,-33.2841,-33.4476, -33.6912,-33.85,-34.0083,-34.1667, -34.3254,-34.4849,-34.644,-34.8771, -35.0325,-35.1885,-35.3441,-35.5002, -35.7339,-36.1148,-36.2676,-36.3982)
FOOTPRINT_POINT_LONGITUDE = (4.10519,3.90371,3.63512,3.28259, 3.01429,2.74563,2.49037,2.49439,2.49801 ,2.50061,2.50208,2.5044,2.50656,2.50778 ,2.50816,2.50924,2.51033,2.51147, 2.51206,2.512,2.51242,2.51512,2.51671, 2.51771,2.51728,2.51746,2.51777,2.51786 ,2.51783,2.5177,2.51466,2.51321,2.51414 ,2.51569,2.51457,2.51383,2.51242, 2.51148,2.51037,2.50919,2.50741,2.50591 ,2.5044,2.50277,2.50109,2.49933,2.4973, 2.49518,2.49212,2.48898,2.69868,3.02396 ,3.48258,3.69297,3.97984,4.2285,4.46501 ,4.46105,4.45723,4.45118,4.4474,4.44125 ,4.43714,4.43287,4.42835,4.42185, 4.41793,4.41294,4.40806,4.40386,4.39756 ,4.39247,4.38656,4.38251,4.3783,4.37422 ,4.37006,4.36379,4.3595,4.35316,4.34868 ,4.34377,4.33911,4.33557,4.32981, 4.32586,4.32159,4.31725,4.31293,4.30879 ,4.30445,4.29804,4.29365,4.28933,4.2848 ,4.28034,4.27381,4.26247,4.25791, 4.10519)
ORBIT_NUMBER = 8525
ORBITAL_ECCENTRICITY = 0.579
ORBITAL_INCLINATION = 86.83
ORBITAL_SEMIMAJOR_AXIS = 8792.43
PERIAPSIS_ALTITUDE = 321.71
PERIAPSIS_ARGUMENT_ANGLE = 305.19
PERIAPSIS_TIME = 2010-08-31T16:32:45.000Z
SPACECRAFT_ORIENTATION = (0.0,1.0,0.0)
^MEX_ORIENTATION_DESC = "MEX_ORIENTATION_DESC.TXT"
SPACECRAFT_POINTING_MODE = NADIR
^MEX_POINTING_DESC = "MEX_POINTING_DESC.TXT"
RIGHT_ASCENSION = -1e+32
DECLINATION = -1e+32
OFFSET_ANGLE = -1e+32
SPACECRAFT_SOLAR_DISTANCE = 2.33323e+08
TARGET_NAME = MARS
/* CAMERA DATA ELEMENTS */
DETECTOR_TEMPERATURE = 16.9432
FOCAL_PLANE_TEMPERATURE = 7.7677
INST_CMPRS_NAME = "DISCRETE COSINE TRANSFORMATION (DCT)"
INST_CMPRS_RATIO = 7.43137
INST_CMPRS_QUALITY = 0
INST_CMPRS_QUANTZ_TBL_ID = 0
INSTRUMENT_TEMPERATURE = 10.6223
LENS_TEMPERATURE = 7.9716
MACROPIXEL_SIZE = 2
MISSING_FRAMES = 0
PIXEL_SUBSAMPLING_FLAG = N
SIGNAL_CHAIN_ID = 1
/* RADIOMETRIC DATA ELEMENTS */
BANDWIDTH = 180.0
CENTER_FILTER_WAVELENGTH = 677.0
RADIANCE_OFFSET = 0.846059
RADIANCE_SCALING_FACTOR = 0.0224879
REFLECTANCE_SCALING_FACTOR = 0.000638711
MEX:REFLECTANCE_OFFSET = 0.0240302
/* IMAGE OBJECT DEFINITIONS */
OBJECT = IMAGE
  INTERCHANGE_FORMAT = BINARY
  LINES = 19415
  LINE_SAMPLES = 3962
  SAMPLE_TYPE = UNSIGNED_INTEGER
  SAMPLE_BITS = 8
  BANDS = 1
  BAND_STORAGE_TYPE = BAND_SEQUENTIAL
  MAXIMUM = 255
  MEAN = 124.286
  MINIMUM = 1
  STANDARD_DEVIATION = 21.8407
END_OBJECT = IMAGE
/* MAP OBJECT DEFINITIONS */
OBJECT = IMAGE_MAP_PROJECTION
  ^DATA_SET_MAP_PROJECTION_CATALOG= "DSMAP.CAT"
  A_AXIS_RADIUS = 3396.0
  B_AXIS_RADIUS = 3396.0
  C_AXIS_RADIUS = 3396.0
  CENTER_LATITUDE = 0.0
  CENTER_LONGITUDE = 3.0
  COORDINATE_SYSTEM_NAME = PLANETOGRAPHIC
  COORDINATE_SYSTEM_TYPE = "BODY-FIXED ROTATING"
  EASTERNMOST_LONGITUDE = 4.46501
  FIRST_STANDARD_PARALLEL = "N/A"
  LINE_FIRST_PIXEL = 1
  LINE_LAST_PIXEL = 19415
  LINE_PROJECTION_OFFSET = -67001.75
  MAP_PROJECTION_ROTATION = 0.0
  MAP_PROJECTION_TYPE = SINUSOIDAL
  MAP_RESOLUTION = 2370.85521546667
  MAP_SCALE = 0.025
  MAXIMUM_LATITUDE = -28.2657
  MINIMUM_LATITUDE = -36.4144
  POSITIVE_LONGITUDE_DIRECTION = EAST
  REFERENCE_LATITUDE = "N/A"
  REFERENCE_LONGITUDE = "N/A"
  SAMPLE_FIRST_PIXEL = 1
  SAMPLE_LAST_PIXEL = 3962
  SAMPLE_PROJECTION_OFFSET = 1004.75
  SECOND_STANDARD_PARALLEL = "N/A"
  WESTERNMOST_LONGITUDE = 2.48898
END_OBJECT = IMAGE_MAP_PROJECTION
/* The JPEG2000 image data file associated with this label. */
OBJECT = COMPRESSED_FILE
  FILE_NAME = "H8525_0000_S13.JP2"
  RECORD_TYPE = UNDEFINED
  FILE_RECORDS = UNK
  ENCODING_TYPE = "JP2"
  INTERCHANGE_FORMAT = BINARY
  UNCOMPRESSED_FILE_NAME = "H8525_0000_S13.IMG"
  REQUIRED_STORAGE_BYTES = "76946002"
  ^DESCRIPTION = "JP2INFO.TXT"
END_OBJECT = COMPRESSED_FILE
END
