PDS_VERSION_ID = PDS3
/* FILE DATA ELEMENTS */
RECORD_TYPE = STREAM
/* POINTERS TO DATA OBJECTS */
^COMPRESSED_FILE = "H8525_0000_S23.JP2"
/* IDENTIFICATION DATA ELEMENTS */
DATA_SET_ID = "MEX-M-HRSC-5-REFDR-MAPPROJECTED-V3.0"
DATA_SET_NAME = "MARS EXPRESS HRSC MAP PROJECTED REFDR V3.0"
DETECTOR_ID = MEX_HRSC_S2
EVENT_TYPE = "MARS-REGIONAL-MAPPING-Te-Im-Fl"
INSTRUMENT_HOST_ID = MEX
INSTRUMENT_HOST_NAME = "MARS EXPRESS"
INSTRUMENT_ID = HRSC
INSTRUMENT_NAME = "HIGH RESOLUTION STEREO CAMERA"
MISSION_NAME = "MARS EXPRESS"
MISSION_PHASE_NAME = ME_Phase_21
PROCESSING_LEVEL_ID = 3
PRODUCT_CREATION_TIME = 2016-10-25T23:07:55.000Z
PRODUCT_ID = "H8525_0000_S23.JP2"
RELEASE_ID = 0092
REVISION_ID = 0000
/* QUALITY DATA ELEMENTS */
DATA_QUALITY_ID = 1
DATA_QUALITY_DESC = "Data calculated based on original SPICE kernels"
/* TIME DATA ELEMENTS */
SPACECRAFT_CLOCK_START_COUNT = "1/0231352608.08249"
SPACECRAFT_CLOCK_STOP_COUNT = "1/0231352822.49528"
START_TIME = 2010-08-31T16:36:50.739Z
STOP_TIME = 2010-08-31T16:38:54.599Z
/* ORBITAL DATA ELEMENTS */
ASCENDING_NODE_LONGITUDE = 54.47
MAXIMUM_RESOLUTION = 31.5
FOOTPRINT_POINT_LATITUDE = (-36.497,-36.4939,-36.4865,-36.4812, -36.4751,-36.274,-36.1125,-35.9511, -35.7898,-35.6289,-35.4669,-35.3061, -35.0661,-34.9043,-34.7419,-34.5805, -34.4192,-34.2587,-34.0967,-33.8525, -33.6165,-33.2962,-33.1337,-32.9726, -32.8114,-32.6506,-32.49,-32.1686, -32.0047,-31.841,-31.5251,-31.3643, -31.1237,-30.9631,-30.7183,-30.5537, -30.3073,-30.143,-29.9786,-29.8143, -29.5638,-29.3954,-29.2266,-29.058, -28.8053,-28.6367,-28.4649,-28.2925, -28.258,-28.2626,-28.2647,-28.2662, -28.2664,-28.3526,-28.5253,-28.6962, -28.8652,-29.0333,-29.2017,-29.3704, -29.5394,-29.7925,-29.9581,-30.2059, -30.3701,-30.5316,-30.6977,-30.944, -31.105,-31.2672,-31.429,-31.669, -31.8296,-31.99,-32.1512,-32.3118, -32.5535,-32.7145,-32.8759,-33.0378, -33.2015,-33.363,-33.682,-33.8423, -34.0032,-34.1649,-34.3264,-34.4877, -34.6487,-34.8102,-35.0523,-35.2137, -35.3754,-35.6175,-35.7793,-35.9413, -36.1029,-36.2647,-36.4267,-36.497)
FOOTPRINT_POINT_LONGITUDE = (3.8084,3.56232,3.132,2.8861,2.63982, 2.56401,2.56687,2.56967,2.57242,2.57517 ,2.57749,2.58008,2.5842,2.58624,2.58799 ,2.58996,2.59187,2.59395,2.59543, 2.59711,2.60123,2.60457,2.60536,2.60647 ,2.60749,2.60853,2.60955,2.61125, 2.61093,2.61057,2.61332,2.61366,2.61414 ,2.61431,2.61449,2.61455,2.61458,2.6145 ,2.61427,2.61399,2.61338,2.6129,2.61223 ,2.61152,2.61035,2.60938,2.60851, 2.60748,2.90886,3.27766,3.52898,3.74697 ,4.03209,4.33875,4.33598,4.33326, 4.33034,4.32771,4.32497,4.32215,4.31921 ,4.31444,4.31123,4.30665,4.30392, 4.30209,4.2987,4.29412,4.29105,4.28753, 4.28413,4.27998,4.27697,4.27401,4.27079 ,4.26775,4.2629,4.25966,4.2563,4.25272, 4.24849,4.24502,4.23951,4.23646,4.23315 ,4.22953,4.22596,4.22245,4.21903, 4.21539,4.20996,4.20631,4.20251,4.19696 ,4.19309,4.18912,4.18524,4.18126, 4.17721,3.8084)
ORBIT_NUMBER = 8525
ORBITAL_ECCENTRICITY = 0.579
ORBITAL_INCLINATION = 86.83
ORBITAL_SEMIMAJOR_AXIS = 8792.43
PERIAPSIS_ALTITUDE = 321.71
PERIAPSIS_ARGUMENT_ANGLE = 305.19
PERIAPSIS_TIME = 2010-08-31T16:32:45.000Z
SPACECRAFT_ORIENTATION = (0.0,1.0,0.0)
^MEX_ORIENTATION_DESC = "MEX_ORIENTATION_DESC.TXT"
SPACECRAFT_POINTING_MODE = NADIR
^MEX_POINTING_DESC = "MEX_POINTING_DESC.TXT"
RIGHT_ASCENSION = -1e+32
DECLINATION = -1e+32
OFFSET_ANGLE = -1e+32
SPACECRAFT_SOLAR_DISTANCE = 2.33323e+08
TARGET_NAME = MARS
/* CAMERA DATA ELEMENTS */
DETECTOR_TEMPERATURE = 17.9627
FOCAL_PLANE_TEMPERATURE = 7.7677
INST_CMPRS_NAME = "DISCRETE COSINE TRANSFORMATION (DCT)"
INST_CMPRS_RATIO = 10.0579
INST_CMPRS_QUALITY = 0
INST_CMPRS_QUANTZ_TBL_ID = 0
INSTRUMENT_TEMPERATURE = 10.6223
LENS_TEMPERATURE = 7.9716
MACROPIXEL_SIZE = 2
MISSING_FRAMES = 0
PIXEL_SUBSAMPLING_FLAG = N
SIGNAL_CHAIN_ID = 1
/* RADIOMETRIC DATA ELEMENTS */
BANDWIDTH = 178.0
CENTER_FILTER_WAVELENGTH = 679.0
RADIANCE_OFFSET = 0.639274
RADIANCE_SCALING_FACTOR = 0.0208913
REFLECTANCE_SCALING_FACTOR = 0.000602294
MEX:REFLECTANCE_OFFSET = 0.0184302
/* IMAGE OBJECT DEFINITIONS */
OBJECT = IMAGE
  INTERCHANGE_FORMAT = BINARY
  LINES = 19415
  LINE_SAMPLES = 3962
  SAMPLE_TYPE = UNSIGNED_INTEGER
  SAMPLE_BITS = 8
  BANDS = 1
  BAND_STORAGE_TYPE = BAND_SEQUENTIAL
  MAXIMUM = 255
  MEAN = 120.453
  MINIMUM = 1
  STANDARD_DEVIATION = 20.6199
END_OBJECT = IMAGE
/* MAP OBJECT DEFINITIONS */
OBJECT = IMAGE_MAP_PROJECTION
  ^DATA_SET_MAP_PROJECTION_CATALOG= "DSMAP.CAT"
  A_AXIS_RADIUS = 3396.0
  B_AXIS_RADIUS = 3396.0
  C_AXIS_RADIUS = 3396.0
  CENTER_LATITUDE = 0.0
  CENTER_LONGITUDE = 3.0
  COORDINATE_SYSTEM_NAME = PLANETOGRAPHIC
  COORDINATE_SYSTEM_TYPE = "BODY-FIXED ROTATING"
  EASTERNMOST_LONGITUDE = 4.33875
  FIRST_STANDARD_PARALLEL = "N/A"
  LINE_FIRST_PIXEL = 1
  LINE_LAST_PIXEL = 19415
  LINE_PROJECTION_OFFSET = -67001.75
  MAP_PROJECTION_ROTATION = 0.0
  MAP_PROJECTION_TYPE = SINUSOIDAL
  MAP_RESOLUTION = 2370.85521546667
  MAP_SCALE = 0.025
  MAXIMUM_LATITUDE = -28.258
  MINIMUM_LATITUDE = -36.497
  POSITIVE_LONGITUDE_DIRECTION = EAST
  REFERENCE_LATITUDE = "N/A"
  REFERENCE_LONGITUDE = "N/A"
  SAMPLE_FIRST_PIXEL = 1
  SAMPLE_LAST_PIXEL = 3962
  SAMPLE_PROJECTION_OFFSET = 1004.75
  SECOND_STANDARD_PARALLEL = "N/A"
  WESTERNMOST_LONGITUDE = 2.56401
END_OBJECT = IMAGE_MAP_PROJECTION
/* The JPEG2000 image data file associated with this label. */
OBJECT = COMPRESSED_FILE
  FILE_NAME = "H8525_0000_S23.JP2"
  RECORD_TYPE = UNDEFINED
  FILE_RECORDS = UNK
  ENCODING_TYPE = "JP2"
  INTERCHANGE_FORMAT = BINARY
  UNCOMPRESSED_FILE_NAME = "H8525_0000_S23.IMG"
  REQUIRED_STORAGE_BYTES = "76946002"
  ^DESCRIPTION = "JP2INFO.TXT"
END_OBJECT = COMPRESSED_FILE
END
