PDS_VERSION_ID = PDS3
/* FILE DATA ELEMENTS */
RECORD_TYPE = STREAM
/* POINTERS TO DATA OBJECTS */
^COMPRESSED_FILE = "H8527_0000_P23.JP2"
/* IDENTIFICATION DATA ELEMENTS */
DATA_SET_ID = "MEX-M-HRSC-5-REFDR-MAPPROJECTED-V3.0"
DATA_SET_NAME = "MARS EXPRESS HRSC MAP PROJECTED REFDR V3.0"
DETECTOR_ID = MEX_HRSC_P2
EVENT_TYPE = "MARS-REGIONAL-MAPPING-Te-Fl-Pf"
INSTRUMENT_HOST_ID = MEX
INSTRUMENT_HOST_NAME = "MARS EXPRESS"
INSTRUMENT_ID = HRSC
INSTRUMENT_NAME = "HIGH RESOLUTION STEREO CAMERA"
MISSION_NAME = "MARS EXPRESS"
MISSION_PHASE_NAME = ME_Phase_21
PROCESSING_LEVEL_ID = 3
PRODUCT_CREATION_TIME = 2016-10-25T23:07:55.000Z
PRODUCT_ID = "H8527_0000_P23.JP2"
RELEASE_ID = 0092
REVISION_ID = 0000
/* QUALITY DATA ELEMENTS */
DATA_QUALITY_ID = 1
DATA_QUALITY_DESC = "Data calculated based on original SPICE kernels"
/* TIME DATA ELEMENTS */
SPACECRAFT_CLOCK_START_COUNT = "1/0231402826.09043"
SPACECRAFT_CLOCK_STOP_COUNT = "1/0231403081.09085"
START_TIME = 2010-09-01T06:33:58.498Z
STOP_TIME = 2010-09-01T06:36:58.352Z
/* ORBITAL DATA ELEMENTS */
ASCENDING_NODE_LONGITUDE = 54.43
MAXIMUM_RESOLUTION = 27.1
FOOTPRINT_POINT_LATITUDE = (-46.3836,-46.3722,-46.3571,-46.2004, -45.8681,-45.6463,-45.4243,-45.0929, -44.8694,-44.6484,-44.4268,-44.2054, -43.8728,-43.6445,-43.4157,-43.0728, -42.8441,-42.6155,-42.3874,-42.1584, -41.9299,-41.7016,-41.4729,-41.2448, -41.0167,-40.788,-40.5598,-40.3315, -39.9896,-39.647,-39.4184,-39.1903, -38.9625,-38.7307,-38.5021,-38.2742, -38.0503,-37.8229,-37.588,-37.3158, -37.0437,-36.6354,-36.3609,-35.9587, -35.6877,-35.4176,-35.1479,-34.7456, -34.4779,-34.4834,-34.4921,-34.4957, -34.4978,-34.6358,-34.9076,-35.1783, -35.448,-35.7172,-35.9858,-36.2552, -36.5264,-36.934,-37.2056,-37.4778, -37.7352,-37.9631,-38.306,-38.6463, -38.9887,-39.2169,-39.4467,-39.6786, -39.9065,-40.1352,-40.3641,-40.5926, -40.8216,-41.1643,-41.3903,-41.6193, -41.8487,-42.0814,-42.3097,-42.5389, -42.7685,-42.9958,-43.2265,-43.4559, -43.8011,-44.0258,-44.2476,-44.4701, -44.6899,-44.9147,-45.2485,-45.4709, -45.6928,-46.023,-46.2459,-46.3836)
FOOTPRINT_POINT_LONGITUDE = (158.748,158.308,157.82,157.58,157.6, 157.613,157.626,157.646,157.657,157.669 ,157.681,157.692,157.709,157.72,157.73, 157.746,157.757,157.767,157.777,157.786 ,157.795,157.804,157.813,157.822,157.83 ,157.838,157.846,157.853,157.865, 157.875,157.881,157.888,157.894,157.898 ,157.903,157.909,157.916,157.921, 157.927,157.932,157.937,157.944,157.947 ,157.955,157.959,157.963,157.967, 157.974,157.977,158.234,158.731,159.084 ,159.357,159.633,159.626,159.619, 159.613,159.607,159.602,159.596,159.589 ,159.578,159.571,159.564,159.556,159.55 ,159.54,159.531,159.521,159.514,159.507 ,159.498,159.491,159.484,159.476, 159.469,159.462,159.451,159.445,159.437 ,159.429,159.419,159.411,159.403, 159.394,159.387,159.377,159.369,159.355 ,159.346,159.337,159.328,159.32,159.309 ,159.295,159.285,159.275,159.263, 159.252,158.748)
ORBIT_NUMBER = 8527
ORBITAL_ECCENTRICITY = 0.579
ORBITAL_INCLINATION = 86.83
ORBITAL_SEMIMAJOR_AXIS = 8792.36
PERIAPSIS_ALTITUDE = 322.23
PERIAPSIS_ARGUMENT_ANGLE = 304.88
PERIAPSIS_TIME = 2010-09-01T06:32:06.000Z
SPACECRAFT_ORIENTATION = (0.0,1.0,0.0)
^MEX_ORIENTATION_DESC = "MEX_ORIENTATION_DESC.TXT"
SPACECRAFT_POINTING_MODE = NADIR
^MEX_POINTING_DESC = "MEX_POINTING_DESC.TXT"
RIGHT_ASCENSION = -1e+32
DECLINATION = -1e+32
OFFSET_ANGLE = -1e+32
SPACECRAFT_SOLAR_DISTANCE = 2.33216e+08
TARGET_NAME = MARS
/* CAMERA DATA ELEMENTS */
DETECTOR_TEMPERATURE = 18.3705
FOCAL_PLANE_TEMPERATURE = 8.3794
INST_CMPRS_NAME = "DISCRETE COSINE TRANSFORMATION (DCT)"
INST_CMPRS_RATIO = 8.2615
INST_CMPRS_QUALITY = 0
INST_CMPRS_QUANTZ_TBL_ID = 0
INSTRUMENT_TEMPERATURE = 11.234
LENS_TEMPERATURE = 8.5833
MACROPIXEL_SIZE = 2
MISSING_FRAMES = 0
PIXEL_SUBSAMPLING_FLAG = N
SIGNAL_CHAIN_ID = 3
/* RADIOMETRIC DATA ELEMENTS */
BANDWIDTH = 177.0
CENTER_FILTER_WAVELENGTH = 676.5
RADIANCE_OFFSET = 0.400359
RADIANCE_SCALING_FACTOR = 0.0160144
REFLECTANCE_SCALING_FACTOR = 0.000461832
MEX:REFLECTANCE_OFFSET = 0.0115458
/* IMAGE OBJECT DEFINITIONS */
OBJECT = IMAGE
  INTERCHANGE_FORMAT = BINARY
  LINES = 28133
  LINE_SAMPLES = 3743
  SAMPLE_TYPE = UNSIGNED_INTEGER
  SAMPLE_BITS = 8
  BANDS = 1
  BAND_STORAGE_TYPE = BAND_SEQUENTIAL
  MAXIMUM = 255
  MEAN = 118.304
  MINIMUM = 1
  STANDARD_DEVIATION = 20.6481
END_OBJECT = IMAGE
/* MAP OBJECT DEFINITIONS */
OBJECT = IMAGE_MAP_PROJECTION
  ^DATA_SET_MAP_PROJECTION_CATALOG= "DSMAP.CAT"
  A_AXIS_RADIUS = 3396.0
  B_AXIS_RADIUS = 3396.0
  C_AXIS_RADIUS = 3396.0
  CENTER_LATITUDE = 0.0
  CENTER_LONGITUDE = 159.0
  COORDINATE_SYSTEM_NAME = PLANETOGRAPHIC
  COORDINATE_SYSTEM_TYPE = "BODY-FIXED ROTATING"
  EASTERNMOST_LONGITUDE = 159.633
  FIRST_STANDARD_PARALLEL = "N/A"
  LINE_FIRST_PIXEL = 1
  LINE_LAST_PIXEL = 28133
  LINE_PROJECTION_OFFSET = -81731.25
  MAP_PROJECTION_ROTATION = 0.0
  MAP_PROJECTION_TYPE = SINUSOIDAL
  MAP_RESOLUTION = 2370.85521546667
  MAP_SCALE = 0.025
  MAXIMUM_LATITUDE = -34.4779
  MINIMUM_LATITUDE = -46.3836
  POSITIVE_LONGITUDE_DIRECTION = EAST
  REFERENCE_LATITUDE = "N/A"
  REFERENCE_LONGITUDE = "N/A"
  SAMPLE_FIRST_PIXEL = 1
  SAMPLE_LAST_PIXEL = 3743
  SAMPLE_PROJECTION_OFFSET = 2383.75
  SECOND_STANDARD_PARALLEL = "N/A"
  WESTERNMOST_LONGITUDE = 157.58
END_OBJECT = IMAGE_MAP_PROJECTION
/* The JPEG2000 image data file associated with this label. */
OBJECT = COMPRESSED_FILE
  FILE_NAME = "H8527_0000_P23.JP2"
  RECORD_TYPE = UNDEFINED
  FILE_RECORDS = UNK
  ENCODING_TYPE = "JP2"
  INTERCHANGE_FORMAT = BINARY
  UNCOMPRESSED_FILE_NAME = "H8527_0000_P23.IMG"
  REQUIRED_STORAGE_BYTES = "105324277"
  ^DESCRIPTION = "JP2INFO.TXT"
END_OBJECT = COMPRESSED_FILE
END
