PDS_VERSION_ID = PDS3
/* FILE DATA ELEMENTS */
RECORD_TYPE = STREAM
/* POINTERS TO DATA OBJECTS */
^COMPRESSED_FILE = "H8527_0000_RE3.JP2"
/* IDENTIFICATION DATA ELEMENTS */
DATA_SET_ID = "MEX-M-HRSC-5-REFDR-MAPPROJECTED-V3.0"
DATA_SET_NAME = "MARS EXPRESS HRSC MAP PROJECTED REFDR V3.0"
DETECTOR_ID = MEX_HRSC_RED
EVENT_TYPE = "MARS-REGIONAL-MAPPING-Te-Fl-Pf"
INSTRUMENT_HOST_ID = MEX
INSTRUMENT_HOST_NAME = "MARS EXPRESS"
INSTRUMENT_ID = HRSC
INSTRUMENT_NAME = "HIGH RESOLUTION STEREO CAMERA"
MISSION_NAME = "MARS EXPRESS"
MISSION_PHASE_NAME = ME_Phase_21
PROCESSING_LEVEL_ID = 3
PRODUCT_CREATION_TIME = 2016-10-25T23:07:55.000Z
PRODUCT_ID = "H8527_0000_RE3.JP2"
RELEASE_ID = 0092
REVISION_ID = 0000
/* QUALITY DATA ELEMENTS */
DATA_QUALITY_ID = 1
DATA_QUALITY_DESC = "Data calculated based on original SPICE kernels"
/* TIME DATA ELEMENTS */
SPACECRAFT_CLOCK_START_COUNT = "1/0231402826.09043"
SPACECRAFT_CLOCK_STOP_COUNT = "1/0231403081.09085"
START_TIME = 2010-09-01T06:33:53.631Z
STOP_TIME = 2010-09-01T06:36:52.404Z
/* ORBITAL DATA ELEMENTS */
ASCENDING_NODE_LONGITUDE = 54.43
MAXIMUM_RESOLUTION = 54.9
FOOTPRINT_POINT_LATITUDE = (-46.394,-46.3888,-46.3813,-46.3741, -46.3601,-46.1935,-45.8603,-45.6378, -45.4155,-45.1949,-44.9701,-44.7478, -44.5259,-44.3034,-44.0794,-43.7472, -43.4105,-43.1811,-42.8368,-42.4929, -42.263,-41.9186,-41.5741,-41.2301, -40.886,-40.6562,-40.427,-40.1965, -39.9685,-39.6239,-39.3937,-39.1642, -38.935,-38.7009,-38.4708,-38.2413, -38.0169,-37.7883,-37.5589,-37.3292, -36.9307,-36.6574,-36.3783,-35.9742, -35.7006,-35.4285,-35.1569,-34.7518, -34.4811,-34.4879,-34.493,-34.4971, -34.4995,-34.6396,-34.9139,-35.187, -35.4582,-35.864,-36.1343,-36.5439, -36.8174,-37.0909,-37.3527,-37.5824, -37.9269,-38.1567,-38.3867,-38.6143, -38.8437,-39.1883,-39.4182,-39.6536, -39.8828,-40.1127,-40.3428,-40.5724, -40.8029,-41.1486,-41.3738,-41.6038, -41.9515,-42.1841,-42.4133,-42.6437, -42.9869,-43.218,-43.4491,-43.6767, -43.8995,-44.1219,-44.3447,-44.6776, -44.9018,-45.2375,-45.4608,-45.6834, -45.9052,-46.1252,-46.349,-46.394)
FOOTPRINT_POINT_LONGITUDE = (159.053,158.812,158.51,158.253,157.816 ,157.587,157.607,157.621,157.634, 157.647,157.658,157.67,157.682,157.694, 157.705,157.722,157.738,157.749,157.765 ,157.78,157.789,157.803,157.817,157.83, 157.843,157.851,157.858,157.866,157.873 ,157.884,157.89,157.897,157.903,157.907 ,157.913,157.918,157.926,157.931, 157.936,157.941,157.948,157.953,157.956 ,157.965,157.969,157.973,157.977, 157.984,157.987,158.4,158.676,159.059, 159.35,159.627,159.62,159.614,159.608, 159.6,159.594,159.584,159.577,159.57, 159.563,159.556,159.547,159.54,159.534, 159.528,159.522,159.512,159.505,159.495 ,159.488,159.481,159.474,159.467, 159.459,159.447,159.442,159.434,159.421 ,159.412,159.404,159.396,159.384, 159.375,159.366,159.357,159.348,159.34, 159.331,159.318,159.308,159.293,159.283 ,159.274,159.265,159.256,159.246, 159.053)
ORBIT_NUMBER = 8527
ORBITAL_ECCENTRICITY = 0.579
ORBITAL_INCLINATION = 86.83
ORBITAL_SEMIMAJOR_AXIS = 8792.36
PERIAPSIS_ALTITUDE = 322.23
PERIAPSIS_ARGUMENT_ANGLE = 304.88
PERIAPSIS_TIME = 2010-09-01T06:32:06.000Z
SPACECRAFT_ORIENTATION = (0.0,1.0,0.0)
^MEX_ORIENTATION_DESC = "MEX_ORIENTATION_DESC.TXT"
SPACECRAFT_POINTING_MODE = NADIR
^MEX_POINTING_DESC = "MEX_POINTING_DESC.TXT"
RIGHT_ASCENSION = -1e+32
DECLINATION = -1e+32
OFFSET_ANGLE = -1e+32
SPACECRAFT_SOLAR_DISTANCE = 2.33216e+08
TARGET_NAME = MARS
/* CAMERA DATA ELEMENTS */
DETECTOR_TEMPERATURE = 18.3705
FOCAL_PLANE_TEMPERATURE = 8.3794
INST_CMPRS_NAME = "DISCRETE COSINE TRANSFORMATION (DCT)"
INST_CMPRS_RATIO = 12.3893
INST_CMPRS_QUALITY = 0
INST_CMPRS_QUANTZ_TBL_ID = 0
INSTRUMENT_TEMPERATURE = 11.234
LENS_TEMPERATURE = 8.5833
MACROPIXEL_SIZE = 4
MISSING_FRAMES = 0
PIXEL_SUBSAMPLING_FLAG = N
SIGNAL_CHAIN_ID = 2
/* RADIOMETRIC DATA ELEMENTS */
BANDWIDTH = 48.0
CENTER_FILTER_WAVELENGTH = 748.0
RADIANCE_OFFSET = 0.108582
RADIANCE_SCALING_FACTOR = 0.00447101
REFLECTANCE_SCALING_FACTOR = 0.000554944
MEX:REFLECTANCE_OFFSET = 0.0134772
/* IMAGE OBJECT DEFINITIONS */
OBJECT = IMAGE
  INTERCHANGE_FORMAT = BINARY
  LINES = 14067
  LINE_SAMPLES = 1872
  SAMPLE_TYPE = UNSIGNED_INTEGER
  SAMPLE_BITS = 8
  BANDS = 1
  BAND_STORAGE_TYPE = BAND_SEQUENTIAL
  MAXIMUM = 255
  MEAN = 112.373
  MINIMUM = 1
  STANDARD_DEVIATION = 22.6411
END_OBJECT = IMAGE
/* MAP OBJECT DEFINITIONS */
OBJECT = IMAGE_MAP_PROJECTION
  ^DATA_SET_MAP_PROJECTION_CATALOG= "DSMAP.CAT"
  A_AXIS_RADIUS = 3396.0
  B_AXIS_RADIUS = 3396.0
  C_AXIS_RADIUS = 3396.0
  CENTER_LATITUDE = 0.0
  CENTER_LONGITUDE = 159.0
  COORDINATE_SYSTEM_NAME = PLANETOGRAPHIC
  COORDINATE_SYSTEM_TYPE = "BODY-FIXED ROTATING"
  EASTERNMOST_LONGITUDE = 159.627
  FIRST_STANDARD_PARALLEL = "N/A"
  LINE_FIRST_PIXEL = 1
  LINE_LAST_PIXEL = 14067
  LINE_PROJECTION_OFFSET = -40865.875
  MAP_PROJECTION_ROTATION = 0.0
  MAP_PROJECTION_TYPE = SINUSOIDAL
  MAP_RESOLUTION = 1185.42760773333
  MAP_SCALE = 0.05
  MAXIMUM_LATITUDE = -34.4811
  MINIMUM_LATITUDE = -46.394
  POSITIVE_LONGITUDE_DIRECTION = EAST
  REFERENCE_LATITUDE = "N/A"
  REFERENCE_LONGITUDE = "N/A"
  SAMPLE_FIRST_PIXEL = 1
  SAMPLE_LAST_PIXEL = 1872
  SAMPLE_PROJECTION_OFFSET = 1191.625
  SECOND_STANDARD_PARALLEL = "N/A"
  WESTERNMOST_LONGITUDE = 157.587
END_OBJECT = IMAGE_MAP_PROJECTION
/* The JPEG2000 image data file associated with this label. */
OBJECT = COMPRESSED_FILE
  FILE_NAME = "H8527_0000_RE3.JP2"
  RECORD_TYPE = UNDEFINED
  FILE_RECORDS = UNK
  ENCODING_TYPE = "JP2"
  INTERCHANGE_FORMAT = BINARY
  UNCOMPRESSED_FILE_NAME = "H8527_0000_RE3.IMG"
  REQUIRED_STORAGE_BYTES = "26354016"
  ^DESCRIPTION = "JP2INFO.TXT"
END_OBJECT = COMPRESSED_FILE
END
