PDS_VERSION_ID = PDS3
/* FILE DATA ELEMENTS */
RECORD_TYPE = STREAM
/* POINTERS TO DATA OBJECTS */
^COMPRESSED_FILE = "H8531_0000_P23.JP2"
/* IDENTIFICATION DATA ELEMENTS */
DATA_SET_ID = "MEX-M-HRSC-5-REFDR-MAPPROJECTED-V3.0"
DATA_SET_NAME = "MARS EXPRESS HRSC MAP PROJECTED REFDR V3.0"
DETECTOR_ID = MEX_HRSC_P2
EVENT_TYPE = "MARS-REGIONAL-MAPPING-Im-Pf"
INSTRUMENT_HOST_ID = MEX
INSTRUMENT_HOST_NAME = "MARS EXPRESS"
INSTRUMENT_ID = HRSC
INSTRUMENT_NAME = "HIGH RESOLUTION STEREO CAMERA"
MISSION_NAME = "MARS EXPRESS"
MISSION_PHASE_NAME = ME_Phase_21
PROCESSING_LEVEL_ID = 3
PRODUCT_CREATION_TIME = 2016-10-25T23:07:55.000Z
PRODUCT_ID = "H8531_0000_P23.JP2"
RELEASE_ID = 0092
REVISION_ID = 0000
/* QUALITY DATA ELEMENTS */
DATA_QUALITY_ID = 1
DATA_QUALITY_DESC = "Data calculated based on original SPICE kernels"
/* TIME DATA ELEMENTS */
SPACECRAFT_CLOCK_START_COUNT = "1/0231503582.09111"
SPACECRAFT_CLOCK_STOP_COUNT = "1/0231503892.62421"
START_TIME = 2010-09-02T10:33:15.119Z
STOP_TIME = 2010-09-02T10:36:58.453Z
/* ORBITAL DATA ELEMENTS */
ASCENDING_NODE_LONGITUDE = 54.35
MAXIMUM_RESOLUTION = 27.6
FOOTPRINT_POINT_LATITUDE = (-44.0979,-44.0878,-44.0742,-43.7672, -43.5027,-43.2399,-42.9823,-42.7141, -42.4514,-42.0579,-41.7984,-41.5438, -41.1451,-40.8764,-40.6122,-40.3504, -39.9601,-39.6984,-39.4384,-39.1759, -38.912,-38.6494,-38.3877,-38.0993, -37.7874,-37.4851,-37.1697,-36.8585, -36.3916,-36.0813,-35.7717,-35.3062, -34.9952,-34.6855,-34.3759,-34.0665, -33.7576,-33.4493,-32.9869,-32.6759, -32.3599,-32.0447,-31.7236,-31.4007, -31.0775,-30.7636,-30.2689,-29.9383, -29.6082,-29.4434,-29.4476,-29.4527, -29.4532,-29.7865,-30.1171,-30.4483, -30.9376,-31.2615,-31.585,-32.0619, -32.5355,-32.8512,-33.1597,-33.4687, -33.7779,-34.0876,-34.397,-34.707, -35.0174,-35.3282,-35.6409,-36.1073, -36.4173,-36.7282,-37.0393,-37.3513, -37.6651,-37.9758,-38.2867,-38.5492, -38.9423,-39.2052,-39.4671,-39.8598, -40.1225,-40.3865,-40.7817,-41.0459, -41.3068,-41.5722,-41.8364,-42.0969, -42.3678,-42.6233,-42.8857,-43.1513, -43.4123,-43.8081,-44.0723,-44.0979)
FOOTPRINT_POINT_LONGITUDE = (109.729,109.293,108.81,108.58,108.592, 108.604,108.618,108.627,108.638,108.654 ,108.666,108.68,108.692,108.698,108.706 ,108.714,108.728,108.736,108.745, 108.751,108.757,108.763,108.77,108.775, 108.782,108.793,108.797,108.803,108.811 ,108.816,108.821,108.828,108.831, 108.834,108.837,108.84,108.843,108.845, 108.848,108.85,108.851,108.853,108.85, 108.85,108.85,108.854,108.852,108.851, 108.849,109.088,109.396,110.097,110.617 ,110.611,110.605,110.598,110.589, 110.583,110.576,110.566,110.557,110.551 ,110.544,110.537,110.531,110.524, 110.517,110.509,110.502,110.494,110.486 ,110.474,110.467,110.459,110.451, 110.443,110.433,110.425,110.416,110.409 ,110.397,110.389,110.381,110.369, 110.361,110.352,110.338,110.328,110.321 ,110.31,110.3,110.293,110.278,110.274, 110.265,110.253,110.245,110.229,110.218 ,109.729)
ORBIT_NUMBER = 8531
ORBITAL_ECCENTRICITY = 0.579
ORBITAL_INCLINATION = 86.83
ORBITAL_SEMIMAJOR_AXIS = 8793.46
PERIAPSIS_ALTITUDE = 320.87
PERIAPSIS_ARGUMENT_ANGLE = 304.17
PERIAPSIS_TIME = 2010-09-02T10:30:38.000Z
SPACECRAFT_ORIENTATION = (0.0,1.0,0.0)
^MEX_ORIENTATION_DESC = "MEX_ORIENTATION_DESC.TXT"
SPACECRAFT_POINTING_MODE = NADIR
^MEX_POINTING_DESC = "MEX_POINTING_DESC.TXT"
RIGHT_ASCENSION = -1e+32
DECLINATION = -1e+32
OFFSET_ANGLE = -1e+32
SPACECRAFT_SOLAR_DISTANCE = 2.33001e+08
TARGET_NAME = MARS
/* CAMERA DATA ELEMENTS */
DETECTOR_TEMPERATURE = 18.3705
FOCAL_PLANE_TEMPERATURE = 7.9716
INST_CMPRS_NAME = "DISCRETE COSINE TRANSFORMATION (DCT)"
INST_CMPRS_RATIO = 5.06251
INST_CMPRS_QUALITY = 0
INST_CMPRS_QUANTZ_TBL_ID = 0
INSTRUMENT_TEMPERATURE = 11.234
LENS_TEMPERATURE = 8.3794
MACROPIXEL_SIZE = 2
MISSING_FRAMES = 0
PIXEL_SUBSAMPLING_FLAG = N
SIGNAL_CHAIN_ID = 3
/* RADIOMETRIC DATA ELEMENTS */
BANDWIDTH = 177.0
CENTER_FILTER_WAVELENGTH = 676.5
RADIANCE_OFFSET = 0.960862
RADIANCE_SCALING_FACTOR = 0.0271616
REFLECTANCE_SCALING_FACTOR = 0.000781858
MEX:REFLECTANCE_OFFSET = 0.0276588
/* IMAGE OBJECT DEFINITIONS */
OBJECT = IMAGE
  INTERCHANGE_FORMAT = BINARY
  LINES = 34719
  LINE_SAMPLES = 3938
  SAMPLE_TYPE = UNSIGNED_INTEGER
  SAMPLE_BITS = 8
  BANDS = 1
  BAND_STORAGE_TYPE = BAND_SEQUENTIAL
  MAXIMUM = 255
  MEAN = 88.4031
  MINIMUM = 1
  STANDARD_DEVIATION = 19.7349
END_OBJECT = IMAGE
/* MAP OBJECT DEFINITIONS */
OBJECT = IMAGE_MAP_PROJECTION
  ^DATA_SET_MAP_PROJECTION_CATALOG= "DSMAP.CAT"
  A_AXIS_RADIUS = 3396.0
  B_AXIS_RADIUS = 3396.0
  C_AXIS_RADIUS = 3396.0
  CENTER_LATITUDE = 0.0
  CENTER_LONGITUDE = 110.0
  COORDINATE_SYSTEM_NAME = PLANETOGRAPHIC
  COORDINATE_SYSTEM_TYPE = "BODY-FIXED ROTATING"
  EASTERNMOST_LONGITUDE = 110.617
  FIRST_STANDARD_PARALLEL = "N/A"
  LINE_FIRST_PIXEL = 1
  LINE_LAST_PIXEL = 34719
  LINE_PROJECTION_OFFSET = -69785.25
  MAP_PROJECTION_ROTATION = 0.0
  MAP_PROJECTION_TYPE = SINUSOIDAL
  MAP_RESOLUTION = 2370.85521546667
  MAP_SCALE = 0.025
  MAXIMUM_LATITUDE = -29.4434
  MINIMUM_LATITUDE = -44.0979
  POSITIVE_LONGITUDE_DIRECTION = EAST
  REFERENCE_LATITUDE = "N/A"
  REFERENCE_LONGITUDE = "N/A"
  SAMPLE_FIRST_PIXEL = 1
  SAMPLE_LAST_PIXEL = 3938
  SAMPLE_PROJECTION_OFFSET = 2523.25
  SECOND_STANDARD_PARALLEL = "N/A"
  WESTERNMOST_LONGITUDE = 108.58
END_OBJECT = IMAGE_MAP_PROJECTION
/* The JPEG2000 image data file associated with this label. */
OBJECT = COMPRESSED_FILE
  FILE_NAME = "H8531_0000_P23.JP2"
  RECORD_TYPE = UNDEFINED
  FILE_RECORDS = UNK
  ENCODING_TYPE = "JP2"
  INTERCHANGE_FORMAT = BINARY
  UNCOMPRESSED_FILE_NAME = "H8531_0000_P23.IMG"
  REQUIRED_STORAGE_BYTES = "136747050"
  ^DESCRIPTION = "JP2INFO.TXT"
END_OBJECT = COMPRESSED_FILE
END
