PDS_VERSION_ID = PDS3
/* FILE DATA ELEMENTS */
RECORD_TYPE = STREAM
/* POINTERS TO DATA OBJECTS */
^COMPRESSED_FILE = "H8531_0000_S13.JP2"
/* IDENTIFICATION DATA ELEMENTS */
DATA_SET_ID = "MEX-M-HRSC-5-REFDR-MAPPROJECTED-V3.0"
DATA_SET_NAME = "MARS EXPRESS HRSC MAP PROJECTED REFDR V3.0"
DETECTOR_ID = MEX_HRSC_S1
EVENT_TYPE = "MARS-REGIONAL-MAPPING-Im-Pf"
INSTRUMENT_HOST_ID = MEX
INSTRUMENT_HOST_NAME = "MARS EXPRESS"
INSTRUMENT_ID = HRSC
INSTRUMENT_NAME = "HIGH RESOLUTION STEREO CAMERA"
MISSION_NAME = "MARS EXPRESS"
MISSION_PHASE_NAME = ME_Phase_21
PROCESSING_LEVEL_ID = 3
PRODUCT_CREATION_TIME = 2016-10-25T23:07:55.000Z
PRODUCT_ID = "H8531_0000_S13.JP2"
RELEASE_ID = 0092
REVISION_ID = 0000
/* QUALITY DATA ELEMENTS */
DATA_QUALITY_ID = 1
DATA_QUALITY_DESC = "Data calculated based on original SPICE kernels"
/* TIME DATA ELEMENTS */
SPACECRAFT_CLOCK_START_COUNT = "1/0231503582.09111"
SPACECRAFT_CLOCK_STOP_COUNT = "1/0231503892.62421"
START_TIME = 2010-09-02T10:34:07.235Z
STOP_TIME = 2010-09-02T10:38:13.583Z
/* ORBITAL DATA ELEMENTS */
ASCENDING_NODE_LONGITUDE = 54.35
MAXIMUM_RESOLUTION = 29.9
FOOTPRINT_POINT_LATITUDE = (-43.996,-43.9846,-43.9726,-43.6443, -43.3944,-43.1395,-42.7688,-42.522, -42.2753,-42.0261,-41.7641,-41.4656, -41.1729,-40.8911,-40.601,-40.3076, -39.8661,-39.5725,-39.2796,-38.9957, -38.7079,-38.4189,-38.1371,-37.8502, -37.5524,-37.1274,-36.8419,-36.5537, -36.262,-35.9707,-35.6792,-35.3786, -35.0837,-34.7882,-34.4878,-34.1862, -33.886,-33.5807,-33.274,-32.9677, -32.5011,-32.19,-31.8791,-31.5698, -31.2534,-30.7589,-30.2775,-29.9526, -29.6254,-29.4207,-29.4209,-29.4213, -29.4214,-29.4221,-29.422,-29.7536, -30.08,-30.5689,-30.89,-31.371,-31.6873 ,-32.1619,-32.4743,-32.9431,-33.2495, -33.5571,-33.8637,-34.1636,-34.4672, -34.7696,-35.0654,-35.3617,-35.8094, -36.2462,-36.5369,-36.9724,-37.259, -37.5442,-37.8308,-38.1189,-38.4082, -38.8406,-39.1306,-39.4231,-39.717, -40.0073,-40.2972,-40.5885,-41.0251, -41.4662,-41.7604,-42.0247,-42.2652, -42.5172,-42.8959,-43.1415,-43.3955, -43.6457,-44.0201,-43.996)
FOOTPRINT_POINT_LONGITUDE = (109.885,109.313,108.79,108.547,108.558 ,108.571,108.585,108.594,108.602, 108.612,108.625,108.637,108.646,108.649 ,108.657,108.666,108.679,108.688, 108.696,108.7,108.706,108.712,108.715, 108.72,108.73,108.735,108.739,108.743, 108.747,108.75,108.753,108.756,108.758, 108.76,108.762,108.763,108.764,108.765, 108.766,108.766,108.766,108.766,108.764 ,108.76,108.759,108.76,108.755,108.752, 108.749,109.092,109.323,109.592,110.033 ,110.456,110.732,110.723,110.715, 110.703,110.695,110.682,110.674,110.662 ,110.654,110.642,110.634,110.626, 110.617,110.608,110.6,110.592,110.583, 110.575,110.561,110.548,110.539,110.526 ,110.518,110.508,110.499,110.489,110.48 ,110.465,110.455,110.446,110.437, 110.426,110.415,110.403,110.385,110.368 ,110.357,110.349,110.336,110.327, 110.314,110.302,110.293,110.283,110.266 ,109.885)
ORBIT_NUMBER = 8531
ORBITAL_ECCENTRICITY = 0.579
ORBITAL_INCLINATION = 86.83
ORBITAL_SEMIMAJOR_AXIS = 8793.46
PERIAPSIS_ALTITUDE = 320.87
PERIAPSIS_ARGUMENT_ANGLE = 304.17
PERIAPSIS_TIME = 2010-09-02T10:30:38.000Z
SPACECRAFT_ORIENTATION = (0.0,1.0,0.0)
^MEX_ORIENTATION_DESC = "MEX_ORIENTATION_DESC.TXT"
SPACECRAFT_POINTING_MODE = NADIR
^MEX_POINTING_DESC = "MEX_POINTING_DESC.TXT"
RIGHT_ASCENSION = -1e+32
DECLINATION = -1e+32
OFFSET_ANGLE = -1e+32
SPACECRAFT_SOLAR_DISTANCE = 2.33001e+08
TARGET_NAME = MARS
/* CAMERA DATA ELEMENTS */
DETECTOR_TEMPERATURE = 17.351
FOCAL_PLANE_TEMPERATURE = 7.9716
INST_CMPRS_NAME = "DISCRETE COSINE TRANSFORMATION (DCT)"
INST_CMPRS_RATIO = 6.27246
INST_CMPRS_QUALITY = 0
INST_CMPRS_QUANTZ_TBL_ID = 0
INSTRUMENT_TEMPERATURE = 11.234
LENS_TEMPERATURE = 8.3794
MACROPIXEL_SIZE = 2
MISSING_FRAMES = 1
PIXEL_SUBSAMPLING_FLAG = N
SIGNAL_CHAIN_ID = 1
/* RADIOMETRIC DATA ELEMENTS */
BANDWIDTH = 180.0
CENTER_FILTER_WAVELENGTH = 677.0
RADIANCE_OFFSET = 1.07904
RADIANCE_SCALING_FACTOR = 0.029268
REFLECTANCE_SCALING_FACTOR = 0.000828991
MEX:REFLECTANCE_OFFSET = 0.0305628
/* IMAGE OBJECT DEFINITIONS */
OBJECT = IMAGE
  INTERCHANGE_FORMAT = BINARY
  LINES = 34719
  LINE_SAMPLES = 3938
  SAMPLE_TYPE = UNSIGNED_INTEGER
  SAMPLE_BITS = 8
  BANDS = 1
  BAND_STORAGE_TYPE = BAND_SEQUENTIAL
  MAXIMUM = 255
  MEAN = 100.499
  MINIMUM = 1
  STANDARD_DEVIATION = 19.6038
END_OBJECT = IMAGE
/* MAP OBJECT DEFINITIONS */
OBJECT = IMAGE_MAP_PROJECTION
  ^DATA_SET_MAP_PROJECTION_CATALOG= "DSMAP.CAT"
  A_AXIS_RADIUS = 3396.0
  B_AXIS_RADIUS = 3396.0
  C_AXIS_RADIUS = 3396.0
  CENTER_LATITUDE = 0.0
  CENTER_LONGITUDE = 110.0
  COORDINATE_SYSTEM_NAME = PLANETOGRAPHIC
  COORDINATE_SYSTEM_TYPE = "BODY-FIXED ROTATING"
  EASTERNMOST_LONGITUDE = 110.732
  FIRST_STANDARD_PARALLEL = "N/A"
  LINE_FIRST_PIXEL = 1
  LINE_LAST_PIXEL = 34719
  LINE_PROJECTION_OFFSET = -69785.25
  MAP_PROJECTION_ROTATION = 0.0
  MAP_PROJECTION_TYPE = SINUSOIDAL
  MAP_RESOLUTION = 2370.85521546667
  MAP_SCALE = 0.025
  MAXIMUM_LATITUDE = -29.4207
  MINIMUM_LATITUDE = -44.0201
  POSITIVE_LONGITUDE_DIRECTION = EAST
  REFERENCE_LATITUDE = "N/A"
  REFERENCE_LONGITUDE = "N/A"
  SAMPLE_FIRST_PIXEL = 1
  SAMPLE_LAST_PIXEL = 3938
  SAMPLE_PROJECTION_OFFSET = 2523.25
  SECOND_STANDARD_PARALLEL = "N/A"
  WESTERNMOST_LONGITUDE = 108.547
END_OBJECT = IMAGE_MAP_PROJECTION
/* The JPEG2000 image data file associated with this label. */
OBJECT = COMPRESSED_FILE
  FILE_NAME = "H8531_0000_S13.JP2"
  RECORD_TYPE = UNDEFINED
  FILE_RECORDS = UNK
  ENCODING_TYPE = "JP2"
  INTERCHANGE_FORMAT = BINARY
  UNCOMPRESSED_FILE_NAME = "H8531_0000_S13.IMG"
  REQUIRED_STORAGE_BYTES = "136747050"
  ^DESCRIPTION = "JP2INFO.TXT"
END_OBJECT = COMPRESSED_FILE
END
