PDS_VERSION_ID = PDS3
/* FILE DATA ELEMENTS */
RECORD_TYPE = STREAM
/* POINTERS TO DATA OBJECTS */
^COMPRESSED_FILE = "H8534_0000_P13.JP2"
/* IDENTIFICATION DATA ELEMENTS */
DATA_SET_ID = "MEX-M-HRSC-5-REFDR-MAPPROJECTED-V3.0"
DATA_SET_NAME = "MARS EXPRESS HRSC MAP PROJECTED REFDR V3.0"
DETECTOR_ID = MEX_HRSC_P1
EVENT_TYPE = "MARS-REGIONAL-MAPPING-Im-Pf"
INSTRUMENT_HOST_ID = MEX
INSTRUMENT_HOST_NAME = "MARS EXPRESS"
INSTRUMENT_ID = HRSC
INSTRUMENT_NAME = "HIGH RESOLUTION STEREO CAMERA"
MISSION_NAME = "MARS EXPRESS"
MISSION_PHASE_NAME = ME_Phase_21
PROCESSING_LEVEL_ID = 3
PRODUCT_CREATION_TIME = 2016-10-25T23:07:55.000Z
PRODUCT_ID = "H8534_0000_P13.JP2"
RELEASE_ID = 0092
REVISION_ID = 0000
/* QUALITY DATA ELEMENTS */
DATA_QUALITY_ID = 1
DATA_QUALITY_DESC = "Data calculated based on original SPICE kernels"
/* TIME DATA ELEMENTS */
SPACECRAFT_CLOCK_START_COUNT = "1/0231579110.09051"
SPACECRAFT_CLOCK_STOP_COUNT = "1/0231579451.50382"
START_TIME = 2010-09-03T07:32:43.628Z
STOP_TIME = 2010-09-03T07:37:14.647Z
/* ORBITAL DATA ELEMENTS */
ASCENDING_NODE_LONGITUDE = 54.29
MAXIMUM_RESOLUTION = 28.7
FOOTPRINT_POINT_LATITUDE = (-45.1454,-45.136,-45.1219,-44.7223, -44.438,-44.1539,-43.8704,-43.4453, -43.1626,-42.8808,-42.5988,-42.3175, -42.0366,-41.7559,-41.2794,-40.9459, -40.6131,-40.2805,-39.9484,-39.6179, -39.2889,-38.9605,-38.468,-38.1404, -37.8131,-37.4868,-37.1613,-36.8366, -36.5116,-36.1806,-35.8489,-35.5181, -35.1835,-34.8457,-34.5078,-34.1658, -33.8219,-33.4777,-33.1268,-32.6012, -32.0669,-31.7116,-31.3506,-30.9885, -30.6226,-30.2551,-29.6977,-29.3243, -28.7555,-28.7475,-28.7487,-28.7486, -28.9384,-29.3189,-29.6934,-30.0679, -30.4385,-30.9872,-31.3503,-31.7123, -32.0687,-32.4263,-32.7794,-33.1301, -33.4857,-33.8279,-34.1731,-34.5157, -34.8538,-35.193,-35.5288,-35.8603, -36.1928,-36.5248,-36.8497,-37.1757, -37.5019,-37.8289,-38.1569,-38.4855, -38.8142,-39.1428,-39.6365,-39.9666, -40.2991,-40.6325,-40.9654,-41.2988, -41.632,-41.9155,-42.1944,-42.4803, -42.7684,-43.1925,-43.7537,-44.0395, -44.3248,-44.7529,-45.0383,-45.1454)
FOOTPRINT_POINT_LONGITUDE = (162.814,162.389,161.835,161.631, 161.644,161.658,161.671,161.69,161.702, 161.714,161.725,161.736,161.746,161.756 ,161.772,161.783,161.793,161.803, 161.812,161.82,161.828,161.834,161.845, 161.851,161.857,161.862,161.867,161.872 ,161.877,161.881,161.884,161.888,161.89 ,161.893,161.895,161.897,161.899,161.9, 161.901,161.902,161.902,161.901,161.899 ,161.898,161.896,161.893,161.888, 161.885,161.878,162.415,162.951,163.508 ,163.855,163.847,163.839,163.83,163.822 ,163.808,163.8,163.79,163.782,163.773, 163.764,163.755,163.749,163.739,163.73, 163.72,163.711,163.702,163.692,163.682, 163.673,163.663,163.653,163.643,163.633 ,163.623,163.612,163.601,163.59,163.579 ,163.56,163.548,163.536,163.525,163.512 ,163.499,163.486,163.474,163.462, 163.453,163.446,163.429,163.402,163.391 ,163.379,163.361,163.348,162.814)
ORBIT_NUMBER = 8534
ORBITAL_ECCENTRICITY = 0.579
ORBITAL_INCLINATION = 86.83
ORBITAL_SEMIMAJOR_AXIS = 8790.09
PERIAPSIS_ALTITUDE = 322.1
PERIAPSIS_ARGUMENT_ANGLE = 303.68
PERIAPSIS_TIME = 2010-09-03T07:29:35.000Z
SPACECRAFT_ORIENTATION = (0.0,1.0,0.0)
^MEX_ORIENTATION_DESC = "MEX_ORIENTATION_DESC.TXT"
SPACECRAFT_POINTING_MODE = NADIR
^MEX_POINTING_DESC = "MEX_POINTING_DESC.TXT"
RIGHT_ASCENSION = -1e+32
DECLINATION = -1e+32
OFFSET_ANGLE = -1e+32
SPACECRAFT_SOLAR_DISTANCE = 2.32839e+08
TARGET_NAME = MARS
/* CAMERA DATA ELEMENTS */
DETECTOR_TEMPERATURE = 17.1471
FOCAL_PLANE_TEMPERATURE = 7.9716
INST_CMPRS_NAME = "DISCRETE COSINE TRANSFORMATION (DCT)"
INST_CMPRS_RATIO = 8.59768
INST_CMPRS_QUALITY = 0
INST_CMPRS_QUANTZ_TBL_ID = 0
INSTRUMENT_TEMPERATURE = 11.234
LENS_TEMPERATURE = 8.3794
MACROPIXEL_SIZE = 2
MISSING_FRAMES = 0
PIXEL_SUBSAMPLING_FLAG = N
SIGNAL_CHAIN_ID = 3
/* RADIOMETRIC DATA ELEMENTS */
BANDWIDTH = 174.0
CENTER_FILTER_WAVELENGTH = 675.0
RADIANCE_OFFSET = 0.663216
RADIANCE_SCALING_FACTOR = 0.0189709
REFLECTANCE_SCALING_FACTOR = 0.0005532
MEX:REFLECTANCE_OFFSET = 0.0193397
/* IMAGE OBJECT DEFINITIONS */
OBJECT = IMAGE
  INTERCHANGE_FORMAT = BINARY
  LINES = 38983
  LINE_SAMPLES = 4093
  SAMPLE_TYPE = UNSIGNED_INTEGER
  SAMPLE_BITS = 8
  BANDS = 1
  BAND_STORAGE_TYPE = BAND_SEQUENTIAL
  MAXIMUM = 255
  MEAN = 103.051
  MINIMUM = 1
  STANDARD_DEVIATION = 22.3719
END_OBJECT = IMAGE
/* MAP OBJECT DEFINITIONS */
OBJECT = IMAGE_MAP_PROJECTION
  ^DATA_SET_MAP_PROJECTION_CATALOG= "DSMAP.CAT"
  A_AXIS_RADIUS = 3396.0
  B_AXIS_RADIUS = 3396.0
  C_AXIS_RADIUS = 3396.0
  CENTER_LATITUDE = 0.0
  CENTER_LONGITUDE = 163.0
  COORDINATE_SYSTEM_NAME = PLANETOGRAPHIC
  COORDINATE_SYSTEM_TYPE = "BODY-FIXED ROTATING"
  EASTERNMOST_LONGITUDE = 163.855
  FIRST_STANDARD_PARALLEL = "N/A"
  LINE_FIRST_PIXEL = 1
  LINE_LAST_PIXEL = 38983
  LINE_PROJECTION_OFFSET = -68171.25
  MAP_PROJECTION_ROTATION = 0.0
  MAP_PROJECTION_TYPE = SINUSOIDAL
  MAP_RESOLUTION = 2370.85521546667
  MAP_SCALE = 0.025
  MAXIMUM_LATITUDE = -28.7475
  MINIMUM_LATITUDE = -45.1454
  POSITIVE_LONGITUDE_DIRECTION = EAST
  REFERENCE_LATITUDE = "N/A"
  REFERENCE_LONGITUDE = "N/A"
  SAMPLE_FIRST_PIXEL = 1
  SAMPLE_LAST_PIXEL = 4093
  SAMPLE_PROJECTION_OFFSET = 2349.75
  SECOND_STANDARD_PARALLEL = "N/A"
  WESTERNMOST_LONGITUDE = 161.631
END_OBJECT = IMAGE_MAP_PROJECTION
/* The JPEG2000 image data file associated with this label. */
OBJECT = COMPRESSED_FILE
  FILE_NAME = "H8534_0000_P13.JP2"
  RECORD_TYPE = UNDEFINED
  FILE_RECORDS = UNK
  ENCODING_TYPE = "JP2"
  INTERCHANGE_FORMAT = BINARY
  UNCOMPRESSED_FILE_NAME = "H8534_0000_P13.IMG"
  REQUIRED_STORAGE_BYTES = "159581977"
  ^DESCRIPTION = "JP2INFO.TXT"
END_OBJECT = COMPRESSED_FILE
END
