PDS_VERSION_ID = PDS3
/* FILE DATA ELEMENTS */
RECORD_TYPE = STREAM
/* POINTERS TO DATA OBJECTS */
^COMPRESSED_FILE = "H8537_0000_S13.JP2"
/* IDENTIFICATION DATA ELEMENTS */
DATA_SET_ID = "MEX-M-HRSC-5-REFDR-MAPPROJECTED-V3.0"
DATA_SET_NAME = "MARS EXPRESS HRSC MAP PROJECTED REFDR V3.0"
DETECTOR_ID = MEX_HRSC_S1
EVENT_TYPE = "MARS-REGIONAL-MAPPING-Te-Im"
INSTRUMENT_HOST_ID = MEX
INSTRUMENT_HOST_NAME = "MARS EXPRESS"
INSTRUMENT_ID = HRSC
INSTRUMENT_NAME = "HIGH RESOLUTION STEREO CAMERA"
MISSION_NAME = "MARS EXPRESS"
MISSION_PHASE_NAME = ME_Phase_21
PROCESSING_LEVEL_ID = 3
PRODUCT_CREATION_TIME = 2016-10-25T23:07:55.000Z
PRODUCT_ID = "H8537_0000_S13.JP2"
RELEASE_ID = 0092
REVISION_ID = 0000
/* QUALITY DATA ELEMENTS */
DATA_QUALITY_ID = 1
DATA_QUALITY_DESC = "Data calculated based on original SPICE kernels"
/* TIME DATA ELEMENTS */
SPACECRAFT_CLOCK_START_COUNT = "1/0231654805.07309"
SPACECRAFT_CLOCK_STOP_COUNT = "1/0231655156.21184"
START_TIME = 2010-09-04T04:34:46.701Z
STOP_TIME = 2010-09-04T04:39:16.951Z
/* ORBITAL DATA ELEMENTS */
ASCENDING_NODE_LONGITUDE = 54.24
MAXIMUM_RESOLUTION = 37.4
FOOTPRINT_POINT_LATITUDE = (-34.557,-34.5668,-34.5753,-34.6089, -34.3173,-34.0265,-33.7304,-33.4347, -33.1367,-32.8339,-32.378,-32.0733, -31.77,-31.4649,-31.0112,-30.7087, -30.4073,-29.9563,-29.6569,-29.3587, -29.0616,-28.6163,-28.3214,-28.0287, -27.7366,-27.4448,-27.1539,-26.8639, -26.43,-26.1425,-25.7111,-25.2797, -25.0043,-24.7178,-24.4376,-24.0178, -23.7393,-23.461,-23.1842,-22.908, -22.6363,-22.3596,-22.0868,-21.8149, -21.544,-21.274,-20.7372,-20.2048, -20.1556,-20.1427,-20.1298,-20.1153, -20.0962,-20.084,-20.6191,-20.888, -21.158,-21.4292,-21.7013,-21.9744, -22.2484,-22.5237,-22.7995,-23.0809, -23.4975,-23.7782,-24.0589,-24.3404, -24.6228,-24.8981,-25.3276,-25.7577, -26.0446,-26.3312,-26.6226,-27.0607, -27.3531,-27.6459,-27.9393,-28.2287, -28.5302,-28.827,-29.1247,-29.4234, -29.723,-30.0233,-30.3248,-30.6268, -31.0794,-31.5368,-31.8434,-32.1517, -32.4579,-32.7604,-33.2138,-33.5107, -33.8081,-34.1031,-34.3937,-34.557)
FOOTPRINT_POINT_LONGITUDE = (215.793,215.216,214.63,214.157,214.161 ,214.164,214.167,214.17,214.174,214.177 ,214.184,214.184,214.184,214.186, 214.186,214.186,214.186,214.186,214.186 ,214.185,214.183,214.181,214.179, 214.176,214.173,214.17,214.167,214.163, 214.158,214.154,214.148,214.144,214.134 ,214.13,214.124,214.115,214.108,214.102 ,214.095,214.088,214.079,214.073, 214.066,214.058,214.05,214.042,214.025, 214.007,214.451,214.82,215.186,215.599, 216.155,216.523,216.509,216.501,216.494 ,216.486,216.479,216.471,216.464, 216.456,216.448,216.441,216.429,216.421 ,216.413,216.405,216.397,216.387, 216.375,216.362,216.354,216.345,216.336 ,216.323,216.314,216.305,216.296, 216.286,216.277,216.267,216.258,216.248 ,216.238,216.228,216.218,216.207, 216.191,216.175,216.164,216.153,216.142 ,216.131,216.114,216.103,216.092,216.08 ,216.068,215.793)
ORBIT_NUMBER = 8537
ORBITAL_ECCENTRICITY = 0.579
ORBITAL_INCLINATION = 86.84
ORBITAL_SEMIMAJOR_AXIS = 8787.28
PERIAPSIS_ALTITUDE = 320.78
PERIAPSIS_ARGUMENT_ANGLE = 303.14
PERIAPSIS_TIME = 2010-09-04T04:28:24.000Z
SPACECRAFT_ORIENTATION = (0.0,1.0,0.0)
^MEX_ORIENTATION_DESC = "MEX_ORIENTATION_DESC.TXT"
SPACECRAFT_POINTING_MODE = ACROSSTRACK
^MEX_POINTING_DESC = "MEX_POINTING_DESC.TXT"
RIGHT_ASCENSION = -1e+32
DECLINATION = -1e+32
OFFSET_ANGLE = 0.7
SPACECRAFT_SOLAR_DISTANCE = 2.32677e+08
TARGET_NAME = MARS
/* CAMERA DATA ELEMENTS */
DETECTOR_TEMPERATURE = 17.1471
FOCAL_PLANE_TEMPERATURE = 7.7677
INST_CMPRS_NAME = "DISCRETE COSINE TRANSFORMATION (DCT)"
INST_CMPRS_RATIO = 5.77542
INST_CMPRS_QUALITY = 0
INST_CMPRS_QUANTZ_TBL_ID = 0
INSTRUMENT_TEMPERATURE = 10.8262
LENS_TEMPERATURE = 8.1755
MACROPIXEL_SIZE = 2
MISSING_FRAMES = 0
PIXEL_SUBSAMPLING_FLAG = N
SIGNAL_CHAIN_ID = 1
/* RADIOMETRIC DATA ELEMENTS */
BANDWIDTH = 180.0
CENTER_FILTER_WAVELENGTH = 677.0
RADIANCE_OFFSET = 0.846059
RADIANCE_SCALING_FACTOR = 0.0381556
REFLECTANCE_SCALING_FACTOR = 0.00107772
MEX:REFLECTANCE_OFFSET = 0.0238972
/* IMAGE OBJECT DEFINITIONS */
OBJECT = IMAGE
  INTERCHANGE_FORMAT = BINARY
  LINES = 34359
  LINE_SAMPLES = 5139
  SAMPLE_TYPE = UNSIGNED_INTEGER
  SAMPLE_BITS = 8
  BANDS = 1
  BAND_STORAGE_TYPE = BAND_SEQUENTIAL
  MAXIMUM = 255
  MEAN = 128.786
  MINIMUM = 1
  STANDARD_DEVIATION = 35.111
END_OBJECT = IMAGE
/* MAP OBJECT DEFINITIONS */
OBJECT = IMAGE_MAP_PROJECTION
  ^DATA_SET_MAP_PROJECTION_CATALOG= "DSMAP.CAT"
  A_AXIS_RADIUS = 3396.0
  B_AXIS_RADIUS = 3396.0
  C_AXIS_RADIUS = 3396.0
  CENTER_LATITUDE = 0.0
  CENTER_LONGITUDE = 215.0
  COORDINATE_SYSTEM_NAME = PLANETOGRAPHIC
  COORDINATE_SYSTEM_TYPE = "BODY-FIXED ROTATING"
  EASTERNMOST_LONGITUDE = 216.523
  FIRST_STANDARD_PARALLEL = "N/A"
  LINE_FIRST_PIXEL = 1
  LINE_LAST_PIXEL = 34359
  LINE_PROJECTION_OFFSET = -47719.75
  MAP_PROJECTION_ROTATION = 0.0
  MAP_PROJECTION_TYPE = SINUSOIDAL
  MAP_RESOLUTION = 2370.85521546667
  MAP_SCALE = 0.025
  MAXIMUM_LATITUDE = -20.084
  MINIMUM_LATITUDE = -34.6089
  POSITIVE_LONGITUDE_DIRECTION = EAST
  REFERENCE_LATITUDE = "N/A"
  REFERENCE_LONGITUDE = "N/A"
  SAMPLE_FIRST_PIXEL = 1
  SAMPLE_LAST_PIXEL = 5139
  SAMPLE_PROJECTION_OFFSET = 2050.25
  SECOND_STANDARD_PARALLEL = "N/A"
  WESTERNMOST_LONGITUDE = 214.007
END_OBJECT = IMAGE_MAP_PROJECTION
/* The JPEG2000 image data file associated with this label. */
OBJECT = COMPRESSED_FILE
  FILE_NAME = "H8537_0000_S13.JP2"
  RECORD_TYPE = UNDEFINED
  FILE_RECORDS = UNK
  ENCODING_TYPE = "JP2"
  INTERCHANGE_FORMAT = BINARY
  UNCOMPRESSED_FILE_NAME = "H8537_0000_S13.IMG"
  REQUIRED_STORAGE_BYTES = "176596596"
  ^DESCRIPTION = "JP2INFO.TXT"
END_OBJECT = COMPRESSED_FILE
END
