PDS_VERSION_ID = PDS3
/* FILE DATA ELEMENTS */
RECORD_TYPE = STREAM
/* POINTERS TO DATA OBJECTS */
^COMPRESSED_FILE = "H8540_0000_S23.JP2"
/* IDENTIFICATION DATA ELEMENTS */
DATA_SET_ID = "MEX-M-HRSC-5-REFDR-MAPPROJECTED-V3.0"
DATA_SET_NAME = "MARS EXPRESS HRSC MAP PROJECTED REFDR V3.0"
DETECTOR_ID = MEX_HRSC_S2
EVENT_TYPE = "MARS-REGIONAL-STEREO-Vo-Te"
INSTRUMENT_HOST_ID = MEX
INSTRUMENT_HOST_NAME = "MARS EXPRESS"
INSTRUMENT_ID = HRSC
INSTRUMENT_NAME = "HIGH RESOLUTION STEREO CAMERA"
MISSION_NAME = "MARS EXPRESS"
MISSION_PHASE_NAME = ME_Phase_21
PROCESSING_LEVEL_ID = 3
PRODUCT_CREATION_TIME = 2016-10-25T23:07:55.000Z
PRODUCT_ID = "H8540_0000_S23.JP2"
RELEASE_ID = 0092
REVISION_ID = 0000
/* QUALITY DATA ELEMENTS */
DATA_QUALITY_ID = 1
DATA_QUALITY_DESC = "Data calculated based on original SPICE kernels"
/* TIME DATA ELEMENTS */
SPACECRAFT_CLOCK_START_COUNT = "1/0231730404.08267"
SPACECRAFT_CLOCK_STOP_COUNT = "1/0231730719.49008"
START_TIME = 2010-09-05T01:33:26.704Z
STOP_TIME = 2010-09-05T01:36:29.597Z
/* ORBITAL DATA ELEMENTS */
ASCENDING_NODE_LONGITUDE = 54.18
MAXIMUM_RESOLUTION = 18.1
FOOTPRINT_POINT_LATITUDE = (-31.3609,-31.3593,-31.3541,-31.3497, -31.3366,-31.0253,-30.8149,-30.6047, -30.1846,-29.9713,-29.7562,-29.5413, -29.3265,-29.001,-28.7813,-28.5615, -28.3419,-28.1209,-27.8966,-27.5606, -27.3366,-26.9955,-26.7669,-26.424, -26.1922,-25.959,-25.6093,-25.3736, -25.1361,-24.7801,-24.5399,-24.2978, -24.0561,-23.6891,-23.4427,-23.1965, -22.9474,-22.6967,-22.4464,-22.1931, -21.9378,-21.6828,-21.4246,-21.1652, -20.9062,-20.6431,-20.3801,-19.9808, -19.5607,-19.5625,-19.5623,-19.5608, -19.5572,-19.5539,-19.5494,-19.9521, -20.2204,-20.6166,-20.8807,-21.1402, -21.4003,-21.6597,-21.9153,-22.1712, -22.5517,-22.803,-23.1786,-23.4253, -23.6722,-23.9185,-24.1608,-24.4037, -24.6465,-24.885,-25.1227,-25.361, -25.7142,-25.9475,-26.1812,-26.4141, -26.6432,-26.8722,-27.1017,-27.3292, -27.5536,-27.7779,-28.003,-28.2269, -28.4467,-28.6668,-28.8868,-29.1075, -29.4328,-29.7544,-29.9701,-30.2906, -30.7106,-30.9213,-31.2362,-31.3609)
FOOTPRINT_POINT_LONGITUDE = (269.632,269.356,268.874,268.598,268.26 ,268.26,268.259,268.259,268.258,268.257 ,268.256,268.255,268.254,268.252,268.25 ,268.249,268.247,268.245,268.243, 268.239,268.237,268.233,268.23,268.226, 268.223,268.22,268.214,268.211,268.207, 268.201,268.197,268.192,268.188,268.181 ,268.176,268.171,268.166,268.16,268.155 ,268.149,268.143,268.137,268.13,268.124 ,268.117,268.11,268.103,268.092,268.163 ,268.577,268.867,269.197,269.632,269.88 ,270.18,270.176,270.174,270.17,270.167, 270.164,270.161,270.159,270.156,270.153 ,270.148,270.145,270.141,270.138, 270.135,270.132,270.129,270.126,270.122 ,270.119,270.116,270.113,270.108, 270.105,270.101,270.098,270.095,270.091 ,270.088,270.084,270.081,270.077, 270.073,270.07,270.066,270.063,270.059, 270.055,270.049,270.044,270.04,270.033, 270.026,270.022,270.016,269.632)
ORBIT_NUMBER = 8540
ORBITAL_ECCENTRICITY = 0.579
ORBITAL_INCLINATION = 86.83
ORBITAL_SEMIMAJOR_AXIS = 8788.59
PERIAPSIS_ALTITUDE = 321.06
PERIAPSIS_ARGUMENT_ANGLE = 302.64
PERIAPSIS_TIME = 2010-09-05T01:27:25.000Z
SPACECRAFT_ORIENTATION = (0.0,1.0,0.0)
^MEX_ORIENTATION_DESC = "MEX_ORIENTATION_DESC.TXT"
SPACECRAFT_POINTING_MODE = NADIR
^MEX_POINTING_DESC = "MEX_POINTING_DESC.TXT"
RIGHT_ASCENSION = -1e+32
DECLINATION = -1e+32
OFFSET_ANGLE = -1e+32
SPACECRAFT_SOLAR_DISTANCE = 2.32514e+08
TARGET_NAME = MARS
/* CAMERA DATA ELEMENTS */
DETECTOR_TEMPERATURE = 17.9627
FOCAL_PLANE_TEMPERATURE = 7.7677
INST_CMPRS_NAME = "DISCRETE COSINE TRANSFORMATION (DCT)"
INST_CMPRS_RATIO = 7.65492
INST_CMPRS_QUALITY = 0
INST_CMPRS_QUANTZ_TBL_ID = 0
INSTRUMENT_TEMPERATURE = 11.0301
LENS_TEMPERATURE = 8.3794
MACROPIXEL_SIZE = 1
MISSING_FRAMES = 0
PIXEL_SUBSAMPLING_FLAG = N
SIGNAL_CHAIN_ID = 1
/* RADIOMETRIC DATA ELEMENTS */
BANDWIDTH = 178.0
CENTER_FILTER_WAVELENGTH = 679.0
RADIANCE_OFFSET = 0.720992
RADIANCE_SCALING_FACTOR = 0.0217358
REFLECTANCE_SCALING_FACTOR = 0.000622303
MEX:REFLECTANCE_OFFSET = 0.0206422
/* IMAGE OBJECT DEFINITIONS */
OBJECT = IMAGE
  INTERCHANGE_FORMAT = BINARY
  LINES = 55974
  LINE_SAMPLES = 10508
  SAMPLE_TYPE = UNSIGNED_INTEGER
  SAMPLE_BITS = 8
  BANDS = 1
  BAND_STORAGE_TYPE = BAND_SEQUENTIAL
  MAXIMUM = 255
  MEAN = 144.3
  MINIMUM = 1
  STANDARD_DEVIATION = 24.4241
END_OBJECT = IMAGE
/* MAP OBJECT DEFINITIONS */
OBJECT = IMAGE_MAP_PROJECTION
  ^DATA_SET_MAP_PROJECTION_CATALOG= "DSMAP.CAT"
  A_AXIS_RADIUS = 3396.0
  B_AXIS_RADIUS = 3396.0
  C_AXIS_RADIUS = 3396.0
  CENTER_LATITUDE = 0.0
  CENTER_LONGITUDE = 269.0
  COORDINATE_SYSTEM_NAME = PLANETOGRAPHIC
  COORDINATE_SYSTEM_TYPE = "BODY-FIXED ROTATING"
  EASTERNMOST_LONGITUDE = 270.18
  FIRST_STANDARD_PARALLEL = "N/A"
  LINE_FIRST_PIXEL = 1
  LINE_LAST_PIXEL = 55974
  LINE_PROJECTION_OFFSET = -92533.0
  MAP_PROJECTION_ROTATION = 0.0
  MAP_PROJECTION_TYPE = SINUSOIDAL
  MAP_RESOLUTION = 4741.71043093333
  MAP_SCALE = 0.0125
  MAXIMUM_LATITUDE = -19.5494
  MINIMUM_LATITUDE = -31.3609
  POSITIVE_LONGITUDE_DIRECTION = EAST
  REFERENCE_LATITUDE = "N/A"
  REFERENCE_LONGITUDE = "N/A"
  SAMPLE_FIRST_PIXEL = 1
  SAMPLE_LAST_PIXEL = 10508
  SAMPLE_PROJECTION_OFFSET = 4672.0
  SECOND_STANDARD_PARALLEL = "N/A"
  WESTERNMOST_LONGITUDE = 268.092
END_OBJECT = IMAGE_MAP_PROJECTION
/* The JPEG2000 image data file associated with this label. */
OBJECT = COMPRESSED_FILE
  FILE_NAME = "H8540_0000_S23.JP2"
  RECORD_TYPE = UNDEFINED
  FILE_RECORDS = UNK
  ENCODING_TYPE = "JP2"
  INTERCHANGE_FORMAT = BINARY
  UNCOMPRESSED_FILE_NAME = "H8540_0000_S23.IMG"
  REQUIRED_STORAGE_BYTES = "588206316"
  ^DESCRIPTION = "JP2INFO.TXT"
END_OBJECT = COMPRESSED_FILE
END
